BEGIN:VCALENDAR
VERSION:2.0
PRODID:-//NSU Child and Family Network - ECPv6.15.20//NONSGML v1.0//EN
CALSCALE:GREGORIAN
METHOD:PUBLISH
X-ORIGINAL-URL:http://cfn.nsula.edu
X-WR-CALDESC:Events for NSU Child and Family Network
REFRESH-INTERVAL;VALUE=DURATION:PT1H
X-Robots-Tag:noindex
X-PUBLISHED-TTL:PT1H
BEGIN:VTIMEZONE
TZID:UTC
BEGIN:STANDARD
TZOFFSETFROM:+0000
TZOFFSETTO:+0000
TZNAME:UTC
DTSTART:20220101T000000
END:STANDARD
END:VTIMEZONE
BEGIN:VEVENT
DTSTART;TZID=UTC:20231202T090000
DTEND;TZID=UTC:20231202T120000
DTSTAMP:20260423T104610
CREATED:20231113T161308Z
LAST-MODIFIED:20231113T161308Z
UID:31467-1701507600-1701518400@cfn.nsula.edu
SUMMARY:B-1d *HEALTH: Medication Administration (CDA 1) (ADM 1) Saturday\,  9:00 am –12:00 pm
DESCRIPTION:This session meets the medication\, Epipen\, and health training requirements!  \n 
URL:http://cfn.nsula.edu/event/b-1d-health-medication-administration-cda-1-adm-1-saturday-900-am-1200-pm-3/
LOCATION:NSU-CFN\, 1800 Warrington Place\, Shreveport\, LA\, 71101\, United States
END:VEVENT
BEGIN:VEVENT
DTSTART;TZID=UTC:20231202T090000
DTEND;TZID=UTC:20231202T120000
DTSTAMP:20260423T104610
CREATED:20231113T161623Z
LAST-MODIFIED:20231113T162535Z
UID:31469-1701507600-1701518400@cfn.nsula.edu
SUMMARY:I-2a Art Is Awesome! (CDA 2) Saturday\, 9:00 am –12:00 pm
DESCRIPTION:See many fun art activities to take back to your classroom. \n  \n 
URL:http://cfn.nsula.edu/event/i-2a-art-is-awesome-cda-2-saturday-900-am-1200-pm/
LOCATION:NSU-CFN\, 1800 Warrington Place\, Shreveport\, LA\, 71101\, United States
END:VEVENT
BEGIN:VEVENT
DTSTART;TZID=UTC:20231202T130000
DTEND;TZID=UTC:20231202T160000
DTSTAMP:20260423T104610
CREATED:20231113T163344Z
LAST-MODIFIED:20231113T163344Z
UID:31475-1701522000-1701532800@cfn.nsula.edu
SUMMARY:B-3b Avoid Behavior Problems-Teach Self-Control (CDA 3) Saturday\,1:00 pm –4:00 pm
DESCRIPTION:Identify ways to adapt your program and teach children skills that promote self-control.
URL:http://cfn.nsula.edu/event/b-3b-avoid-behavior-problems-teach-self-control-cda-3-saturday100-pm-400-pm/
LOCATION:NSU-CFN\, 1800 Warrington Place\, Shreveport\, LA\, 71101\, United States
END:VEVENT
BEGIN:VEVENT
DTSTART;TZID=UTC:20231202T130000
DTEND;TZID=UTC:20231202T160000
DTSTAMP:20260423T104610
CREATED:20231113T214134Z
LAST-MODIFIED:20231113T214214Z
UID:31492-1701522000-1701532800@cfn.nsula.edu
SUMMARY:B-1h *HEALTH: Serve Safe Module II (CDA 1) (ADM 4) Saturday\, 1:00 pm – 4:00 pm
DESCRIPTION:  Learn how to provide a sanitary and safe food service program and avoid food-borne illnesses \n  \n  \n 
URL:http://cfn.nsula.edu/event/b-1h-health-serve-safe-module-ii-cda-1-adm-4-saturday-100-pm-400-pm-2/
LOCATION:NSU Cenla Campus\, England Airpark\, 1410 Neel Kearby Blvd.\, Alexandria\, LA\, 71303\, United States
END:VEVENT
BEGIN:VEVENT
DTSTART;TZID=UTC:20231204T180000
DTEND;TZID=UTC:20231204T210000
DTSTAMP:20260423T104610
CREATED:20231113T214618Z
LAST-MODIFIED:20240103T170859Z
UID:31495-1701712800-1701723600@cfn.nsula.edu
SUMMARY:CPR/First Aid Adult & Pediatric  Monday\,  6:00 pm – 9:00pm
DESCRIPTION:The cost for a CPR class is now $40. 10 people per class. Please register on the WLS first and then pay using this link for the class. https://bit.ly/3liH3Xs  \n  \n  \n 
URL:http://cfn.nsula.edu/event/cpr-first-aid-adult-pediatric-monday-600-pm-900pm/
LOCATION:NSU Cenla Campus\, England Airpark\, 1410 Neel Kearby Blvd.\, Alexandria\, LA\, 71303\, United States
END:VEVENT
BEGIN:VEVENT
DTSTART;TZID=UTC:20231205T180000
DTEND;TZID=UTC:20231205T210000
DTSTAMP:20260423T104610
CREATED:20231113T160348Z
LAST-MODIFIED:20231113T160639Z
UID:31463-1701799200-1701810000@cfn.nsula.edu
SUMMARY:B-1h *HEALTH: Serve Safe Module II (CDA 1) (ADM 4)  Tuesday\, 6:00 pm – 9:00 pm
DESCRIPTION:Learn how to provide a sanitary and safe food service program and avoid food-borne illnesses.
URL:http://cfn.nsula.edu/event/b-1h-health-serve-safe-module-ii-cda-1-adm-4-2/
LOCATION:NSU Teacher Education Center (TEC) Room 105C\, Sam Sibley Road\, Natchitoches\, LA\, 71457
END:VEVENT
BEGIN:VEVENT
DTSTART;TZID=UTC:20231205T180000
DTEND;TZID=UTC:20231205T210000
DTSTAMP:20260423T104610
CREATED:20231113T172029Z
LAST-MODIFIED:20231113T172057Z
UID:31478-1701799200-1701810000@cfn.nsula.edu
SUMMARY:E-8d The Whole Child (CDA 8) Tuesday\,  6:00 pm – 9:00 pm
DESCRIPTION:Explore the impact of proper social development on other types of growth within the child. \n 
URL:http://cfn.nsula.edu/event/e-8d-the-whole-child-cda-8-tuesday-600-pm-900-pm/
LOCATION:NSU-CFN\, 1800 Warrington Place\, Shreveport\, LA\, 71101\, United States
ORGANIZER;CN="Camille English":MAILTO:holmanc@nsula.edu
END:VEVENT
BEGIN:VEVENT
DTSTART;TZID=UTC:20231205T180000
DTEND;TZID=UTC:20231205T210000
DTSTAMP:20260423T104610
CREATED:20231113T172320Z
LAST-MODIFIED:20231113T172402Z
UID:31482-1701799200-1701810000@cfn.nsula.edu
SUMMARY:B-1h *HEALTH: Serve Safe Module II (CDA 1) (ADM 4) Tuesday\,  6:00 pm – 9:00 pm
DESCRIPTION:Learn how to provide a sanitary and safe food service program and avoid food-borne illnesses \n  \n  \n 
URL:http://cfn.nsula.edu/event/b-1h-health-serve-safe-module-ii-cda-1-adm-4-tuesday-600-pm-900-pm-3/
LOCATION:NSU-CFN\, 1800 Warrington Place\, Shreveport\, LA\, 71101\, United States
END:VEVENT
BEGIN:VEVENT
DTSTART;TZID=UTC:20231209T090000
DTEND;TZID=UTC:20231209T120000
DTSTAMP:20260423T104610
CREATED:20231113T203559Z
LAST-MODIFIED:20231113T203559Z
UID:31487-1702112400-1702123200@cfn.nsula.edu
SUMMARY:E-3h Adverse Childhood Experiences (ACEs) (CDA 3) Saturday\, 9:00 am –12:00 pm
DESCRIPTION:Early childhood is a critical period in brain development\, creating a foundation for development.  \n  \n  \n 
URL:http://cfn.nsula.edu/event/e-3h-adverse-childhood-experiences-aces-cda-3-saturday-900-am-1200-pm/
LOCATION:NSU-CFN\, 1800 Warrington Place\, Shreveport\, LA\, 71101\, United States
ORGANIZER;CN="Camille English":MAILTO:holmanc@nsula.edu
END:VEVENT
BEGIN:VEVENT
DTSTART;TZID=UTC:20231212T180000
DTEND;TZID=UTC:20231212T210000
DTSTAMP:20260423T104610
CREATED:20231113T203818Z
LAST-MODIFIED:20231113T203818Z
UID:31490-1702404000-1702414800@cfn.nsula.edu
SUMMARY:B-1d *HEALTH: Medication Administration (CDA 1) (ADM 1) Tuesday\, 6:00 pm –9:00 pm
DESCRIPTION:This session meets the medication\, Eipen\, and health training requirements!  \n  \n  \nTrainer: Jean Humphrey
URL:http://cfn.nsula.edu/event/b-1d-health-medication-administration-cda-1-adm-1-tuesday-600-pm-900-pm-2/
LOCATION:NSU-CFN\, 1800 Warrington Place\, Shreveport\, LA\, 71101\, United States
END:VEVENT
END:VCALENDAR