BEGIN:VCALENDAR
VERSION:2.0
PRODID:-//NSU Child and Family Network - ECPv6.15.20//NONSGML v1.0//EN
CALSCALE:GREGORIAN
METHOD:PUBLISH
X-ORIGINAL-URL:http://cfn.nsula.edu
X-WR-CALDESC:Events for NSU Child and Family Network
REFRESH-INTERVAL;VALUE=DURATION:PT1H
X-Robots-Tag:noindex
X-PUBLISHED-TTL:PT1H
BEGIN:VTIMEZONE
TZID:UTC
BEGIN:STANDARD
TZOFFSETFROM:+0000
TZOFFSETTO:+0000
TZNAME:UTC
DTSTART:20250101T000000
END:STANDARD
END:VTIMEZONE
BEGIN:VEVENT
DTSTART;TZID=UTC:20260526T180000
DTEND;TZID=UTC:20260526T210000
DTSTAMP:20260422T215134
CREATED:20260422T212214Z
LAST-MODIFIED:20260422T212214Z
UID:33774-1779818400-1779829200@cfn.nsula.edu
SUMMARY:Health: I-1a *HEALTH* Supervision = Safety (CDA 1) (ADM 1)     Tuesday May 26\, 2026   6:00 pm - 9:00 pm
DESCRIPTION:Health: I-1a *HEALTH* Supervision = Safety (CDA 1) (ADM 1) \n\nThis session is also available for Health credit. Register in this class to receive a Health certificate.\nTuesday May 26\, 2026   6:00 pm – 9:00 pm\n 
URL:http://cfn.nsula.edu/event/health-i-1a-health-supervision-safety-cda-1-adm-1-tuesday-may-26-2026-600-pm-900-pm/
LOCATION:NSU Webinar\, 1800 Warrington Place\, Shreveport\, LA\, 71101\, United States
ATTACH;FMTTYPE=image/jpeg:http://cfn.nsula.edu/wp-content/uploads/2026/01/B-3c-pic.jpg
END:VEVENT
BEGIN:VEVENT
DTSTART;TZID=UTC:20260528T180000
DTEND;TZID=UTC:20260528T210000
DTSTAMP:20260422T215134
CREATED:20260422T193427Z
LAST-MODIFIED:20260422T193457Z
UID:33748-1779991200-1780002000@cfn.nsula.edu
SUMMARY:B-1d  *HEALTH: Medication Administration (CDA 1) (ADM 1)   Thursday\,  May 28  6:00 pm – 9:00 pm
DESCRIPTION:B-1d  *HEALTH: Medication Administration (CDA 1) (ADM 1)\nThis session meets the medication and health training requirements\, including the use of EpiPens.\nThursday\,  May 28  6:00 pm – 9:00 pm \n 
URL:http://cfn.nsula.edu/event/b-1d-health-medication-administration-cda-1-adm-1-thursday-may-28-600-pm-900-pm/
LOCATION:NSU Teacher Education Center (TEC) Room 105C\, Sam Sibley Road\, Natchitoches\, LA\, 71457
ATTACH;FMTTYPE=image/jpeg:http://cfn.nsula.edu/wp-content/uploads/2025/12/Med-Adm2.jpg
END:VEVENT
BEGIN:VEVENT
DTSTART;TZID=UTC:20260530T090000
DTEND;TZID=UTC:20260530T120000
DTSTAMP:20260422T215134
CREATED:20260422T194309Z
LAST-MODIFIED:20260422T194309Z
UID:33751-1780131600-1780142400@cfn.nsula.edu
SUMMARY:CPR/First Aid Adult & Pediatric    Saturday May 30   9:00 am- 12:00 pm
DESCRIPTION:CPR/First Aid Adult & Pediatric\nThe cost for a CPR class is $60 (Non-refundable or transferable).\nPlease register on the WLS first and then pay using this link for the class. https://bit.ly/3liH3Xs\nSaturday May 30   9:00 am- 12:00 pm \n 
URL:http://cfn.nsula.edu/event/cpr-first-aid-adult-pediatric-saturday-may-30-900-am-1200-pm/
LOCATION:NSU Teacher Education Center (TEC) Room 105C\, Sam Sibley Road\, Natchitoches\, LA\, 71457
ATTACH;FMTTYPE=image/jpeg:http://cfn.nsula.edu/wp-content/uploads/2026/01/CPR.jpg
END:VEVENT
BEGIN:VEVENT
DTSTART;TZID=UTC:20260530T090000
DTEND;TZID=UTC:20260530T120000
DTSTAMP:20260422T215134
CREATED:20260422T203140Z
LAST-MODIFIED:20260422T203140Z
UID:33764-1780131600-1780142400@cfn.nsula.edu
SUMMARY:S-5d Implementing Curriculum- Frog Street Toddlers (CDA 5) (ADM 6) Toddlers Teachers    Saturday\,  May 30    9:00 am – 12:00 pm
DESCRIPTION:S-5d Implementing Curriculum- Frog Street Toddlers (CDA 5) (ADM 6) Toddlers Teachers\nLearn how to make the most of your Frog Street toddler curriculum by experiencing the five developmental domains.\nSaturday\,  May 30    9:00 am – 12:00 pm\n  \n 
URL:http://cfn.nsula.edu/event/s-5d-implementing-curriculum-frog-street-toddlers-cda-5-adm-6-toddlers-teachers-saturday-may-30-900-am-1200-pm/
LOCATION:NSU-CFN\, 1800 Warrington Place\, Shreveport\, LA\, 71101\, United States
ATTACH;FMTTYPE=image/jpeg:http://cfn.nsula.edu/wp-content/uploads/2026/01/S-5d-Frog-Street.jpg
END:VEVENT
END:VCALENDAR