BEGIN:VCALENDAR
VERSION:2.0
PRODID:-//NSU Child and Family Network - ECPv6.15.20//NONSGML v1.0//EN
CALSCALE:GREGORIAN
METHOD:PUBLISH
X-WR-CALNAME:NSU Child and Family Network
X-ORIGINAL-URL:http://cfn.nsula.edu
X-WR-CALDESC:Events for NSU Child and Family Network
REFRESH-INTERVAL;VALUE=DURATION:PT1H
X-Robots-Tag:noindex
X-PUBLISHED-TTL:PT1H
BEGIN:VTIMEZONE
TZID:UTC
BEGIN:STANDARD
TZOFFSETFROM:+0000
TZOFFSETTO:+0000
TZNAME:UTC
DTSTART:20250101T000000
END:STANDARD
END:VTIMEZONE
BEGIN:VEVENT
DTSTART;TZID=UTC:20260505T180000
DTEND;TZID=UTC:20260505T210000
DTSTAMP:20260422T201617
CREATED:20260422T190946Z
LAST-MODIFIED:20260422T190946Z
UID:33741-1778004000-1778014800@cfn.nsula.edu
SUMMARY:CPR/First Aid Adult & Pediatric   Tuesday\, May 5\, 6:00 pm – 9:00 pm
DESCRIPTION:CPR/First Aid Adult & Pediatric\nThe cost for a CPR class is $60 (Non-refundable or transferable).\nPlease register on the WLS first and then pay using this link for the class. https://bit.ly/3liH3Xs\nTuesday\, May 5\,  6:00 pm – 9:00 pm\n  \n 
URL:http://cfn.nsula.edu/event/cpr-first-aid-adult-pediatric-tuesday-may-5-600-pm-900-pm/
LOCATION:NSU Cenla Campus\, England Airpark\, 1410 Neel Kearby Blvd.\, Alexandria\, LA\, 71303\, United States
ATTACH;FMTTYPE=image/jpeg:http://cfn.nsula.edu/wp-content/uploads/2026/01/CPR.jpg
END:VEVENT
BEGIN:VEVENT
DTSTART;TZID=UTC:20260514T180000
DTEND;TZID=UTC:20260514T210000
DTSTAMP:20260422T201617
CREATED:20260422T200039Z
LAST-MODIFIED:20260422T200151Z
UID:33753-1778781600-1778792400@cfn.nsula.edu
SUMMARY:S-5d Implementing Curriculum- Frog Street Infants (CDA 5) (ADM 6)  Infant Teachers     Thursday\, May 14  6:00 pm – 9:00 pm
DESCRIPTION:S-5d Implementing Curriculum- Frog Street Infants (CDA 5) (ADM 6)  Infant Teachers\nLearn how to make the most of your new Frog Street Infant curriculum\, by experiencing the five developmental domains: Language\, Cognitive\, Social and Emotional\, approaches toward learning.\nThursday\, May 14  6:00 pm – 9:00 pm\n 
URL:http://cfn.nsula.edu/event/s-5d-implementing-curriculum-frog-street-infants-cda-5-adm-6-infant-teachers-thursday-may-14-600-pm-900-pm/
LOCATION:NSU-CFN\, 1800 Warrington Place\, Shreveport\, LA\, 71101\, United States
ATTACH;FMTTYPE=image/jpeg:http://cfn.nsula.edu/wp-content/uploads/2025/07/E-1m-Well-Ahead-Outdoor-Play.jpg
END:VEVENT
BEGIN:VEVENT
DTSTART;TZID=UTC:20260516T090000
DTEND;TZID=UTC:20260516T120000
DTSTAMP:20260422T201617
CREATED:20260422T191359Z
LAST-MODIFIED:20260422T191359Z
UID:33743-1778922000-1778932800@cfn.nsula.edu
SUMMARY:B-1d *HEALTH: Medication Administration (CDA 1) (ADM 1)    Saturday\, May 16    9:00 am – 12:00 pm
DESCRIPTION:B-1d *HEALTH: Medication Administration (CDA 1) (ADM 1) \nThis session meets the medication and health training requirements\, including the use of EpiPens.  \nSaturday\, May 16    9:00 am – 12:00 pm \n  \n 
URL:http://cfn.nsula.edu/event/b-1d-health-medication-administration-cda-1-adm-1-saturday-may-16-900-am-1200-pm/
LOCATION:NSU Cenla Campus\, England Airpark\, 1410 Neel Kearby Blvd.\, Alexandria\, LA\, 71303\, United States
ATTACH;FMTTYPE=image/png:http://cfn.nsula.edu/wp-content/uploads/2025/10/B-1d-1.png
END:VEVENT
BEGIN:VEVENT
DTSTART;TZID=UTC:20260516T090000
DTEND;TZID=UTC:20260516T120000
DTSTAMP:20260422T201617
CREATED:20260422T192948Z
LAST-MODIFIED:20260422T192948Z
UID:33745-1778922000-1778932800@cfn.nsula.edu
SUMMARY:DN-5b Strategies for Simplifying Food Service: Saving Time and Money    Saturday\,  May 16   9:00 am –12:00pm
DESCRIPTION:Special Event!\nDN-5b Strategies for Simplifying Food Service: Saving Time and Money\nLaura Marchan\, a respected consultant specializing in group feeding for childcare programs\, will be leading an in-person training session designed to help you meet licensing regulations and support children’s nutritional needs efficiently and without unnecessary waste. In this session\, you’ll learn how small\, practical adjustments can save money\, reduce stress\, and keep both children and parents satisfied. Laura\, based in New Orleans\, has provided training and consultation services across the state and brings a wealth of hands-on experience. A separate flyer will be shared soon with details about an optional private consultation opportunity.\nThis session will meet (ADM 4) requirements for those working on a Pathways Administrator Credential. Don’t miss it!\nSaturday\,  May 16   9:00 am –12:00pm\n  \n 
URL:http://cfn.nsula.edu/event/dn-5b-strategies-for-simplifying-food-service-saving-time-and-money-saturday-may-16-900-am-1200pm/
LOCATION:NSU Cenla Campus\, England Airpark\, 1410 Neel Kearby Blvd.\, Alexandria\, LA\, 71303\, United States
ATTACH;FMTTYPE=image/jpeg:http://cfn.nsula.edu/wp-content/uploads/2026/04/DN-5b.jpg
END:VEVENT
BEGIN:VEVENT
DTSTART;TZID=UTC:20260516T090000
DTEND;TZID=UTC:20260516T120000
DTSTAMP:20260422T201617
CREATED:20260422T200515Z
LAST-MODIFIED:20260422T200515Z
UID:33756-1778922000-1778932800@cfn.nsula.edu
SUMMARY:I-2g The Creative School-age Spirit (CDA 2)    Saturday\,  May 16    9:00 am – 12:00 pm
DESCRIPTION:I-2g The Creative School-age Spirit (CDA 2)\nLearn typical behaviors of school-age children and ways to create a positive\, enjoyable school-age environment.\nSaturday\,  May 16    9:00 am – 12:00 pm\n  \n 
URL:http://cfn.nsula.edu/event/i-2g-the-creative-school-age-spirit-cda-2-saturday-may-16-900-am-1200-pm/
LOCATION:NSU-CFN\, 1800 Warrington Place\, Shreveport\, LA\, 71101\, United States
ATTACH;FMTTYPE=image/jpeg:http://cfn.nsula.edu/wp-content/uploads/2026/01/B-4a-Building-positive-Relatinships.jpg
END:VEVENT
BEGIN:VEVENT
DTSTART;TZID=UTC:20260516T090000
DTEND;TZID=UTC:20260516T120000
DTSTAMP:20260422T201617
CREATED:20260422T200852Z
LAST-MODIFIED:20260422T200852Z
UID:33758-1778922000-1778932800@cfn.nsula.edu
SUMMARY:B-1d *HEALTH: Medication Administration (CDA 1) (ADM 1)    Saturday\,  May 16   9:00 am – 12:00 pm
DESCRIPTION:B-1d *HEALTH: Medication Administration (CDA 1) (ADM 1)\nThis session meets the medication and health training requirements\, including the use of EpiPens. \nSaturday\,  May 16   9:00 am – 12:00 pm
URL:http://cfn.nsula.edu/event/b-1d-health-medication-administration-cda-1-adm-1-saturday-may-16-900-am-1200-pm-2/
LOCATION:NSU-CFN\, 1800 Warrington Place\, Shreveport\, LA\, 71101\, United States
ATTACH;FMTTYPE=image/jpeg:http://cfn.nsula.edu/wp-content/uploads/2025/09/B-1d-Medication.jpg
END:VEVENT
BEGIN:VEVENT
DTSTART;TZID=UTC:20260528T180000
DTEND;TZID=UTC:20260528T210000
DTSTAMP:20260422T201617
CREATED:20260422T193427Z
LAST-MODIFIED:20260422T193457Z
UID:33748-1779991200-1780002000@cfn.nsula.edu
SUMMARY:B-1d  *HEALTH: Medication Administration (CDA 1) (ADM 1)   Thursday\,  May 28  6:00 pm – 9:00 pm
DESCRIPTION:B-1d  *HEALTH: Medication Administration (CDA 1) (ADM 1)\nThis session meets the medication and health training requirements\, including the use of EpiPens.\nThursday\,  May 28  6:00 pm – 9:00 pm \n 
URL:http://cfn.nsula.edu/event/b-1d-health-medication-administration-cda-1-adm-1-thursday-may-28-600-pm-900-pm/
LOCATION:NSU Teacher Education Center (TEC) Room 105C\, Sam Sibley Road\, Natchitoches\, LA\, 71457
ATTACH;FMTTYPE=image/jpeg:http://cfn.nsula.edu/wp-content/uploads/2025/12/Med-Adm2.jpg
END:VEVENT
BEGIN:VEVENT
DTSTART;TZID=UTC:20260530T090000
DTEND;TZID=UTC:20260530T120000
DTSTAMP:20260422T201617
CREATED:20260422T194309Z
LAST-MODIFIED:20260422T194309Z
UID:33751-1780131600-1780142400@cfn.nsula.edu
SUMMARY:CPR/First Aid Adult & Pediatric    Saturday May 30   9:00 am- 12:00 pm
DESCRIPTION:CPR/First Aid Adult & Pediatric\nThe cost for a CPR class is $60 (Non-refundable or transferable).\nPlease register on the WLS first and then pay using this link for the class. https://bit.ly/3liH3Xs\nSaturday May 30   9:00 am- 12:00 pm \n 
URL:http://cfn.nsula.edu/event/cpr-first-aid-adult-pediatric-saturday-may-30-900-am-1200-pm/
LOCATION:NSU Teacher Education Center (TEC) Room 105C\, Sam Sibley Road\, Natchitoches\, LA\, 71457
ATTACH;FMTTYPE=image/jpeg:http://cfn.nsula.edu/wp-content/uploads/2026/01/CPR.jpg
END:VEVENT
END:VCALENDAR