BEGIN:VCALENDAR
VERSION:2.0
PRODID:-//NSU Child and Family Network - ECPv6.15.20//NONSGML v1.0//EN
CALSCALE:GREGORIAN
METHOD:PUBLISH
X-WR-CALNAME:NSU Child and Family Network
X-ORIGINAL-URL:http://cfn.nsula.edu
X-WR-CALDESC:Events for NSU Child and Family Network
REFRESH-INTERVAL;VALUE=DURATION:PT1H
X-Robots-Tag:noindex
X-PUBLISHED-TTL:PT1H
BEGIN:VTIMEZONE
TZID:UTC
BEGIN:STANDARD
TZOFFSETFROM:+0000
TZOFFSETTO:+0000
TZNAME:UTC
DTSTART:20200101T000000
END:STANDARD
END:VTIMEZONE
BEGIN:VEVENT
DTSTART;TZID=UTC:20231107T180000
DTEND;TZID=UTC:20231107T210000
DTSTAMP:20260423T205805
CREATED:20231013T190406Z
LAST-MODIFIED:20231013T190406Z
UID:31227-1699380000-1699390800@cfn.nsula.edu
SUMMARY:B-8a Baby Basics: Infant and Toddler Development (CDA 8)  Tuesday\, 6:00 pm – 9:00 pm
DESCRIPTION:Learn what happens as babies grow from infants to toddlers and how caregivers can promote development.
URL:http://cfn.nsula.edu/event/b-8a-baby-basics-infant-and-toddler-development-cda-8-tuesday-600-pm-900-pm/
LOCATION:NSU-CFN\, 1800 Warrington Place\, Shreveport\, LA\, 71101\, United States
ORGANIZER;CN="Camille English":MAILTO:holmanc@nsula.edu
END:VEVENT
BEGIN:VEVENT
DTSTART;TZID=UTC:20231107T180000
DTEND;TZID=UTC:20231107T210000
DTSTAMP:20260423T205805
CREATED:20231013T185525Z
LAST-MODIFIED:20231016T204250Z
UID:31225-1699380000-1699390800@cfn.nsula.edu
SUMMARY:I-2f Making Stories Come to Life (CDA 2)  Tuesday\, 6:00 pm – 9:00 pm
DESCRIPTION:Learn how to keep children attentive during story time by using storytelling\, puppets\, flannel boards & activities \n 
URL:http://cfn.nsula.edu/event/i-2f-making-stories-come-to-life-cda-2-tuesday-600-pm-900-pm/
LOCATION:NSU-CFN\, 1800 Warrington Place\, Shreveport\, LA\, 71101\, United States
ORGANIZER;CN="Mary Bond":MAILTO:bondm@nsula.edu
END:VEVENT
BEGIN:VEVENT
DTSTART;TZID=UTC:20231107T180000
DTEND;TZID=UTC:20231107T210000
DTSTAMP:20260423T205805
CREATED:20231013T184305Z
LAST-MODIFIED:20231013T184349Z
UID:31220-1699380000-1699390800@cfn.nsula.edu
SUMMARY:E-1e *HEALTH: Five Characteristics of a Healthy Child (CDA 1)  Tuesday\,  6:00 pm –9:00 pm
DESCRIPTION:  \n Identify the required steps to take and discuss ways to promote children’s fullest overall development
URL:http://cfn.nsula.edu/event/e-1e-health-five-characteristics-of-a-healthy-child-cda-1-tuesday-600-pm-900-pm/
LOCATION:NSU-CFN\, 1800 Warrington Place\, Shreveport\, LA\, 71101\, United States
END:VEVENT
BEGIN:VEVENT
DTSTART;TZID=UTC:20231104T090000
DTEND;TZID=UTC:20231104T120000
DTSTAMP:20260423T205805
CREATED:20231013T183831Z
LAST-MODIFIED:20231016T201814Z
UID:31217-1699088400-1699099200@cfn.nsula.edu
SUMMARY:E-7c Orientation to CLASS (CDA 7) (ADM 3)  Saturday\, 9:00 am –12:00 pm
DESCRIPTION:Learn about the Classroom Assessment Scoring System that can help you be more effective in your work. \n 
URL:http://cfn.nsula.edu/event/e-7c-orientation-to-class-cda-7-adm-3-saturday-900-am-1200-pm/
LOCATION:NSU-CFN\, 1800 Warrington Place\, Shreveport\, LA\, 71101\, United States
ORGANIZER;CN="Jill Watkins":MAILTO:watkinsj@nsula.edu
END:VEVENT
BEGIN:VEVENT
DTSTART;TZID=UTC:20231104T090000
DTEND;TZID=UTC:20231104T120000
DTSTAMP:20260423T205805
CREATED:20231013T180158Z
LAST-MODIFIED:20231013T180158Z
UID:31215-1699088400-1699099200@cfn.nsula.edu
SUMMARY:B-1d *HEALTH: Medication Administration (CDA 1) (ADM 1)  Saturday\, 9:00 am –12:00 pm
DESCRIPTION:This session meets the medication and health training requirements!
URL:http://cfn.nsula.edu/event/b-1d-health-medication-administration-cda-1-adm-1-saturday-900-am-1200-pm-2/
LOCATION:NSU-CFN\, 1800 Warrington Place\, Shreveport\, LA\, 71101\, United States
END:VEVENT
BEGIN:VEVENT
DTSTART;TZID=UTC:20231028T130000
DTEND;TZID=UTC:20231028T160000
DTSTAMP:20260423T205805
CREATED:20231011T194048Z
LAST-MODIFIED:20231011T194048Z
UID:31178-1698498000-1698508800@cfn.nsula.edu
SUMMARY:B-1h *HEALTH: Serve Safe Module II (CDA 1) (ADM 4)  Saturday\, 1:00 pm – 4:00 pm
DESCRIPTION:Learn how to provide a sanitary and safe food service program and avoid food-borne illnesses.
URL:http://cfn.nsula.edu/event/b-1h-health-serve-safe-module-ii-cda-1-adm-4-saturday-100-pm-400-pm/
LOCATION:NSU Cenla Campus\, England Airpark\, 1410 Neel Kearby Blvd.\, Alexandria\, LA\, 71303\, United States
END:VEVENT
BEGIN:VEVENT
DTSTART;TZID=UTC:20231028T130000
DTEND;TZID=UTC:20231028T160000
DTSTAMP:20260423T205805
CREATED:20231011T172445Z
LAST-MODIFIED:20231011T172445Z
UID:31165-1698498000-1698508800@cfn.nsula.edu
SUMMARY:E-8c Make it Playable: Recognizing the Strengths of Young Children (CDA 8) Saturday\, 1:00 pm –4:00 pm
DESCRIPTION:Come to a make and take session on the inclusion of all children in the child care setting.
URL:http://cfn.nsula.edu/event/e-8c-make-it-playable-recognizing-the-strengths-of-young-children-cda-8-saturday-100-pm-400-pm/
LOCATION:NSU-CFN\, 1800 Warrington Place\, Shreveport\, LA\, 71101\, United States
END:VEVENT
BEGIN:VEVENT
DTSTART;TZID=UTC:20231028T090000
DTEND;TZID=UTC:20231028T120000
DTSTAMP:20260423T205805
CREATED:20231011T194453Z
LAST-MODIFIED:20231011T194453Z
UID:31182-1698483600-1698494400@cfn.nsula.edu
SUMMARY:B-1d *HEALTH: Medication Administration (CDA 1) (ADM 1)  Saturday\, 9:00 am – 12:00 pm
DESCRIPTION:This session meets the medication and health training requirements!
URL:http://cfn.nsula.edu/event/b-1d-health-medication-administration-cda-1-adm-1-saturday-900-am-1200-pm/
LOCATION:NSU Cenla Campus\, England Airpark\, 1410 Neel Kearby Blvd.\, Alexandria\, LA\, 71303\, United States
END:VEVENT
BEGIN:VEVENT
DTSTART;TZID=UTC:20231028T090000
DTEND;TZID=UTC:20231028T120000
DTSTAMP:20260423T205805
CREATED:20231011T165702Z
LAST-MODIFIED:20231011T165924Z
UID:31158-1698483600-1698494400@cfn.nsula.edu
SUMMARY:I-2d Let's Get Movin' with Activities to Support Physical Development (CDA 2)  Saturday\,  9:00 am –12:00 pm
DESCRIPTION:Support physical development in all children\, including coordination and motor control.
URL:http://cfn.nsula.edu/event/i-2d-lets-get-movin-with-activities-to-support-physical-development-cda-2-saturday-900-am-1200-pm/
LOCATION:NSU-CFN\, 1800 Warrington Place\, Shreveport\, LA\, 71101\, United States
END:VEVENT
BEGIN:VEVENT
DTSTART;TZID=UTC:20231024T180000
DTEND;TZID=UTC:20231024T210000
DTSTAMP:20260423T205805
CREATED:20231011T164939Z
LAST-MODIFIED:20231023T165054Z
UID:31153-1698170400-1698181200@cfn.nsula.edu
SUMMARY:E-3h Adverse Childhood Experiences (ACEs)  Tuesday\,  6:00 pm –9:00 pm
DESCRIPTION:Early childhood is a critical period in brain development\, creating a foundation for development
URL:http://cfn.nsula.edu/event/e-3h-adverse-childhood-experiences-aces-tuesday-600-pm-900-pm/
LOCATION:NSU-CFN\, 1800 Warrington Place\, Shreveport\, LA\, 71101\, United States
ATTACH;FMTTYPE=image/jpeg:http://cfn.nsula.edu/wp-content/uploads/2023/10/I-2f-Stories.jpg
ORGANIZER;CN="Camille English":MAILTO:holmanc@nsula.edu
END:VEVENT
BEGIN:VEVENT
DTSTART;TZID=UTC:20231024T080000
DTEND;TZID=UTC:20231024T170000
DTSTAMP:20260423T205805
CREATED:20231011T164422Z
LAST-MODIFIED:20231011T164629Z
UID:31145-1698134400-1698166800@cfn.nsula.edu
SUMMARY:I-3e Stop it Before it Starts! Preventing Violent Behavior (CDA 3)  Tuesday\,  6:00 pm –9:00 pm
DESCRIPTION:Discuss ways to teach children conflict resolution and peaceful solutions to create a compassionate classroom
URL:http://cfn.nsula.edu/event/i-3e-stop-it-before-it-starts-preventing-violent-behavior-cda-3-tuesday-600-pm-900-pm/
LOCATION:NSU-CFN\, 1800 Warrington Place\, Shreveport\, LA\, 71101\, United States
ORGANIZER;CN="Mary Bond":MAILTO:bondm@nsula.edu
END:VEVENT
BEGIN:VEVENT
DTSTART;TZID=UTC:20231021T113000
DTEND;TZID=UTC:20231021T133000
DTSTAMP:20260423T205805
CREATED:20231011T163431Z
LAST-MODIFIED:20231016T171621Z
UID:31138-1697887800-1697895000@cfn.nsula.edu
SUMMARY:S-5d Implementing Curriculum -- Toddler Frog Street (CDA 5)(ADM 6) Saturday\, 11:30 am – 1:30 pm
DESCRIPTION:Learn how to make the most of your new curriculum. You MUST already have the curriculum to attend. Bring your Teacher’s Guide or Manual with you.
URL:http://cfn.nsula.edu/event/s-5d-implementing-curriculum-toddler-frog-street-cda-5adm-6-saturday-1130-am-130-pm/
LOCATION:NSU-CFN\, 1800 Warrington Place\, Shreveport\, LA\, 71101\, United States
END:VEVENT
BEGIN:VEVENT
DTSTART;TZID=UTC:20231021T090000
DTEND;TZID=UTC:20231021T110000
DTSTAMP:20260423T205805
CREATED:20231011T162800Z
LAST-MODIFIED:20231016T172113Z
UID:31136-1697878800-1697886000@cfn.nsula.edu
SUMMARY:S-5d Implementing Curriculum -- Infant Frog Street (CDA 5)(ADM 6)  Saturday\,  9:00 am – 11:00 am
DESCRIPTION:Learn how to make the most of your new curriculum. You MUST already have the curriculum to attend. Bring your Teacher’s Guide or Manual with you.
URL:http://cfn.nsula.edu/event/s-5d-implementing-curriculum-infant-frog-street-cda-5adm-6-saturday-900-am-1100-am/
LOCATION:NSU-CFN\, 1800 Warrington Place\, Shreveport\, LA\, 71101\, United States
END:VEVENT
BEGIN:VEVENT
DTSTART;TZID=UTC:20231017T180000
DTEND;TZID=UTC:20231017T210000
DTSTAMP:20260423T205805
CREATED:20231017T060027Z
LAST-MODIFIED:20231017T144726Z
UID:8723-1697565600-1697576400@cfn.nsula.edu
SUMMARY:B-1d *HEALTH: Medication Administration (CDA 1) Tuesday\,  6:00 pm – 9:00 pm
DESCRIPTION:This session meets the medication\, EpiPen\, and health training requirements! \n 
URL:http://cfn.nsula.edu/event/b-1d-health-medication-administration-cda-1/
LOCATION:NSU-CFN\, 1800 Warrington Place\, Shreveport\, LA\, 71101\, United States
END:VEVENT
BEGIN:VEVENT
DTSTART;TZID=UTC:20231017T180000
DTEND;TZID=UTC:20231017T210000
DTSTAMP:20260423T205805
CREATED:20231011T193448Z
LAST-MODIFIED:20231016T165926Z
UID:31176-1697565600-1697576400@cfn.nsula.edu
SUMMARY:E-3h Adverse Childhood Experiences (ACEs) Tuesday\,  6:00 pm –9:00 pm
DESCRIPTION:Early childhood is a critical period in brain development\, creating a foundation for development.
URL:http://cfn.nsula.edu/event/e-3h-adverse-childhood-experiences-aces-tuesday-600-pm-900-pm-2/
LOCATION:NSU Cenla Campus\, England Airpark\, 1410 Neel Kearby Blvd.\, Alexandria\, LA\, 71303\, United States
END:VEVENT
BEGIN:VEVENT
DTSTART;TZID=UTC:20231017T180000
DTEND;TZID=UTC:20231017T210000
DTSTAMP:20260423T205805
CREATED:20231011T180939Z
LAST-MODIFIED:20240103T171121Z
UID:31167-1697565600-1697576400@cfn.nsula.edu
SUMMARY:CPR/First Aid Adult & Pediatric  Tuesday\, 6:00 pm –9:00pm
DESCRIPTION:The cost for a CPR class is $40. 10 people per class. Please register on the WLS first and then pay using the following link for the class: https://bit.ly/3liH3Xs  
URL:http://cfn.nsula.edu/event/cpr-first-aid-adult-pediatric-tuesday-600-pm-900pm/
LOCATION:NSU Cenla Campus\, England Airpark\, 1410 Neel Kearby Blvd.\, Alexandria\, LA\, 71303\, United States
END:VEVENT
BEGIN:VEVENT
DTSTART;TZID=UTC:20231017T180000
DTEND;TZID=UTC:20231017T210000
DTSTAMP:20260423T205805
CREATED:20231011T162049Z
LAST-MODIFIED:20231016T164435Z
UID:31134-1697565600-1697576400@cfn.nsula.edu
SUMMARY:I-6b Caring for the Caregiver (CDA 6) (ADM 6)  Tuesday\,  6:00 pm – 9:00 pm
DESCRIPTION:Use this practical guide for discerning personal needs/wants and how to meet them.
URL:http://cfn.nsula.edu/event/i-6b-caring-for-the-caregiver-cda-6-adm-6-tuesday-600-pm-900-pm/
LOCATION:NSU-CFN\, 1800 Warrington Place\, Shreveport\, LA\, 71101\, United States
ORGANIZER;CN="Camille English":MAILTO:holmanc@nsula.edu
END:VEVENT
BEGIN:VEVENT
DTSTART;TZID=UTC:20231017T180000
DTEND;TZID=UTC:20231017T210000
DTSTAMP:20260423T205805
CREATED:20231011T161352Z
LAST-MODIFIED:20231011T161352Z
UID:31129-1697565600-1697576400@cfn.nsula.edu
SUMMARY:B-1d *HEALTH: Medication Administration (CDA 1) Tuesday\,  6:00 pm – 9:00 pm
DESCRIPTION:This session meets the medication\, EpiPen\, and health training requirements!
URL:http://cfn.nsula.edu/event/b-1d-health-medication-administration-cda-1-tuesday-600-pm-900-pm/
LOCATION:NSU-CFN\, 1800 Warrington Place\, Shreveport\, LA\, 71101\, United States
END:VEVENT
BEGIN:VEVENT
DTSTART;TZID=UTC:20231014T090000
DTEND;TZID=UTC:20231014T120000
DTSTAMP:20260423T205805
CREATED:20231009T184903Z
LAST-MODIFIED:20231009T190912Z
UID:31115-1697274000-1697284800@cfn.nsula.edu
SUMMARY:I-1f Play is FUNdamental (CDA 1) Saturday\, 9:00 am –12:00 pm
DESCRIPTION:Learn how play is the foundation of learning and toys are the tools.
URL:http://cfn.nsula.edu/event/i-1f-play-is-fundamental-cda-1/
LOCATION:NSU-CFN\, 1800 Warrington Place\, Shreveport\, LA\, 71101\, United States
ORGANIZER;CN="Camille English":MAILTO:holmanc@nsula.edu
END:VEVENT
BEGIN:VEVENT
DTSTART;TZID=UTC:20231014T090000
DTEND;TZID=UTC:20231014T120000
DTSTAMP:20260423T205805
CREATED:20231009T184224Z
LAST-MODIFIED:20231011T191051Z
UID:31110-1697274000-1697284800@cfn.nsula.edu
SUMMARY:B-1d *HEALTH: Medication Administration (CDA 1) (ADM 1)  Saturday\, 9:00 am –12:00 pm
DESCRIPTION:This session meets the medication and health training requirements!
URL:http://cfn.nsula.edu/event/b-1d-health-medication-administration-cda-1-adm-1/
LOCATION:NSU-CFN\, 1800 Warrington Place\, Shreveport\, LA\, 71101\, United States
END:VEVENT
BEGIN:VEVENT
DTSTART;TZID=UTC:20231012T180000
DTEND;TZID=UTC:20231012T210000
DTSTAMP:20260423T205805
CREATED:20231009T183229Z
LAST-MODIFIED:20231011T190008Z
UID:31106-1697133600-1697144400@cfn.nsula.edu
SUMMARY:I-1h *HEALTH: Shaken Baby Syndrome\, SUIDS\, & Other Infant Safety  (CDA 1)  (ADM 1) Thursday\, 6:00 pm – 9:00 pm
DESCRIPTION:Creating safe sleep and play environments for infants is essential to protect infants in our care
URL:http://cfn.nsula.edu/event/i-1h-health-shaken-baby-syndrome-suids-other-infant-safety-cda-1-adm-1/
LOCATION:NSU-CFN\, 1800 Warrington Place\, Shreveport\, LA\, 71101\, United States
END:VEVENT
BEGIN:VEVENT
DTSTART;TZID=UTC:20231012T180000
DTEND;TZID=UTC:20231012T210000
DTSTAMP:20260423T205805
CREATED:20231009T180409Z
LAST-MODIFIED:20231009T190452Z
UID:31104-1697133600-1697144400@cfn.nsula.edu
SUMMARY:B-4c How to Get Parents on Your Team (CDA 4) Thursday\, 6:00 pm – 9:00 pm
DESCRIPTION:Strategies to establish productive relationships with families
URL:http://cfn.nsula.edu/event/b-4c-how-to-get-parents-on-your-team-cda-4/
LOCATION:NSU-CFN\, 1800 Warrington Place\, Shreveport\, LA\, 71101\, United States
ORGANIZER;CN="Camille English":MAILTO:holmanc@nsula.edu
END:VEVENT
BEGIN:VEVENT
DTSTART;TZID=UTC:20231010T180000
DTEND;TZID=UTC:20231010T210000
DTSTAMP:20260423T205805
CREATED:20231009T183746Z
LAST-MODIFIED:20231010T133204Z
UID:31108-1696960800-1696971600@cfn.nsula.edu
SUMMARY:B-1h *HEALTH: Serve Safe Module II (CDA 1) (ADM 4) Tuesday\, 6:00 pm – 9:00 pm
DESCRIPTION:Learn how to provide a sanitary and safe food service program and avoid food-borne illnesses
URL:http://cfn.nsula.edu/event/b-1h-health-serve-safe-module-ii-cda-1-adm-4/
LOCATION:NSU Webinar\, 1800 Warrington Place\, Shreveport\, LA\, 71101\, United States
END:VEVENT
BEGIN:VEVENT
DTSTART;TZID=UTC:20230110T180000
DTEND;TZID=UTC:20230110T210000
DTSTAMP:20260423T205805
CREATED:20221214T192306Z
LAST-MODIFIED:20230117T153858Z
UID:29395-1673373600-1673384400@cfn.nsula.edu
SUMMARY:CEU-2b Physical Activity Learning Session (PALS) Part 1 (CDA 2)
DESCRIPTION:
URL:http://cfn.nsula.edu/event/ceu-2b-physical-activity-learning-session-pals-part-1-cda-2/
LOCATION:NSU Webinar\, 1800 Warrington Place\, Shreveport\, LA\, 71101\, United States
END:VEVENT
BEGIN:VEVENT
DTSTART;TZID=UTC:20220104T180000
DTEND;TZID=UTC:20220104T210000
DTSTAMP:20260423T205805
CREATED:20220104T060019Z
LAST-MODIFIED:20211209T153207Z
UID:8733-1641319200-1641330000@cfn.nsula.edu
SUMMARY:CPR/First Aid   Tuesday   6:00 pm – 9:00 pm
DESCRIPTION:CPR/First Aid is free only to Type III Centers and registered Family Home Providers. For Type I and Type II we can arrange onsite CPR training at your location for a fee.\nFor Type I and Type II:  subject to availability – $100 per person. payments by credit or debit card: click here:https://bit.ly/3DxrqEf\n*Register Online but attend in person at our office: Child and Family Network\, 1800 Warrington Pl\, Shreveport\, LA \nTrainer: Donnie Laborde
URL:http://cfn.nsula.edu/event/cpr-first-aid-pediatric-adult/
LOCATION:NSU-CFN\, 1800 Warrington Place\, Shreveport\, LA\, 71101\, United States
ATTACH;FMTTYPE=image/jpeg:http://cfn.nsula.edu/wp-content/uploads/2021/11/CPR-IN-NATCHIT-e1636754622230.jpg
END:VEVENT
BEGIN:VEVENT
DTSTART;TZID=UTC:20211216T183000
DTEND;TZID=UTC:20211216T203000
DTSTAMP:20260423T205805
CREATED:20211206T175955Z
LAST-MODIFIED:20211206T175955Z
UID:13560-1639679400-1639686600@cfn.nsula.edu
SUMMARY:S-5d Implementing Curriculum – Frog Street - Pre-K.    Thursday   6:30 pm – 8:30 pm
DESCRIPTION:Frog Street Pre-K is a comprehensive\, research-based program that integrates instruction across developmental domains and early learning disciplines. \nTo register\, click here: https://bit.ly/3cp1DCX \nTrainer: Paula Youngblood
URL:http://cfn.nsula.edu/event/s-5d-implementing-curriculum-frog-street-pre-k-thursday-630-pm-830-pm/
LOCATION:NSU Webinar\, 1800 Warrington Place\, Shreveport\, LA\, 71101\, United States
ATTACH;FMTTYPE=image/jpeg:http://cfn.nsula.edu/wp-content/uploads/2021/12/S-5d.jpg
END:VEVENT
BEGIN:VEVENT
DTSTART;TZID=UTC:20211216T180000
DTEND;TZID=UTC:20211216T210000
DTSTAMP:20260423T205805
CREATED:20211206T223028Z
LAST-MODIFIED:20211206T223028Z
UID:13704-1639677600-1639688400@cfn.nsula.edu
SUMMARY:I-4b Welcoming Children and Families (CDA 4)    Thursday   6:00 pm – 9:00 pm
DESCRIPTION:What is separation anxiety and how can you help with the transition from home to school for both parents and children? Learn how to build a team to provide the best possible care for children. \nTo register\, click here: https://bit.ly/30FjH9L \nTrainer: Heather Davis
URL:http://cfn.nsula.edu/event/i-4b-welcoming-children-and-families-cda-4-thursday-600-pm-900-pm/
LOCATION:NSU Webinar\, 1800 Warrington Place\, Shreveport\, LA\, 71101\, United States
ATTACH;FMTTYPE=image/jpeg:http://cfn.nsula.edu/wp-content/uploads/2021/12/I-4b.jpg
END:VEVENT
BEGIN:VEVENT
DTSTART;TZID=UTC:20211216T180000
DTEND;TZID=UTC:20211216T210000
DTSTAMP:20260423T205805
CREATED:20211206T221934Z
LAST-MODIFIED:20211206T221934Z
UID:13702-1639677600-1639688400@cfn.nsula.edu
SUMMARY:I-2K Science for Young Thinkers   Thursday   6:00 pm – 9:00 pm
DESCRIPTION:Discover science basics\, activity ideas\, and the scientific method. Learn how you can offer hands – on science exploration every day. \nTo register\, click here: https://bit.ly/3HtHwSB \nTrainer: Beonica Frazier
URL:http://cfn.nsula.edu/event/i-2k-science-for-young-thinkers-thursday-600-pm-900-pm/
LOCATION:NSU Webinar\, 1800 Warrington Place\, Shreveport\, LA\, 71101\, United States
ATTACH;FMTTYPE=image/jpeg:http://cfn.nsula.edu/wp-content/uploads/2021/11/CEU-2l.jpg
END:VEVENT
BEGIN:VEVENT
DTSTART;TZID=UTC:20211214T180000
DTEND;TZID=UTC:20211214T210000
DTSTAMP:20260423T205805
CREATED:20211206T215316Z
LAST-MODIFIED:20211206T215505Z
UID:13691-1639504800-1639515600@cfn.nsula.edu
SUMMARY:I-7d CLASS Day to Day (CDA 7)   Tuesday   6:00 pm – 9:00 pm
DESCRIPTION:Develop a better understanding of the specific areas of CLASS and how you can improve upon your interactions with children. \nTo register\, click here: https://bit.ly/3CuFOwo \nTrainer: Lien McGehee
URL:http://cfn.nsula.edu/event/i-7d-class-day-to-day-cda-7-tuesday-600-pm-900-pm/
LOCATION:NSU Webinar\, 1800 Warrington Place\, Shreveport\, LA\, 71101\, United States
ATTACH;FMTTYPE=image/jpeg:http://cfn.nsula.edu/wp-content/uploads/2021/12/I-7d.jpg
END:VEVENT
BEGIN:VEVENT
DTSTART;TZID=UTC:20211214T180000
DTEND;TZID=UTC:20211214T210000
DTSTAMP:20260423T205805
CREATED:20211206T214655Z
LAST-MODIFIED:20211206T214655Z
UID:13681-1639504800-1639515600@cfn.nsula.edu
SUMMARY:I-2g The Creative School-age Spirit (CDA 2)   Tuesday   6:00 pm – 9:00 pm
DESCRIPTION:Learn typical behaviors of school-age children and ways to create a positive\, enjoyable school-age environment with many opportunities to explore interests\, investigate the world\, and make discoveries. \nTo register\, click here: https://bit.ly/3qPRLuD \nTrainer: Heather Davis
URL:http://cfn.nsula.edu/event/i-2g-the-creative-school-age-spirit-cda-2-tuesday-600-pm-900-pm/
LOCATION:NSU Webinar\, 1800 Warrington Place\, Shreveport\, LA\, 71101\, United States
ATTACH;FMTTYPE=image/jpeg:http://cfn.nsula.edu/wp-content/uploads/2021/11/W-Z1.jpg
END:VEVENT
END:VCALENDAR