BEGIN:VCALENDAR
VERSION:2.0
PRODID:-//NSU Child and Family Network - ECPv6.15.20//NONSGML v1.0//EN
CALSCALE:GREGORIAN
METHOD:PUBLISH
X-WR-CALNAME:NSU Child and Family Network
X-ORIGINAL-URL:http://cfn.nsula.edu
X-WR-CALDESC:Events for NSU Child and Family Network
REFRESH-INTERVAL;VALUE=DURATION:PT1H
X-Robots-Tag:noindex
X-PUBLISHED-TTL:PT1H
BEGIN:VTIMEZONE
TZID:UTC
BEGIN:STANDARD
TZOFFSETFROM:+0000
TZOFFSETTO:+0000
TZNAME:UTC
DTSTART:20240101T000000
END:STANDARD
END:VTIMEZONE
BEGIN:VEVENT
DTSTART;TZID=UTC:20250213T180000
DTEND;TZID=UTC:20250213T210000
DTSTAMP:20260422T145127
CREATED:20250122T071129Z
LAST-MODIFIED:20250122T071349Z
UID:32911-1739469600-1739480400@cfn.nsula.edu
SUMMARY:B-1h HEALTH Serve Safe (CDA 1) (ADM 4)  Thursday\, February 13   6:00 pm – 9:00 pm
DESCRIPTION:B-1h HEALTH Serve Safe (CDA 1) (ADM 4) \nLearn how to provide a sanitary and safe food service program and avoid food-borne illnesses.
URL:http://cfn.nsula.edu/event/b-1h-health-serve-safe-cda-1-adm-4-thursday-february-13-600-pm-900-pm/
LOCATION:NSU-CFN\, 1800 Warrington Place\, Shreveport\, LA\, 71101\, United States
ATTACH;FMTTYPE=image/jpeg:http://cfn.nsula.edu/wp-content/uploads/2025/01/B-1h.jpg
END:VEVENT
BEGIN:VEVENT
DTSTART;TZID=UTC:20250213T180000
DTEND;TZID=UTC:20250213T210000
DTSTAMP:20260422T145127
CREATED:20250122T072304Z
LAST-MODIFIED:20250122T072304Z
UID:32914-1739469600-1739480400@cfn.nsula.edu
SUMMARY:I-3c Guidance for Children of All Ages (CDA 3)   Thursday\, February 13    6:00 pm –9:00 pm
DESCRIPTION:I-3c Guidance for Children of All Ages (CDA 3) \nCome learn positive guidance techniques\, preventive measures\, and tools for behavior management.
URL:http://cfn.nsula.edu/event/i-3c-guidance-for-children-of-all-ages-cda-3-thursday-february-13-600-pm-900-pm/
LOCATION:NSU-CFN\, 1800 Warrington Place\, Shreveport\, LA\, 71101\, United States
ATTACH;FMTTYPE=image/jpeg:http://cfn.nsula.edu/wp-content/uploads/2025/01/I-3e.jpg
ORGANIZER;CN="Camille English":MAILTO:holmanc@nsula.edu
END:VEVENT
BEGIN:VEVENT
DTSTART;TZID=UTC:20250213T180000
DTEND;TZID=UTC:20250213T210000
DTSTAMP:20260422T145127
CREATED:20250210T155056Z
LAST-MODIFIED:20250210T155056Z
UID:32935-1739469600-1739480400@cfn.nsula.edu
SUMMARY:CPR/First Aid   Thursday February 13   6:00 pm - 9:00 pm
DESCRIPTION:CPR/First Aid Adult & Pediatric \nInfant* Child* Adult \nClasses will be held in person at  *NSU Child & Family Network*\n1800 Warrington Place\, Shreveport. 71101\nThursday February 13\, 2025  6:00 pm – 9:00 pm\nRegister for this session on the WLS database & Referral System\n(Please pay within 24 hrs. or the registration will automatically be cancelled)\n$60 (not refundable or transferable) per person
URL:http://cfn.nsula.edu/event/cpr-first-aid-thursday-february-13-600-pm-900-pm/
LOCATION:NSU-CFN\, 1800 Warrington Place\, Shreveport\, LA\, 71101\, United States
ATTACH;FMTTYPE=image/jpeg:http://cfn.nsula.edu/wp-content/uploads/2024/08/CPR.jpg
END:VEVENT
END:VCALENDAR