BEGIN:VCALENDAR
VERSION:2.0
PRODID:-//NSU Child and Family Network - ECPv6.15.20//NONSGML v1.0//EN
CALSCALE:GREGORIAN
METHOD:PUBLISH
X-WR-CALNAME:NSU Child and Family Network
X-ORIGINAL-URL:http://cfn.nsula.edu
X-WR-CALDESC:Events for NSU Child and Family Network
REFRESH-INTERVAL;VALUE=DURATION:PT1H
X-Robots-Tag:noindex
X-PUBLISHED-TTL:PT1H
BEGIN:VTIMEZONE
TZID:UTC
BEGIN:STANDARD
TZOFFSETFROM:+0000
TZOFFSETTO:+0000
TZNAME:UTC
DTSTART:20240101T000000
END:STANDARD
END:VTIMEZONE
BEGIN:VEVENT
DTSTART;TZID=UTC:20250128T180000
DTEND;TZID=UTC:20250128T210000
DTSTAMP:20260422T145037
CREATED:20250107T165406Z
LAST-MODIFIED:20250107T165406Z
UID:32870-1738087200-1738098000@cfn.nsula.edu
SUMMARY:E-4a What Do I Do Now? (CDA 4) (ADM 5)  Tuesday January 28   6:00 pm – 9:00 pm
DESCRIPTION:E-4a What Do I Do Now? (CDA 4) (ADM 5) \nLearn how you can help parents through your knowledge of community resources.
URL:http://cfn.nsula.edu/event/e-4a-what-do-i-do-now-cda-4-adm-5-tuesday-january-28-600-pm-900-pm/
LOCATION:NSU-CFN\, 1800 Warrington Place\, Shreveport\, LA\, 71101\, United States
ATTACH;FMTTYPE=image/jpeg:http://cfn.nsula.edu/wp-content/uploads/2025/01/E-4a-PARENT-RESOURCES-2-.jpg
ORGANIZER;CN="Camille English":MAILTO:holmanc@nsula.edu
END:VEVENT
BEGIN:VEVENT
DTSTART;TZID=UTC:20250128T180000
DTEND;TZID=UTC:20250128T210000
DTSTAMP:20260422T145037
CREATED:20250107T173519Z
LAST-MODIFIED:20250107T173519Z
UID:32873-1738087200-1738098000@cfn.nsula.edu
SUMMARY:I-2j Ins and Outs of Circle Time (CDA 2)   Tuesday January 28  6:00 pm – 9:00 pm
DESCRIPTION:I-2j Ins and Outs of Circle Time (CDA 2) \nLearn what makes circle and group times successful.
URL:http://cfn.nsula.edu/event/i-2j-ins-and-outs-of-circle-time-cda-2-tuesday-january-28-600-pm-900-pm/
LOCATION:NSU-CFN\, 1800 Warrington Place\, Shreveport\, LA\, 71101\, United States
ATTACH;FMTTYPE=image/jpeg:http://cfn.nsula.edu/wp-content/uploads/2025/01/I-3e-1.jpg
END:VEVENT
END:VCALENDAR