BEGIN:VCALENDAR
VERSION:2.0
PRODID:-//NSU Child and Family Network - ECPv6.15.20//NONSGML v1.0//EN
CALSCALE:GREGORIAN
METHOD:PUBLISH
X-ORIGINAL-URL:http://cfn.nsula.edu
X-WR-CALDESC:Events for NSU Child and Family Network
REFRESH-INTERVAL;VALUE=DURATION:PT1H
X-Robots-Tag:noindex
X-PUBLISHED-TTL:PT1H
BEGIN:VTIMEZONE
TZID:UTC
BEGIN:STANDARD
TZOFFSETFROM:+0000
TZOFFSETTO:+0000
TZNAME:UTC
DTSTART:20240101T000000
END:STANDARD
END:VTIMEZONE
BEGIN:VEVENT
DTSTART;VALUE=DATE:20250121
DTEND;VALUE=DATE:20250122
DTSTAMP:20260422T174954
CREATED:20250121T161348Z
LAST-MODIFIED:20250121T161348Z
UID:32898-1737417600-1737503999@cfn.nsula.edu
SUMMARY:Rescheduled Classes on 01/21/2025 due to the Inclement Weather: I-6b & B-1b
DESCRIPTION:Due to the inclement weather\, NSU CFN is rescheduling I-6b Caring for the Caregiver and B-1b Health Basics. Please look out for emails concerning the rescheduled classes.
URL:http://cfn.nsula.edu/event/rescheduled-classes-on-01-21-2025-due-to-the-inclement-weather-i-6b-b-1b/
LOCATION:NSU-CFN\, 1800 Warrington Place\, Shreveport\, LA\, 71101\, United States
END:VEVENT
BEGIN:VEVENT
DTSTART;TZID=UTC:20250121T180000
DTEND;TZID=UTC:20250121T210000
DTSTAMP:20260422T174954
CREATED:20250107T160054Z
LAST-MODIFIED:20250107T160107Z
UID:32859-1737482400-1737493200@cfn.nsula.edu
SUMMARY:I-6b Caring for the Caregiver (CDA 6) (ADM 6)  Tuesday\, January 21  6:00 pm – 9:00 pm
DESCRIPTION:I-6b Caring for the Caregiver (CDA 6) (ADM 6) \nOur most precious gift to children is ourselves. Make sure you care for yourself and your staff. \n 
URL:http://cfn.nsula.edu/event/i-6b-caring-for-the-caregiver-cda-6-adm-6-tuesday-january-21-600-pm-900-pm/
LOCATION:NSU-CFN\, 1800 Warrington Place\, Shreveport\, LA\, 71101\, United States
ATTACH;FMTTYPE=image/jpeg:http://cfn.nsula.edu/wp-content/uploads/2025/01/I-6b-002.jpg
ORGANIZER;CN="Mary Bond":MAILTO:bondm@nsula.edu
END:VEVENT
BEGIN:VEVENT
DTSTART;TZID=UTC:20250121T180000
DTEND;TZID=UTC:20250121T210000
DTSTAMP:20260422T174954
CREATED:20250107T164516Z
LAST-MODIFIED:20250107T164516Z
UID:32865-1737482400-1737493200@cfn.nsula.edu
SUMMARY:B-1b *HEALTH: The Basics You Need to Know (CDA 1) (ADM 1)  Tuesday\, January 21  6:00 pm – 9:00 pm
DESCRIPTION:B-1b *HEALTH: The Basics You Need to Know (CDA 1) (ADM 1) \nThis covers how diseases are spread and how to keep children healthy\, and injury prevention.
URL:http://cfn.nsula.edu/event/b-1b-health-the-basics-you-need-to-know-cda-1-adm-1-tuesday-january-21-600-pm-900-pm/
LOCATION:NSU-CFN\, 1800 Warrington Place\, Shreveport\, LA\, 71101\, United States
ATTACH;FMTTYPE=image/jpeg:http://cfn.nsula.edu/wp-content/uploads/2025/01/B-1m-Health-1.jpg
END:VEVENT
END:VCALENDAR