BEGIN:VCALENDAR
VERSION:2.0
PRODID:-//NSU Child and Family Network - ECPv6.15.20//NONSGML v1.0//EN
CALSCALE:GREGORIAN
METHOD:PUBLISH
X-ORIGINAL-URL:http://cfn.nsula.edu
X-WR-CALDESC:Events for NSU Child and Family Network
REFRESH-INTERVAL;VALUE=DURATION:PT1H
X-Robots-Tag:noindex
X-PUBLISHED-TTL:PT1H
BEGIN:VTIMEZONE
TZID:UTC
BEGIN:STANDARD
TZOFFSETFROM:+0000
TZOFFSETTO:+0000
TZNAME:UTC
DTSTART:20240101T000000
END:STANDARD
END:VTIMEZONE
BEGIN:VEVENT
DTSTART;TZID=UTC:20250118T090000
DTEND;TZID=UTC:20250118T120000
DTSTAMP:20260422T175037
CREATED:20250107T154055Z
LAST-MODIFIED:20250107T154055Z
UID:32851-1737190800-1737201600@cfn.nsula.edu
SUMMARY:W-5v Staff Orientation: Getting Off to the Right Start (CDA 5) (ADM 3)  Saturday\, January 18   9:00 am – 12:00 pm
DESCRIPTION:W-5v Staff Orientation: Getting Off to the Right Start (CDA 5) (ADM 3) \nCovers the following topics new employees must meet within seven employment days\, rules\, and regulations.
URL:http://cfn.nsula.edu/event/w-5v-staff-orientation-getting-off-to-the-right-start-cda-5-adm-3-saturday-january-18-900-am-1200-pm/
LOCATION:NSU-CFN\, 1800 Warrington Place\, Shreveport\, LA\, 71101\, United States
ATTACH;FMTTYPE=image/jpeg:http://cfn.nsula.edu/wp-content/uploads/2025/01/W-5v-Staff-OrientationPicture1.jpg
END:VEVENT
BEGIN:VEVENT
DTSTART;TZID=UTC:20250118T090000
DTEND;TZID=UTC:20250118T120000
DTSTAMP:20260422T175037
CREATED:20250107T154453Z
LAST-MODIFIED:20250107T154453Z
UID:32854-1737190800-1737201600@cfn.nsula.edu
SUMMARY:B-1h HEALTH Serve Safe CDA 1   Saturday January 18   9:00 am – 12:00 pm
DESCRIPTION:B-1h HEALTH Serve Safe CDA 1 \nLearn how to provide a sanitary and safe food service program and avoid food-borne illnesses.
URL:http://cfn.nsula.edu/event/b-1h-health-serve-safe-cda-1-saturday-january-18-900-am-1200-pm/
LOCATION:NSU-CFN\, 1800 Warrington Place\, Shreveport\, LA\, 71101\, United States
ATTACH;FMTTYPE=image/jpeg:http://cfn.nsula.edu/wp-content/uploads/2024/08/B-1h-ServeSafe-HEALTH.jpg
END:VEVENT
BEGIN:VEVENT
DTSTART;TZID=UTC:20250118T090000
DTEND;TZID=UTC:20250118T120000
DTSTAMP:20260422T175037
CREATED:20250107T161009Z
LAST-MODIFIED:20250107T182423Z
UID:32863-1737190800-1737201600@cfn.nsula.edu
SUMMARY:CPR/First Aid  Saturday January 18   9:00 am -12:00 pm
DESCRIPTION:CPR/First Aid Adult & Pediatric\n$60 (not refundable or transferable) per person\nThis training is open to all centers; Type I\, Type II\, Type III and Family Homecare Providers\nPlease pay by debit or credit card AFTER you register on the WLS system.\nThis link is for payment only it does not register anyone for the class: https://bit.ly/3liH3Xs \n 
URL:http://cfn.nsula.edu/event/cpr-first-aid-saturday-january-11-2024-900-am-1200-pm/
LOCATION:NSU-CFN\, 1800 Warrington Place\, Shreveport\, LA\, 71101\, United States
ATTACH;FMTTYPE=image/jpeg:http://cfn.nsula.edu/wp-content/uploads/2024/08/CPR.jpg
END:VEVENT
BEGIN:VEVENT
DTSTART;TZID=UTC:20250118T130000
DTEND;TZID=UTC:20250118T160000
DTSTAMP:20260422T175037
CREATED:20250107T154840Z
LAST-MODIFIED:20250107T154840Z
UID:32856-1737205200-1737216000@cfn.nsula.edu
SUMMARY:B-2b Music Throughout the Day (CDA 2)  Saturday\, January 18  1:00 pm – 4:00 pm
DESCRIPTION:NOTE: This is an afternoon session \nB-2b Music Throughout the Day (CDA 2)\nLook at how incorporating music into your everyday activities can help with more productive days.
URL:http://cfn.nsula.edu/event/b-2b-music-throughout-the-day-cda-2-saturday-january-18-100-pm-400-pm/
LOCATION:NSU-CFN\, 1800 Warrington Place\, Shreveport\, LA\, 71101\, United States
ATTACH;FMTTYPE=image/jpeg:http://cfn.nsula.edu/wp-content/uploads/2025/01/B-2b-Music-Throughout-the-Day.jpg
END:VEVENT
END:VCALENDAR