BEGIN:VCALENDAR
VERSION:2.0
PRODID:-//NSU Child and Family Network - ECPv6.15.20//NONSGML v1.0//EN
CALSCALE:GREGORIAN
METHOD:PUBLISH
X-ORIGINAL-URL:http://cfn.nsula.edu
X-WR-CALDESC:Events for NSU Child and Family Network
REFRESH-INTERVAL;VALUE=DURATION:PT1H
X-Robots-Tag:noindex
X-PUBLISHED-TTL:PT1H
BEGIN:VTIMEZONE
TZID:UTC
BEGIN:STANDARD
TZOFFSETFROM:+0000
TZOFFSETTO:+0000
TZNAME:UTC
DTSTART:20240101T000000
END:STANDARD
END:VTIMEZONE
BEGIN:VEVENT
DTSTART;TZID=UTC:20250111T090000
DTEND;TZID=UTC:20250111T120000
DTSTAMP:20260422T175037
CREATED:20250107T151728Z
LAST-MODIFIED:20250107T182738Z
UID:32842-1736586000-1736596800@cfn.nsula.edu
SUMMARY:B-1d Medication Administration (CDA 1)  Saturday\, January 11  9:00 am - 12:00 pm (This class is VIRTUAL)
DESCRIPTION:B-1d Medication Administration (CDA 1)  (This class is VIRTUAL) **The link will be sent soon to you.\n \nThis session meets the medication and health training requirements\, including the use of EpiPens!
URL:http://cfn.nsula.edu/event/b-1d-medication-cda-1/
LOCATION:NSU Webinar\, 1800 Warrington Place\, Shreveport\, LA\, 71101\, United States
ATTACH;FMTTYPE=image/jpeg:http://cfn.nsula.edu/wp-content/uploads/2024/10/B-1d-Medication.jpg
END:VEVENT
BEGIN:VEVENT
DTSTART;TZID=UTC:20250111T180000
DTEND;TZID=UTC:20250111T210000
DTSTAMP:20260422T175037
CREATED:20250107T144257Z
LAST-MODIFIED:20250107T211923Z
UID:32825-1736618400-1736629200@cfn.nsula.edu
SUMMARY:B-1d *HEALTH: Medication Administration (CDA 1) (ADM 1)  Thursday\, January 11   6:00 pm – 9:00 pm (This class is VIRTUAL)
DESCRIPTION:B-1d *HEALTH: Medication Administration (CDA 1) (ADM 1) This class is VIRTUAL \nThis session meets the medication health training requirements\, including the use of EpiPens!
URL:http://cfn.nsula.edu/event/b-1d-health-medication-administration-cda-1-adm-1-thursday-january-9-600-pm-900-pm/
LOCATION:NSU Teacher Education Center (TEC) Room 105C\, Sam Sibley Road\, Natchitoches\, LA\, 71457
ATTACH;FMTTYPE=image/jpeg:http://cfn.nsula.edu/wp-content/uploads/2024/10/B-1d-Medication.jpg
END:VEVENT
END:VCALENDAR