BEGIN:VCALENDAR
VERSION:2.0
PRODID:-//NSU Child and Family Network - ECPv6.15.20//NONSGML v1.0//EN
CALSCALE:GREGORIAN
METHOD:PUBLISH
X-WR-CALNAME:NSU Child and Family Network
X-ORIGINAL-URL:http://cfn.nsula.edu
X-WR-CALDESC:Events for NSU Child and Family Network
REFRESH-INTERVAL;VALUE=DURATION:PT1H
X-Robots-Tag:noindex
X-PUBLISHED-TTL:PT1H
BEGIN:VTIMEZONE
TZID:UTC
BEGIN:STANDARD
TZOFFSETFROM:+0000
TZOFFSETTO:+0000
TZNAME:UTC
DTSTART:20230101T000000
END:STANDARD
END:VTIMEZONE
BEGIN:VEVENT
DTSTART;TZID=UTC:20241207T090000
DTEND;TZID=UTC:20241207T120000
DTSTAMP:20260422T192738
CREATED:20241202T153308Z
LAST-MODIFIED:20241202T153308Z
UID:32766-1733562000-1733572800@cfn.nsula.edu
SUMMARY:B-4c How to Get Parents on Your Team (CDA 4)
DESCRIPTION:B-4c How to Get Parents on Your Team (CDA 4)\nStrategies to establish productive relationships with families.\nSaturday\, December 7\, 2024 9:00 am –12:00 pm
URL:http://cfn.nsula.edu/event/b-4c-how-to-get-parents-on-your-team-cda-4-2/
LOCATION:NSU-CFN\, 1800 Warrington Place\, Shreveport\, LA\, 71101\, United States
ATTACH;FMTTYPE=image/jpeg:http://cfn.nsula.edu/wp-content/uploads/2024/10/E-4b-Welcome-Families-1.jpeg
END:VEVENT
BEGIN:VEVENT
DTSTART;TZID=UTC:20241207T090000
DTEND;TZID=UTC:20241207T120000
DTSTAMP:20260422T192738
CREATED:20241202T153623Z
LAST-MODIFIED:20241202T153623Z
UID:32768-1733562000-1733572800@cfn.nsula.edu
SUMMARY:B-1h HEALTH Serve Safe CDA 1
DESCRIPTION:B-1h HEALTH Serve Safe CDA 1 \nLearn how to provide a sanitary and safe food service program and avoid food-borne illnesses.\nSaturday\, December 7\, 2024 9:00 am –12:00 pm
URL:http://cfn.nsula.edu/event/b-1h-health-serve-safe-cda-1/
LOCATION:NSU-CFN\, 1800 Warrington Place\, Shreveport\, LA\, 71101\, United States
ATTACH;FMTTYPE=image/jpeg:http://cfn.nsula.edu/wp-content/uploads/2024/08/B-1h-ServeSafe-HEALTH.jpg
END:VEVENT
BEGIN:VEVENT
DTSTART;TZID=UTC:20241207T130000
DTEND;TZID=UTC:20241207T160000
DTSTAMP:20260422T192738
CREATED:20241202T153947Z
LAST-MODIFIED:20241202T154912Z
UID:32770-1733576400-1733587200@cfn.nsula.edu
SUMMARY:E-8h Understanding Temperament (CDA 8)  Saturday\, December 7\,  1:00 pm – 4:00 pm
DESCRIPTION:E-8h Understanding Temperament (CDA 8) \nNOTE: This is an afternoon session \nSteps to advance children’s physical and intellectual development\nSaturday\, December 7\, 1:00 pm – 4:00 pm
URL:http://cfn.nsula.edu/event/e-8h-understanding-temperament-cda-8/
LOCATION:NSU-CFN\, 1800 Warrington Place\, Shreveport\, LA\, 71101\, United States
ATTACH;FMTTYPE=image/jpeg:http://cfn.nsula.edu/wp-content/uploads/2024/10/I-3e.jpg
END:VEVENT
END:VCALENDAR