BEGIN:VCALENDAR
VERSION:2.0
PRODID:-//NSU Child and Family Network - ECPv6.15.20//NONSGML v1.0//EN
CALSCALE:GREGORIAN
METHOD:PUBLISH
X-ORIGINAL-URL:http://cfn.nsula.edu
X-WR-CALDESC:Events for NSU Child and Family Network
REFRESH-INTERVAL;VALUE=DURATION:PT1H
X-Robots-Tag:noindex
X-PUBLISHED-TTL:PT1H
BEGIN:VTIMEZONE
TZID:UTC
BEGIN:STANDARD
TZOFFSETFROM:+0000
TZOFFSETTO:+0000
TZNAME:UTC
DTSTART:20230101T000000
END:STANDARD
END:VTIMEZONE
BEGIN:VEVENT
DTSTART;TZID=UTC:20241205T180000
DTEND;TZID=UTC:20241205T210000
DTSTAMP:20260422T192917
CREATED:20241113T201214Z
LAST-MODIFIED:20241202T152200Z
UID:32749-1733421600-1733432400@cfn.nsula.edu
SUMMARY: E-3b There's Gotta be a Better Way: Discipline that Works! (CDA 3)  Thursday\, December 5\,  6:00 pm – 9:00 pm
DESCRIPTION:E-3b There’s Gotta be a Better Way: Discipline that Works! (CDA 3) Thursday\, December 5\,  6:00 pm – 9:00 pm \nLearn tried and tested techniques for setting limits and fostering self-control. \n  \n  \n 
URL:http://cfn.nsula.edu/event/e-3b-theres-gotta-be-a-better-way-discipline-that-works-cda-3-thursday-december-5-600-pm-900-pm/
LOCATION:NSU-CFN\, 1800 Warrington Place\, Shreveport\, LA\, 71101\, United States
ATTACH;FMTTYPE=image/jpeg:http://cfn.nsula.edu/wp-content/uploads/2024/11/E-3h-002.jpg
ORGANIZER;CN="Marlene Flemming":MAILTO:rodgersl@nsula.edu
END:VEVENT
BEGIN:VEVENT
DTSTART;TZID=UTC:20241205T180000
DTEND;TZID=UTC:20241205T210000
DTSTAMP:20260422T192917
CREATED:20241202T151534Z
LAST-MODIFIED:20241202T151829Z
UID:32759-1733421600-1733432400@cfn.nsula.edu
SUMMARY:I-1f Play is FUNdamental (CDA 1)  Thursday\, December 5  6:00 pm – 9:00 pm
DESCRIPTION:I-1f Play is FUNdamental (CDA 1) Thursday\, December 5  6:00 pm – 9:00 pm \nThe next time you are questioned about the value of play you will have answers
URL:http://cfn.nsula.edu/event/i-1f-play-is-fundamental-cda-1-thursday-december-5-600-pm-900-pm/
LOCATION:NSU-CFN\, 1800 Warrington Place\, Shreveport\, LA\, 71101\, United States
ATTACH;FMTTYPE=image/jpeg:http://cfn.nsula.edu/wp-content/uploads/2024/10/B-4a-Building-positive-Relatinships.jpg
ORGANIZER;CN="Camille English":MAILTO:holmanc@nsula.edu
END:VEVENT
END:VCALENDAR