BEGIN:VCALENDAR
VERSION:2.0
PRODID:-//NSU Child and Family Network - ECPv6.15.20//NONSGML v1.0//EN
CALSCALE:GREGORIAN
METHOD:PUBLISH
X-WR-CALNAME:NSU Child and Family Network
X-ORIGINAL-URL:http://cfn.nsula.edu
X-WR-CALDESC:Events for NSU Child and Family Network
REFRESH-INTERVAL;VALUE=DURATION:PT1H
X-Robots-Tag:noindex
X-PUBLISHED-TTL:PT1H
BEGIN:VTIMEZONE
TZID:UTC
BEGIN:STANDARD
TZOFFSETFROM:+0000
TZOFFSETTO:+0000
TZNAME:UTC
DTSTART:20230101T000000
END:STANDARD
END:VTIMEZONE
BEGIN:VEVENT
DTSTART;TZID=UTC:20241114T180000
DTEND;TZID=UTC:20241114T210000
DTSTAMP:20260422T210603
CREATED:20241025T191027Z
LAST-MODIFIED:20241025T191027Z
UID:32714-1731607200-1731618000@cfn.nsula.edu
SUMMARY:B-1d *HEALTH: Medication Administration (CDA 1) (ADM 1)   Thursday\, November 14    6:00 pm – 9:00 pm
DESCRIPTION:B-1d *HEALTH: Medication Administration (CDA 1) (ADM 1) \nThis session meets the medication and health training requirements\, including the use of EpiPens!
URL:http://cfn.nsula.edu/event/b-1d-health-medication-administration-cda-1-adm-1-thursday-november-14-600-pm-900-pm/
LOCATION:NSU-CFN\, 1800 Warrington Place\, Shreveport\, LA\, 71101\, United States
ATTACH;FMTTYPE=image/jpeg:http://cfn.nsula.edu/wp-content/uploads/2024/05/Med-Admin.jpg
END:VEVENT
BEGIN:VEVENT
DTSTART;TZID=UTC:20241114T180000
DTEND;TZID=UTC:20241114T210000
DTSTAMP:20260422T210603
CREATED:20241025T191426Z
LAST-MODIFIED:20241025T191426Z
UID:32716-1731607200-1731618000@cfn.nsula.edu
SUMMARY:E-2b Math Magic: How Young Children Learn Math (CDA 2)   Thursday\, November 14   6:00 pm – 9:00 pm
DESCRIPTION:E-2b Math Magic: How Young Children Learn Math (CDA 2) \nLearn how to help young children learn concepts such as numeration\, graphing\, sorting\, and much more!
URL:http://cfn.nsula.edu/event/e-2b-math-magic-how-young-children-learn-math-cda-2-thursday-november-14-600-pm-900-pm/
LOCATION:NSU-CFN\, 1800 Warrington Place\, Shreveport\, LA\, 71101\, United States
ATTACH;FMTTYPE=image/png:http://cfn.nsula.edu/wp-content/uploads/2024/07/E-3b.png
ORGANIZER;CN="Camille English":MAILTO:holmanc@nsula.edu
END:VEVENT
END:VCALENDAR