BEGIN:VCALENDAR
VERSION:2.0
PRODID:-//NSU Child and Family Network - ECPv6.15.20//NONSGML v1.0//EN
CALSCALE:GREGORIAN
METHOD:PUBLISH
X-WR-CALNAME:NSU Child and Family Network
X-ORIGINAL-URL:http://cfn.nsula.edu
X-WR-CALDESC:Events for NSU Child and Family Network
REFRESH-INTERVAL;VALUE=DURATION:PT1H
X-Robots-Tag:noindex
X-PUBLISHED-TTL:PT1H
BEGIN:VTIMEZONE
TZID:UTC
BEGIN:STANDARD
TZOFFSETFROM:+0000
TZOFFSETTO:+0000
TZNAME:UTC
DTSTART:20230101T000000
END:STANDARD
END:VTIMEZONE
BEGIN:VEVENT
DTSTART;TZID=UTC:20241112T180000
DTEND;TZID=UTC:20241112T210000
DTSTAMP:20260422T210637
CREATED:20241025T185825Z
LAST-MODIFIED:20241025T185825Z
UID:32708-1731434400-1731445200@cfn.nsula.edu
SUMMARY:E-8f Talk to Me! Language Development (CDA 8)   Tuesday\, November 12   6:00 pm – 9:00 pm
DESCRIPTION:E-8f Talk to Me! Language Development (CDA 8) \nLanguage skills play a large role in children’s success in school and in life.
URL:http://cfn.nsula.edu/event/e-8f-talk-to-me-language-development-cda-8-tuesday-november-12-600-pm-900-pm/
LOCATION:NSU-CFN\, 1800 Warrington Place\, Shreveport\, LA\, 71101\, United States
ATTACH;FMTTYPE=image/jpeg:http://cfn.nsula.edu/wp-content/uploads/2024/10/E-8f-Lang-Development-Talk-to-me-e1729882628746.jpg
ORGANIZER;CN="Camille English":MAILTO:holmanc@nsula.edu
END:VEVENT
BEGIN:VEVENT
DTSTART;TZID=UTC:20241112T180000
DTEND;TZID=UTC:20241112T210000
DTSTAMP:20260422T210637
CREATED:20241025T190103Z
LAST-MODIFIED:20241025T190554Z
UID:32711-1731434400-1731445200@cfn.nsula.edu
SUMMARY:B-5f Child Care 101 for New Staff: Starting Out the RIGHT Way! (CDA 5) (ADM 1)  Tuesday\, November 12   6:00 pm – 9:00 pm
DESCRIPTION:B-5f Child Care 101 for New Staff: Starting Out the RIGHT Way! (CDA 5) (ADM 1) \nIn-depth orientation for new employees or those needing to brush up on basics including licensing and health.
URL:http://cfn.nsula.edu/event/b-5f-child-care-101-for-new-staff-starting-out-the-right-way-cda-5-adm-1-tuesday-november-12-600-pm-900-pm/
LOCATION:NSU-CFN\, 1800 Warrington Place\, Shreveport\, LA\, 71101\, United States
ATTACH;FMTTYPE=image/jpeg:http://cfn.nsula.edu/wp-content/uploads/2024/10/B-4a-Building-positive-Relatinships.jpg
ORGANIZER;CN="Marlene Flemming":MAILTO:rodgersl@nsula.edu
END:VEVENT
END:VCALENDAR