BEGIN:VCALENDAR
VERSION:2.0
PRODID:-//NSU Child and Family Network - ECPv6.15.20//NONSGML v1.0//EN
CALSCALE:GREGORIAN
METHOD:PUBLISH
X-WR-CALNAME:NSU Child and Family Network
X-ORIGINAL-URL:http://cfn.nsula.edu
X-WR-CALDESC:Events for NSU Child and Family Network
REFRESH-INTERVAL;VALUE=DURATION:PT1H
X-Robots-Tag:noindex
X-PUBLISHED-TTL:PT1H
BEGIN:VTIMEZONE
TZID:UTC
BEGIN:STANDARD
TZOFFSETFROM:+0000
TZOFFSETTO:+0000
TZNAME:UTC
DTSTART:20230101T000000
END:STANDARD
END:VTIMEZONE
BEGIN:VEVENT
DTSTART;TZID=UTC:20241109T090000
DTEND;TZID=UTC:20241109T120000
DTSTAMP:20260422T210636
CREATED:20241025T164000Z
LAST-MODIFIED:20241025T164139Z
UID:32696-1731142800-1731153600@cfn.nsula.edu
SUMMARY:B-1d *HEALTH: Medication Administration (CDA 1) (ADM 1)   Saturday\, November 9    9:00 am – 12:00 pm
DESCRIPTION:B-1d *HEALTH: Medication Administration (CDA 1) (ADM 1) \nThis session meets the medication and health training requirements\, including the use of EpiPens!
URL:http://cfn.nsula.edu/event/b-1d-health-medication-administration-cda-1-adm-1-saturday-november-9-900-am-1200-pm/
LOCATION:NSU-CFN\, 1800 Warrington Place\, Shreveport\, LA\, 71101\, United States
ATTACH;FMTTYPE=image/jpeg:http://cfn.nsula.edu/wp-content/uploads/2024/10/B-1d-Medication.jpg
END:VEVENT
BEGIN:VEVENT
DTSTART;TZID=UTC:20241109T090000
DTEND;TZID=UTC:20241109T120000
DTSTAMP:20260422T210636
CREATED:20241025T164927Z
LAST-MODIFIED:20241025T164927Z
UID:32700-1731142800-1731153600@cfn.nsula.edu
SUMMARY:I-3h Cultural Diversity in Your Learning Centers (CDA 3)     Saturday\, November 9    9:00 am – 12:00 pm
DESCRIPTION:I-3h Cultural Diversity in Your Learning Centers (CDA 3) \nLearn how to provide for and respond to children whose background may be different from yours.
URL:http://cfn.nsula.edu/event/i-3h-cultural-diversity-in-your-learning-centers-cda-3-saturday-november-9-900-am-1200-pm/
LOCATION:NSU-CFN\, 1800 Warrington Place\, Shreveport\, LA\, 71101\, United States
ATTACH;FMTTYPE=image/jpeg:http://cfn.nsula.edu/wp-content/uploads/2024/07/E-1e-Healthy-Child.jpeg
END:VEVENT
BEGIN:VEVENT
DTSTART;TZID=UTC:20241109T130000
DTEND;TZID=UTC:20241109T160000
DTSTAMP:20260422T210636
CREATED:20241025T165418Z
LAST-MODIFIED:20241025T165418Z
UID:32703-1731157200-1731168000@cfn.nsula.edu
SUMMARY:B-6b Tie a Knot in the Rope and Hang On! (CDA 6) (ADM 6)      Saturday\, November 9    1:00 pm – 4:00 pm
DESCRIPTION:B-6b Tie a Knot in the Rope and Hang On! (CDA 6) (ADM 6) \nNOTE: This is an afternoon session \nWorking with children all day can make you feel that you are at the end of your rope.
URL:http://cfn.nsula.edu/event/b-6b-tie-a-knot-in-the-rope-and-hang-on-cda-6-adm-6-saturday-november-9-100-pm-400-pm/
LOCATION:NSU-CFN\, 1800 Warrington Place\, Shreveport\, LA\, 71101\, United States
ATTACH;FMTTYPE=image/jpeg:http://cfn.nsula.edu/wp-content/uploads/2024/10/B-6b-TieAKnot.jpg
END:VEVENT
BEGIN:VEVENT
DTSTART;TZID=UTC:20241109T130000
DTEND;TZID=UTC:20241109T160000
DTSTAMP:20260422T210636
CREATED:20241025T185326Z
LAST-MODIFIED:20241025T185326Z
UID:32706-1731157200-1731168000@cfn.nsula.edu
SUMMARY:B-1h HEALTH Serve Safe (CDA 1) (ADM 4)   Saturday\, November 9   1:00 pm –4:00 pm
DESCRIPTION:B-1h HEALTH Serve Safe (CDA 1) (ADM 4) \nNOTE: This is an afternoon session \nLearn how to provide a sanitary and safe food service program and avoid food-borne illnesses.
URL:http://cfn.nsula.edu/event/b-1h-health-serve-safe-cda-1-adm-4-saturday-november-9-100-pm-400-pm/
LOCATION:NSU-CFN\, 1800 Warrington Place\, Shreveport\, LA\, 71101\, United States
ATTACH;FMTTYPE=image/jpeg:http://cfn.nsula.edu/wp-content/uploads/2024/05/B-1h.jpg
END:VEVENT
END:VCALENDAR