BEGIN:VCALENDAR
VERSION:2.0
PRODID:-//NSU Child and Family Network - ECPv6.15.20//NONSGML v1.0//EN
CALSCALE:GREGORIAN
METHOD:PUBLISH
X-ORIGINAL-URL:http://cfn.nsula.edu
X-WR-CALDESC:Events for NSU Child and Family Network
REFRESH-INTERVAL;VALUE=DURATION:PT1H
X-Robots-Tag:noindex
X-PUBLISHED-TTL:PT1H
BEGIN:VTIMEZONE
TZID:UTC
BEGIN:STANDARD
TZOFFSETFROM:+0000
TZOFFSETTO:+0000
TZNAME:UTC
DTSTART:20230101T000000
END:STANDARD
END:VTIMEZONE
BEGIN:VEVENT
DTSTART;TZID=UTC:20241105T180000
DTEND;TZID=UTC:20241105T210000
DTSTAMP:20260422T222816
CREATED:20241025T152008Z
LAST-MODIFIED:20241025T152008Z
UID:32676-1730829600-1730840400@cfn.nsula.edu
SUMMARY:E-3h Adverse Childhood Experiences (ACES) (CDA 3)    Tuesday\, November 5    6:00 pm –9:00 pm
DESCRIPTION:E-3h Adverse Childhood Experiences (ACES) (CDA 3) \nEarly childhood is a critical period in brain development\, creating a foundation for development throughout life.
URL:http://cfn.nsula.edu/event/e-3h-adverse-childhood-experiences-aces-cda-3-tuesday-november-5-600-pm-900-pm/
LOCATION:NSU-CFN\, 1800 Warrington Place\, Shreveport\, LA\, 71101\, United States
ATTACH;FMTTYPE=image/jpeg:http://cfn.nsula.edu/wp-content/uploads/2024/10/E-3h-ACEs-e1729869556855.jpg
ORGANIZER;CN="Camille English":MAILTO:holmanc@nsula.edu
END:VEVENT
BEGIN:VEVENT
DTSTART;TZID=UTC:20241105T180000
DTEND;TZID=UTC:20241105T210000
DTSTAMP:20260422T222816
CREATED:20241025T153304Z
LAST-MODIFIED:20241025T153304Z
UID:32679-1730829600-1730840400@cfn.nsula.edu
SUMMARY:I-1i *HEALTH: Move it! Move it! Prevention of Obesity (CDA 1)   Tuesday\, November 5    6:00 pm –9:00 pm
DESCRIPTION:I-1i *HEALTH: Move it! Move it! Prevention of Obesity (CDA 1) \nLearn tips and resources for encouraging\, exercise\, and healthy eating habits to promote healthy lifestyles.
URL:http://cfn.nsula.edu/event/i-1i-health-move-it-move-it-prevention-of-obesity-cda-1-tuesday-november-5-600-pm-900-pm/
LOCATION:NSU-CFN\, 1800 Warrington Place\, Shreveport\, LA\, 71101\, United States
ATTACH;FMTTYPE=image/jpeg:http://cfn.nsula.edu/wp-content/uploads/2024/08/B-2e-e1724184159891.jpg
END:VEVENT
BEGIN:VEVENT
DTSTART;TZID=UTC:20241105T180000
DTEND;TZID=UTC:20241105T210000
DTSTAMP:20260422T222816
CREATED:20241025T192952Z
LAST-MODIFIED:20241025T194704Z
UID:32724-1730829600-1730840400@cfn.nsula.edu
SUMMARY:CPR/First Aid Adult & Pediatric   Tuesday\, November 5  6:00 pm –9:00pm
DESCRIPTION:CPR/First Aid Adult & Pediatric\nThe cost for a CPR class is $60 (Non-refundable or transferable).\nPlease register on the WLS first and then pay using this link for the class. https://bit.ly/3liH3Xs
URL:http://cfn.nsula.edu/event/cpr-first-aid-adult-pediatric-tuesday-november-5-600-pm-900pm/
LOCATION:NSU Cenla Campus\, England Airpark\, 1410 Neel Kearby Blvd.\, Alexandria\, LA\, 71303\, United States
ATTACH;FMTTYPE=image/jpeg:http://cfn.nsula.edu/wp-content/uploads/2024/08/CPR.jpg
END:VEVENT
BEGIN:VEVENT
DTSTART;TZID=UTC:20241105T180000
DTEND;TZID=UTC:20241105T210000
DTSTAMP:20260422T222816
CREATED:20241025T193632Z
LAST-MODIFIED:20241025T194737Z
UID:32726-1730829600-1730840400@cfn.nsula.edu
SUMMARY:B-2a Bravo for Books: Developing a Reading Center in Your Classroom (CDA 2)  Tuesday\, November 5   6:00 pm – 9:00 pm
DESCRIPTION:B-2a Bravo for Books: Developing a Reading Center in Your Classroom (CDA 2) \nLearn ways to create inexpensive new books and how to make stories come to life.
URL:http://cfn.nsula.edu/event/b-2a-bravo-for-books-developing-a-reading-center-in-your-classroom-cda-2-tuesday-november-5-600-pm-900-pm/
LOCATION:NSU Cenla Campus\, England Airpark\, 1410 Neel Kearby Blvd.\, Alexandria\, LA\, 71303\, United States
ATTACH;FMTTYPE=image/jpeg:http://cfn.nsula.edu/wp-content/uploads/2024/10/K-2CA.jpg
ORGANIZER;CN="Renee Normand":MAILTO:normandr@nsula.edu
END:VEVENT
BEGIN:VEVENT
DTSTART;TZID=UTC:20241105T180000
DTEND;TZID=UTC:20241105T210000
DTSTAMP:20260422T222816
CREATED:20241028T163234Z
LAST-MODIFIED:20241028T164903Z
UID:32742-1730829600-1730840400@cfn.nsula.edu
SUMMARY:CPR/First Aid Adult & Pediatric   Tuesday\, November 5  6:00 pm-9:00 pm
DESCRIPTION:CPR/First Aid Adult & Pediatric \nThe cost for a CPR class is $60 (Non-refundable or transferable). \nPlease register on the WLS first and then pay using this link for the class. https://bit.ly/3liH3Xs \n 
URL:http://cfn.nsula.edu/event/cpr-first-aid-adult-pediatric-tuesday-november-5-600-pm-900-pm/
LOCATION:NSU-CFN\, 1800 Warrington Place\, Shreveport\, LA\, 71101\, United States
ATTACH;FMTTYPE=image/jpeg:http://cfn.nsula.edu/wp-content/uploads/2024/10/CPR.jpg
END:VEVENT
END:VCALENDAR