BEGIN:VCALENDAR
VERSION:2.0
PRODID:-//NSU Child and Family Network - ECPv6.15.20//NONSGML v1.0//EN
CALSCALE:GREGORIAN
METHOD:PUBLISH
X-ORIGINAL-URL:http://cfn.nsula.edu
X-WR-CALDESC:Events for NSU Child and Family Network
REFRESH-INTERVAL;VALUE=DURATION:PT1H
X-Robots-Tag:noindex
X-PUBLISHED-TTL:PT1H
BEGIN:VTIMEZONE
TZID:UTC
BEGIN:STANDARD
TZOFFSETFROM:+0000
TZOFFSETTO:+0000
TZNAME:UTC
DTSTART:20230101T000000
END:STANDARD
END:VTIMEZONE
BEGIN:VEVENT
DTSTART;TZID=UTC:20241026T090000
DTEND;TZID=UTC:20241026T120000
DTSTAMP:20260422T222817
CREATED:20241016T154905Z
LAST-MODIFIED:20241016T212815Z
UID:32626-1729933200-1729944000@cfn.nsula.edu
SUMMARY:E-2c It's Not Just "Row\, Row\, Row Your Boat" Anymore! (CDA 2)   Saturday\, October 26   9:00 am –12:00 pm
DESCRIPTION:E-2c It’s Not Just “Row\, Row\, Row Your Boat” Anymore! (CDA 2)\nNeed some fun music activities to use with your children? Learn many great ideas!
URL:http://cfn.nsula.edu/event/e-2c-its-not-just-row-row-row-your-boat-anymore-cda-2-saturday-october-26-900-am-1200-pm/
LOCATION:NSU-CFN\, 1800 Warrington Place\, Shreveport\, LA\, 71101\, United States
ATTACH;FMTTYPE=image/jpeg:http://cfn.nsula.edu/wp-content/uploads/2024/10/E-2c-Row.jpg
END:VEVENT
BEGIN:VEVENT
DTSTART;TZID=UTC:20241026T090000
DTEND;TZID=UTC:20241026T120000
DTSTAMP:20260422T222817
CREATED:20241016T211332Z
LAST-MODIFIED:20241016T211332Z
UID:32663-1729933200-1729944000@cfn.nsula.edu
SUMMARY:B-1d *HEALTH: Medication Administration (CDA 1) (ADM 1)    Saturday\, October 26   9:00 am –12:00 pm
DESCRIPTION:B-1d *HEALTH: Medication Administration (CDA 1) (ADM 1)\nThis session meets the medication\, EpiPen\, and health training requirements! \nTrainer: Ree Warren
URL:http://cfn.nsula.edu/event/b-1d-health-medication-administration-cda-1-adm-1-saturday-october-26-900-am-1200-pm-2/
LOCATION:NSU Cenla Campus\, England Airpark\, 1410 Neel Kearby Blvd.\, Alexandria\, LA\, 71303\, United States
ATTACH;FMTTYPE=image/jpeg:http://cfn.nsula.edu/wp-content/uploads/2024/10/B-1d-Medication.jpg
END:VEVENT
BEGIN:VEVENT
DTSTART;TZID=UTC:20241026T090000
DTEND;TZID=UTC:20241026T140000
DTSTAMP:20260422T222817
CREATED:20241016T144857Z
LAST-MODIFIED:20241016T150138Z
UID:32612-1729933200-1729951200@cfn.nsula.edu
SUMMARY:B-1d *HEALTH: Medication Administration (CDA 1) (ADM 1)   Saturday\, October 26   9:00 am – 12:00 pm
DESCRIPTION:B-1d *HEALTH: Medication Administration (CDA 1) (ADM 1)                        This session meets the medication\, EpiPen\, and health training requirements!
URL:http://cfn.nsula.edu/event/b-1d-health-medication-administration-cda-1-adm-1-saturday-october-26-900-am-1200-pm/
LOCATION:NSU-CFN\, 1800 Warrington Place\, Shreveport\, LA\, 71101\, United States
ATTACH;FMTTYPE=image/jpeg:http://cfn.nsula.edu/wp-content/uploads/2024/05/Med-Admin.jpg
END:VEVENT
BEGIN:VEVENT
DTSTART;TZID=UTC:20241026T130000
DTEND;TZID=UTC:20241026T160000
DTSTAMP:20260422T222817
CREATED:20241016T160127Z
LAST-MODIFIED:20241016T192355Z
UID:32632-1729947600-1729958400@cfn.nsula.edu
SUMMARY:B-1h *HEALTH: Serve Safe Module II (CDA 1) (ADM 4)   Saturday\, October 26   1:00 pm – 4:00 pm
DESCRIPTION:B-1h *HEALTH: Serve Safe Module II (CDA 1) (ADM 4)\nLearn how to provide a sanitary and safe food service program and avoid food-borne illnesses.\nNOTE: This is an afternoon session!
URL:http://cfn.nsula.edu/event/b-1h-health-serve-safe-module-ii-cda-1-adm-4-saturday-october-26-100-pm-400-pm/
LOCATION:NSU-CFN\, 1800 Warrington Place\, Shreveport\, LA\, 71101\, United States
ATTACH;FMTTYPE=image/jpeg:http://cfn.nsula.edu/wp-content/uploads/2024/05/B-1h.jpg
END:VEVENT
BEGIN:VEVENT
DTSTART;TZID=UTC:20241026T130000
DTEND;TZID=UTC:20241026T160000
DTSTAMP:20260422T222817
CREATED:20241016T194711Z
LAST-MODIFIED:20241016T195147Z
UID:32641-1729947600-1729958400@cfn.nsula.edu
SUMMARY:E-6b Children on Loan: How to Love\, Teach\, and Enjoy Them (CDA 6)    Saturday\, October 26   1:00 pm – 4:00 pm
DESCRIPTION:E-6b Children on Loan: How to Love\, Teach\, and Enjoy Them (CDA 6)\nOur temporary role in the lives of children is to affirm and validate them by showing them love and respect. \nNOTE: This is an afternoon session!
URL:http://cfn.nsula.edu/event/e-6b-children-on-loan-how-to-love-teach-and-enjoy-them-cda-6-saturday-october-26-100-pm-400-pm/
LOCATION:NSU-CFN\, 1800 Warrington Place\, Shreveport\, LA\, 71101\, United States
ATTACH;FMTTYPE=image/jpeg:http://cfn.nsula.edu/wp-content/uploads/2024/10/I-3e.jpg
END:VEVENT
BEGIN:VEVENT
DTSTART;TZID=UTC:20241026T130000
DTEND;TZID=UTC:20241026T160000
DTSTAMP:20260422T222817
CREATED:20241016T211807Z
LAST-MODIFIED:20241016T211807Z
UID:32666-1729947600-1729958400@cfn.nsula.edu
SUMMARY:B-1m *HEALTH: Preparing Child Care Programs for Pandemic Influenza (CDA 1)    Saturday\, October 26   1:00 pm – 4:00 pm
DESCRIPTION:B-1m *HEALTH: Preparing Child Care Programs for Pandemic Influenza (CDA 1)\nWhat can you do to avoid being infected and what strategies can be used in early learning settings? \nNOTE: This is an afternoon session
URL:http://cfn.nsula.edu/event/b-1m-health-preparing-child-care-programs-for-pandemic-influenza-cda-1-saturday-october-26-100-pm-400-pm/
LOCATION:NSU Cenla Campus\, England Airpark\, 1410 Neel Kearby Blvd.\, Alexandria\, LA\, 71303\, United States
ATTACH;FMTTYPE=image/jpeg:http://cfn.nsula.edu/wp-content/uploads/2024/07/B-1m-1-e1724338182604.jpg
END:VEVENT
END:VCALENDAR