BEGIN:VCALENDAR
VERSION:2.0
PRODID:-//NSU Child and Family Network - ECPv6.15.20//NONSGML v1.0//EN
CALSCALE:GREGORIAN
METHOD:PUBLISH
X-ORIGINAL-URL:http://cfn.nsula.edu
X-WR-CALDESC:Events for NSU Child and Family Network
REFRESH-INTERVAL;VALUE=DURATION:PT1H
X-Robots-Tag:noindex
X-PUBLISHED-TTL:PT1H
BEGIN:VTIMEZONE
TZID:UTC
BEGIN:STANDARD
TZOFFSETFROM:+0000
TZOFFSETTO:+0000
TZNAME:UTC
DTSTART:20230101T000000
END:STANDARD
END:VTIMEZONE
BEGIN:VEVENT
DTSTART;TZID=UTC:20241022T180000
DTEND;TZID=UTC:20241022T210000
DTSTAMP:20260422T222817
CREATED:20241015T211201Z
LAST-MODIFIED:20241016T152524Z
UID:32606-1729620000-1729630800@cfn.nsula.edu
SUMMARY:E-4c Supportive Responses to Troubled Parent-Child Interactions (CDA 4)  Tuesday\, October 22   6:00 pm –9:00 pm
DESCRIPTION:E-4c Supportive Responses to Troubled Parent-Child Interactions (CDA 4) Help parents strengthen the connection with parent-child interactions.
URL:http://cfn.nsula.edu/event/e-4c-supportive-responses-to-troubled-parent-child-interactions-cda-4-tuesday-october-22-600-pm-900-pm/
LOCATION:NSU-CFN\, 1800 Warrington Place\, Shreveport\, LA\, 71101\, United States
ATTACH;FMTTYPE=image/jpeg:http://cfn.nsula.edu/wp-content/uploads/2024/10/E-4b-Welcome-Families-1.jpeg
ORGANIZER;CN="Camille English":MAILTO:holmanc@nsula.edu
END:VEVENT
BEGIN:VEVENT
DTSTART;TZID=UTC:20241022T180000
DTEND;TZID=UTC:20241022T210000
DTSTAMP:20260422T222817
CREATED:20241016T204838Z
LAST-MODIFIED:20241016T205606Z
UID:32653-1729620000-1729630800@cfn.nsula.edu
SUMMARY:CPR/First Aid Adult & Pediatric   Tuesday\, October 22   6:00 pm –9:00pm
DESCRIPTION:CPR/First Aid Adult & Pediatric\nThe cost for a CPR class is $60 (Non-refundable or transferable).\nPlease register on the WLS first and then pay using this link for the class. https://bit.ly/3liH3Xs
URL:http://cfn.nsula.edu/event/cpr-first-aid-adult-pediatric-tuesday-october-22-600-pm-900pm/
LOCATION:NSU Cenla Campus\, England Airpark\, 1410 Neel Kearby Blvd.\, Alexandria\, LA\, 71303\, United States
ATTACH;FMTTYPE=image/jpeg:http://cfn.nsula.edu/wp-content/uploads/2024/08/CPR.jpg
END:VEVENT
BEGIN:VEVENT
DTSTART;TZID=UTC:20241022T180000
DTEND;TZID=UTC:20241022T210000
DTSTAMP:20260422T222817
CREATED:20241016T205856Z
LAST-MODIFIED:20241016T210338Z
UID:32656-1729620000-1729630800@cfn.nsula.edu
SUMMARY:B-3b Avoid Behavior Problems-Teach Self-Control (CDA 3)    Tuesday\, October 22   6:00 pm – 9:00 pm
DESCRIPTION:B-3b Avoid Behavior Problems-Teach Self-Control (CDA 3)\nHow can you help children learn self-control skills? \n 
URL:http://cfn.nsula.edu/event/b-3b-avoid-behavior-problems-teach-self-control-cda-3-tuesday-october-22-2024-600-pm-900-pm/
LOCATION:NSU Cenla Campus\, England Airpark\, 1410 Neel Kearby Blvd.\, Alexandria\, LA\, 71303\, United States
ATTACH;FMTTYPE=image/jpeg:http://cfn.nsula.edu/wp-content/uploads/2024/10/E-3h-002.jpg
ORGANIZER;CN="Renee Normand":MAILTO:normandr@nsula.edu
END:VEVENT
END:VCALENDAR