BEGIN:VCALENDAR
VERSION:2.0
PRODID:-//NSU Child and Family Network - ECPv6.15.20//NONSGML v1.0//EN
CALSCALE:GREGORIAN
METHOD:PUBLISH
X-ORIGINAL-URL:http://cfn.nsula.edu
X-WR-CALDESC:Events for NSU Child and Family Network
REFRESH-INTERVAL;VALUE=DURATION:PT1H
X-Robots-Tag:noindex
X-PUBLISHED-TTL:PT1H
BEGIN:VTIMEZONE
TZID:UTC
BEGIN:STANDARD
TZOFFSETFROM:+0000
TZOFFSETTO:+0000
TZNAME:UTC
DTSTART:20230101T000000
END:STANDARD
END:VTIMEZONE
BEGIN:VEVENT
DTSTART;TZID=UTC:20241015T180000
DTEND;TZID=UTC:20241015T210000
DTSTAMP:20260422T223713
CREATED:20241015T155021Z
LAST-MODIFIED:20241015T161128Z
UID:32586-1729015200-1729026000@cfn.nsula.edu
SUMMARY:CPR/First Aid Adult & Pediatric    Tuesday\, October 15\, 6:00 pm – 9:00 pm
DESCRIPTION:   The cost for a CPR class is $60 (Non-refundable or transferable).\n    Please register on the WLS first and then pay using this link for the class. https://bit.ly/3liH3Xs
URL:http://cfn.nsula.edu/event/cpr-first-aid-adult-pediatric-tuesday-october-15-600-pm-900-pm/
LOCATION:NSU Teacher Education Center (TEC) Room 105C\, Sam Sibley Road\, Natchitoches\, LA\, 71457
END:VEVENT
BEGIN:VEVENT
DTSTART;TZID=UTC:20241015T180000
DTEND;TZID=UTC:20241015T210000
DTSTAMP:20260422T223713
CREATED:20241015T161751Z
LAST-MODIFIED:20241015T162124Z
UID:32594-1729015200-1729026000@cfn.nsula.edu
SUMMARY:I-3c Guidance for Children of All Ages (CDA 3)   Tuesday\, October 15     6:00 pm – 9:00 pm
DESCRIPTION:Learn positive guidance techniques\, preventive measures\, and tools for behavior management \n 
URL:http://cfn.nsula.edu/event/i-3c-guidance-for-children-of-all-ages-cda-3-tuesday-october-15-600-pm-900-pm/
LOCATION:NSU Teacher Education Center (TEC) Room 105C\, Sam Sibley Road\, Natchitoches\, LA\, 71457
ATTACH;FMTTYPE=image/png:http://cfn.nsula.edu/wp-content/uploads/2024/10/E-3b.png
END:VEVENT
BEGIN:VEVENT
DTSTART;TZID=UTC:20241015T180000
DTEND;TZID=UTC:20241015T210000
DTSTAMP:20260422T223713
CREATED:20241015T204805Z
LAST-MODIFIED:20241015T204805Z
UID:32599-1729015200-1729026000@cfn.nsula.edu
SUMMARY:B-1h *HEALTH: Serve Safe Module II (CDA 1) (ADM 4)  Tuesday\, October 15    6:00 pm – 9:00 pm
DESCRIPTION:Learn how to provide a sanitary and safe food service program and avoid food-borne illnesses.
URL:http://cfn.nsula.edu/event/b-1h-health-serve-safe-module-ii-cda-1-adm-4-tuesday-october-15-600-pm-900-pm/
LOCATION:NSU Webinar\, 1800 Warrington Place\, Shreveport\, LA\, 71101\, United States
ATTACH;FMTTYPE=image/jpeg:http://cfn.nsula.edu/wp-content/uploads/2024/10/B-1h-SS.jpg
END:VEVENT
END:VCALENDAR