BEGIN:VCALENDAR
VERSION:2.0
PRODID:-//NSU Child and Family Network - ECPv6.15.20//NONSGML v1.0//EN
CALSCALE:GREGORIAN
METHOD:PUBLISH
X-ORIGINAL-URL:http://cfn.nsula.edu
X-WR-CALDESC:Events for NSU Child and Family Network
REFRESH-INTERVAL;VALUE=DURATION:PT1H
X-Robots-Tag:noindex
X-PUBLISHED-TTL:PT1H
BEGIN:VTIMEZONE
TZID:UTC
BEGIN:STANDARD
TZOFFSETFROM:+0000
TZOFFSETTO:+0000
TZNAME:UTC
DTSTART:20230101T000000
END:STANDARD
END:VTIMEZONE
BEGIN:VEVENT
DTSTART;TZID=UTC:20240928T010000
DTEND;TZID=UTC:20240928T160000
DTSTAMP:20260422T235813
CREATED:20240820T204518Z
LAST-MODIFIED:20240826T203535Z
UID:32473-1727485200-1727539200@cfn.nsula.edu
SUMMARY:I-1h *HEALTH: Shaken Baby Syndrome\, SUIDS\, and Other Infant Safety Issues (CDA 1) (ADM 1)  Saturday\, September 28\,  1:00 pm – 4:00 pm
DESCRIPTION:NOTE:  THIS IS AN AFTERNOON SESSION \nCreating safe sleep and play environments for infants is essential to protect infants in our care \n  \n  \n 
URL:http://cfn.nsula.edu/event/i-1h-health-shaken-baby-syndrome-suids-and-other-infant-safety-issues-cda-1-adm-1-saturday-september-28-100-pm-400-pm/
LOCATION:NSU-CFN\, 1800 Warrington Place\, Shreveport\, LA\, 71101\, United States
ATTACH;FMTTYPE=image/jpeg:http://cfn.nsula.edu/wp-content/uploads/2024/08/I-1h-SUIDS.jpg
END:VEVENT
BEGIN:VEVENT
DTSTART;TZID=UTC:20240928T090000
DTEND;TZID=UTC:20240928T120000
DTSTAMP:20260422T235813
CREATED:20240820T201927Z
LAST-MODIFIED:20240820T201927Z
UID:32462-1727514000-1727524800@cfn.nsula.edu
SUMMARY:B-1h *HEALTH: Serve Safe Module II (CDA 1) (ADM 4)   Saturday\, September 28\,  9:00 am –12:00 pm
DESCRIPTION:Learn how to provide a sanitary and safe food service program and avoid food-borne illnesses \n  \n 
URL:http://cfn.nsula.edu/event/b-1h-health-serve-safe-module-ii-cda-1-adm-4-saturday-september-28-900-am-1200-pm/
LOCATION:NSU-CFN\, 1800 Warrington Place\, Shreveport\, LA\, 71101\, United States
ATTACH;FMTTYPE=image/jpeg:http://cfn.nsula.edu/wp-content/uploads/2024/07/B-1h-e1724184957183.jpg
END:VEVENT
BEGIN:VEVENT
DTSTART;TZID=UTC:20240928T090000
DTEND;TZID=UTC:20240928T120000
DTSTAMP:20260422T235813
CREATED:20240820T203549Z
LAST-MODIFIED:20240820T204103Z
UID:32466-1727514000-1727524800@cfn.nsula.edu
SUMMARY:W-5v Staff Orientation: Getting Off to the Right Start (CDA 5) (ADM 3)   Saturday\, September 28\,  9:00 am – 12:00 pm
DESCRIPTION:Covers the following topics to be met within 7 employment days and 30 employment days \n  \n  \n 
URL:http://cfn.nsula.edu/event/w-5v-staff-orientation-getting-off-to-the-right-start-cda-5-adm-3-saturday-september-28-900-am-1200-pm/
LOCATION:NSU-CFN\, 1800 Warrington Place\, Shreveport\, LA\, 71101\, United States
ATTACH;FMTTYPE=image/jpeg:http://cfn.nsula.edu/wp-content/uploads/2024/08/W-5v-Staff-OrientationPicture1-e1724186111915.jpg
END:VEVENT
BEGIN:VEVENT
DTSTART;TZID=UTC:20240928T130000
DTEND;TZID=UTC:20240928T160000
DTSTAMP:20260422T235813
CREATED:20240820T211815Z
LAST-MODIFIED:20240826T203718Z
UID:32476-1727528400-1727539200@cfn.nsula.edu
SUMMARY:B-6a R-E-S-P-E-C-T (CDA 6) (ADM 5)   Saturday\, September 28\, 1:00 pm – 4:00 pm
DESCRIPTION:NOTE:  THIS IS AN AFTERNOON SESSION \nExplore how to achieve and help others achieve professionalism with colleagues\, families\, and children. \n  \n  \n 
URL:http://cfn.nsula.edu/event/b-6a-r-e-s-p-e-c-t-cda-6-adm-5-saturday-september-28-100-pm-400-pm/
LOCATION:NSU-CFN\, 1800 Warrington Place\, Shreveport\, LA\, 71101\, United States
ATTACH;FMTTYPE=image/jpeg:http://cfn.nsula.edu/wp-content/uploads/2024/04/B-4a-Building-positive-Relatinships-e1724188581316.jpg
END:VEVENT
END:VCALENDAR