BEGIN:VCALENDAR
VERSION:2.0
PRODID:-//NSU Child and Family Network - ECPv6.15.20//NONSGML v1.0//EN
CALSCALE:GREGORIAN
METHOD:PUBLISH
X-ORIGINAL-URL:http://cfn.nsula.edu
X-WR-CALDESC:Events for NSU Child and Family Network
REFRESH-INTERVAL;VALUE=DURATION:PT1H
X-Robots-Tag:noindex
X-PUBLISHED-TTL:PT1H
BEGIN:VTIMEZONE
TZID:UTC
BEGIN:STANDARD
TZOFFSETFROM:+0000
TZOFFSETTO:+0000
TZNAME:UTC
DTSTART:20230101T000000
END:STANDARD
END:VTIMEZONE
BEGIN:VEVENT
DTSTART;TZID=UTC:20240919T180000
DTEND;TZID=UTC:20240919T210000
DTSTAMP:20260422T235812
CREATED:20240820T194803Z
LAST-MODIFIED:20240823T144333Z
UID:32452-1726768800-1726779600@cfn.nsula.edu
SUMMARY:E-8c Make it Playable: Recognizing the Strengths of Young Children (CDA 8) Thursday\, September 19  6:00 pm – 9:00 pm
DESCRIPTION:  \n  \n  \nCome to a make and take session on the inclusion of all children in the child care setting \n  \n  \n 
URL:http://cfn.nsula.edu/event/e-8c-make-it-playable-recognizing-the-strengths-of-young-children-cda-8-thursday-september-19-600-pm-900-pm/
LOCATION:NSU-CFN\, 1800 Warrington Place\, Shreveport\, LA\, 71101\, United States
ATTACH;FMTTYPE=image/jpeg:http://cfn.nsula.edu/wp-content/uploads/2024/07/E-7c-Class-e1724424137129.jpg
ORGANIZER;CN="Camille English":MAILTO:holmanc@nsula.edu
END:VEVENT
BEGIN:VEVENT
DTSTART;TZID=UTC:20240919T180000
DTEND;TZID=UTC:20240919T210000
DTSTAMP:20260422T235812
CREATED:20240820T212621Z
LAST-MODIFIED:20240820T212621Z
UID:32486-1726768800-1726779600@cfn.nsula.edu
SUMMARY:CPR/First Aid Adult & Pediatric   Thursday\, September 19\, 6:00 pm –9:00pm
DESCRIPTION:The cost for a CPR class is $60 (Non-refundable or transferable). \nPlease register on the WLS first and then pay using this link for the class. https://bit.ly/3liH3Xs \n  \n  \n 
URL:http://cfn.nsula.edu/event/cpr-first-aid-adult-pediatric-thursday-september-19-600-pm-900pm/
LOCATION:NSU Cenla Campus\, England Airpark\, 1410 Neel Kearby Blvd.\, Alexandria\, LA\, 71303\, United States
ATTACH;FMTTYPE=image/jpeg:http://cfn.nsula.edu/wp-content/uploads/2024/08/CPR.jpg
END:VEVENT
BEGIN:VEVENT
DTSTART;TZID=UTC:20240919T180000
DTEND;TZID=UTC:20240919T210000
DTSTAMP:20260422T235812
CREATED:20240820T213020Z
LAST-MODIFIED:20240820T213020Z
UID:32488-1726768800-1726779600@cfn.nsula.edu
SUMMARY:I-3e Stop it Before it Starts! Preventing Violent Behavior (CDA 3)  Thursday\, September 19\, 6:00 pm –9:00 pm
DESCRIPTION:Discuss ways to teach children conflict resolution and peaceful solutions \n  \n 
URL:http://cfn.nsula.edu/event/i-3e-stop-it-before-it-starts-preventing-violent-behavior-cda-3-thursday-september-19-600-pm-900-pm/
LOCATION:NSU Cenla Campus\, England Airpark\, 1410 Neel Kearby Blvd.\, Alexandria\, LA\, 71303\, United States
ATTACH;FMTTYPE=image/jpeg:http://cfn.nsula.edu/wp-content/uploads/2024/08/I-3e-1-e1724189377530.jpg
ORGANIZER;CN="Renee Normand":MAILTO:normandr@nsula.edu
END:VEVENT
END:VCALENDAR