BEGIN:VCALENDAR
VERSION:2.0
PRODID:-//NSU Child and Family Network - ECPv6.15.20//NONSGML v1.0//EN
CALSCALE:GREGORIAN
METHOD:PUBLISH
X-ORIGINAL-URL:http://cfn.nsula.edu
X-WR-CALDESC:Events for NSU Child and Family Network
REFRESH-INTERVAL;VALUE=DURATION:PT1H
X-Robots-Tag:noindex
X-PUBLISHED-TTL:PT1H
BEGIN:VTIMEZONE
TZID:UTC
BEGIN:STANDARD
TZOFFSETFROM:+0000
TZOFFSETTO:+0000
TZNAME:UTC
DTSTART:20230101T000000
END:STANDARD
END:VTIMEZONE
BEGIN:VEVENT
DTSTART;TZID=UTC:20240914T090000
DTEND;TZID=UTC:20240914T120000
DTSTAMP:20260422T235812
CREATED:20240725T194551Z
LAST-MODIFIED:20240807T135321Z
UID:32291-1726304400-1726315200@cfn.nsula.edu
SUMMARY:S-5d Frog Street PreK 4 old Curriculum (CDA 5)   Saturday\, September 14\,   9:00 am – 12:00 pm
DESCRIPTION:  \n Teachers will be guided with implementation of lesson plans and developing questions and interactions as rated in the CLASS tool. \nYou must already have the curriculum to attend \n 
URL:http://cfn.nsula.edu/event/s-5d-frog-street-prek-4-old-curriculum-cda-5-saturday-september-14-900-am-1200-pm/
LOCATION:NSU-CFN\, 1800 Warrington Place\, Shreveport\, LA\, 71101\, United States
ATTACH;FMTTYPE=image/jpeg:http://cfn.nsula.edu/wp-content/uploads/2024/07/S-5d-003-e1723038667342.jpg
END:VEVENT
BEGIN:VEVENT
DTSTART;TZID=UTC:20240914T090000
DTEND;TZID=UTC:20240914T120000
DTSTAMP:20260422T235812
CREATED:20240820T145347Z
LAST-MODIFIED:20240820T145347Z
UID:32438-1726304400-1726315200@cfn.nsula.edu
SUMMARY:S-5j Implementing Curriculum-PreK- Frog Street (CDA 5)(ADM 6)
DESCRIPTION:Frog St Implementing Curriculum- PreK – you need to have the curriculum to take this class. \n 
URL:http://cfn.nsula.edu/event/s-5j-implementing-curriculum-prek-frog-street-cda-5adm-6/
LOCATION:NSU-CFN\, 1800 Warrington Place\, Shreveport\, LA\, 71101\, United States
ATTACH;FMTTYPE=image/jpeg:http://cfn.nsula.edu/wp-content/uploads/2024/08/B-1g-infants-playing-on-floor-in-child-care-e1724165457472.jpg
END:VEVENT
BEGIN:VEVENT
DTSTART;TZID=UTC:20240914T090000
DTEND;TZID=UTC:20240914T120000
DTSTAMP:20260422T235812
CREATED:20240820T145727Z
LAST-MODIFIED:20240820T145727Z
UID:32442-1726304400-1726315200@cfn.nsula.edu
SUMMARY:B-1d *HEALTH: Medication Administration (CDA 1) (ADM 1)  Saturday\, September 14\,  9:00 am – 12:00 pm
DESCRIPTION:This session meets the medication\, EpiPen\, and health training requirements!  \n  \n 
URL:http://cfn.nsula.edu/event/b-1d-health-medication-administration-cda-1-adm-1-saturday-september-14-900-am-1200-pm/
LOCATION:NSU-CFN\, 1800 Warrington Place\, Shreveport\, LA\, 71101\, United States
ATTACH;FMTTYPE=image/jpeg:http://cfn.nsula.edu/wp-content/uploads/2024/04/B-1d-Medication.jpg
END:VEVENT
BEGIN:VEVENT
DTSTART;TZID=UTC:20240914T090000
DTEND;TZID=UTC:20240914T120000
DTSTAMP:20260422T235812
CREATED:20240823T142808Z
LAST-MODIFIED:20240823T142808Z
UID:32508-1726304400-1726315200@cfn.nsula.edu
SUMMARY:S-5j Implementing Curriculum-PreK- Frog Street (CDA 5)(ADM 6)  Saturday\, September 14\, 9:00 am – 12:00 pm
DESCRIPTION:  \n  \n  \nFrog St Implementing Curriculum- PreK – you need to have the curriculum to take this class.
URL:http://cfn.nsula.edu/event/s-5j-implementing-curriculum-prek-frog-street-cda-5adm-6-saturday-september-14-900-am-1200-pm/
LOCATION:NSU-CFN\, 1800 Warrington Place\, Shreveport\, LA\, 71101\, United States
END:VEVENT
END:VCALENDAR