BEGIN:VCALENDAR
VERSION:2.0
PRODID:-//NSU Child and Family Network - ECPv6.15.20//NONSGML v1.0//EN
CALSCALE:GREGORIAN
METHOD:PUBLISH
X-ORIGINAL-URL:http://cfn.nsula.edu
X-WR-CALDESC:Events for NSU Child and Family Network
REFRESH-INTERVAL;VALUE=DURATION:PT1H
X-Robots-Tag:noindex
X-PUBLISHED-TTL:PT1H
BEGIN:VTIMEZONE
TZID:UTC
BEGIN:STANDARD
TZOFFSETFROM:+0000
TZOFFSETTO:+0000
TZNAME:UTC
DTSTART:20230101T000000
END:STANDARD
END:VTIMEZONE
BEGIN:VEVENT
DTSTART;TZID=UTC:20240910T180000
DTEND;TZID=UTC:20240910T210000
DTSTAMP:20260422T235812
CREATED:20240820T140311Z
LAST-MODIFIED:20240820T140311Z
UID:32432-1725991200-1726002000@cfn.nsula.edu
SUMMARY:B-1h *HEALTH: Serve Safe Module II (CDA 1) (ADM 4) Tuesday\, September 10\,  6:00 pm - 9:00 pm
DESCRIPTION:Learn how to provide a sanitary and safe food service program and avoid food-borne illnesses \n  \n 
URL:http://cfn.nsula.edu/event/b-1h-health-serve-safe-module-ii-cda-1-adm-4-tuesday-september-10-600-pm-900-pm/
LOCATION:NSU-CFN\, 1800 Warrington Place\, Shreveport\, LA\, 71101\, United States
ATTACH;FMTTYPE=image/jpeg:http://cfn.nsula.edu/wp-content/uploads/2024/05/B-1h-ServeSafe-HEALTH.jpg
END:VEVENT
BEGIN:VEVENT
DTSTART;TZID=UTC:20240910T180000
DTEND;TZID=UTC:20240910T210000
DTSTAMP:20260422T235812
CREATED:20240820T141810Z
LAST-MODIFIED:20240820T141810Z
UID:32434-1725991200-1726002000@cfn.nsula.edu
SUMMARY:B-3a Top 10 Ways to Support Social and Emotional Development (CDA 3)  Tuesday\, September 10\,   6:00 pm – 9:00 pm
DESCRIPTION:Discuss how to foster children’s social/emotional development\, self-esteem\, and independence. \n  \n 
URL:http://cfn.nsula.edu/event/b-3a-top-10-ways-to-support-social-and-emotional-development-cda-3-tuesday-september-10-600-pm-900-pm/
LOCATION:NSU-CFN\, 1800 Warrington Place\, Shreveport\, LA\, 71101\, United States
ATTACH;FMTTYPE=image/jpeg:http://cfn.nsula.edu/wp-content/uploads/2024/08/B-3a-e1724163160270.jpg
ORGANIZER;CN="Mary Bond":MAILTO:bondm@nsula.edu
END:VEVENT
END:VCALENDAR