BEGIN:VCALENDAR
VERSION:2.0
PRODID:-//NSU Child and Family Network - ECPv6.15.20//NONSGML v1.0//EN
CALSCALE:GREGORIAN
METHOD:PUBLISH
X-WR-CALNAME:NSU Child and Family Network
X-ORIGINAL-URL:http://cfn.nsula.edu
X-WR-CALDESC:Events for NSU Child and Family Network
REFRESH-INTERVAL;VALUE=DURATION:PT1H
X-Robots-Tag:noindex
X-PUBLISHED-TTL:PT1H
BEGIN:VTIMEZONE
TZID:UTC
BEGIN:STANDARD
TZOFFSETFROM:+0000
TZOFFSETTO:+0000
TZNAME:UTC
DTSTART:20230101T000000
END:STANDARD
END:VTIMEZONE
BEGIN:VEVENT
DTSTART;TZID=UTC:20240827T180000
DTEND;TZID=UTC:20240827T210000
DTSTAMP:20260423T001006
CREATED:20240723T163901Z
LAST-MODIFIED:20240826T202505Z
UID:32220-1724781600-1724792400@cfn.nsula.edu
SUMMARY:E-1g Enriching Play Experiences (CDA 1)   Tuesday\, August 27   6:00 pm – 9:00 pm
DESCRIPTION:        \nDiscover strategies to enhance learning through age-appropriate\, creative play
URL:http://cfn.nsula.edu/event/e-1g-enriching-play-experiences-cda-1-tuesday-august-27-600-pm-900-pm/
LOCATION:NSU-CFN\, 1800 Warrington Place\, Shreveport\, LA\, 71101\, United States
ATTACH;FMTTYPE=image/jpeg:http://cfn.nsula.edu/wp-content/uploads/2024/07/E-1e-Healthy-Child.jpeg
ORGANIZER;CN="Camille English":MAILTO:holmanc@nsula.edu
END:VEVENT
BEGIN:VEVENT
DTSTART;TZID=UTC:20240827T180000
DTEND;TZID=UTC:20240827T210000
DTSTAMP:20260423T001006
CREATED:20240723T170157Z
LAST-MODIFIED:20240807T132704Z
UID:32225-1724781600-1724792400@cfn.nsula.edu
SUMMARY:E-1j *HEALTH: What Bugs Are Bugging Your Children?   Tuesday\, August 27\,   6:00 pm - 9:00 pm
DESCRIPTION:Identify those creepy crawlies and learn how to eradicate them!!!
URL:http://cfn.nsula.edu/event/e-1j-health-what-bugs-are-bugging-your-children-tuesday-august-27-600-pm-900-pm/
LOCATION:NSU-CFN\, 1800 Warrington Place\, Shreveport\, LA\, 71101\, United States
ATTACH;FMTTYPE=image/jpeg:http://cfn.nsula.edu/wp-content/uploads/2024/04/E-1j-e1723037210956.jpg
END:VEVENT
BEGIN:VEVENT
DTSTART;TZID=UTC:20240827T180000
DTEND;TZID=UTC:20240827T210000
DTSTAMP:20260423T001006
CREATED:20240723T170542Z
LAST-MODIFIED:20240807T133026Z
UID:32228-1724781600-1724792400@cfn.nsula.edu
SUMMARY:E-3b There's Gotta be a Better Way: Discipline that Works! (CDA 3)   Tuesday\, August 27\,     6:00 pm - 9:00 pm
DESCRIPTION:Learn tried and tested techniques for setting limits and fostering self-control.
URL:http://cfn.nsula.edu/event/e-3b-theres-gotta-be-a-better-way-discipline-that-works-cda-3-tuesday-august-27-600-pm-900-pm/
LOCATION:NSU-CFN\, 1800 Warrington Place\, Shreveport\, LA\, 71101\, United States
ATTACH;FMTTYPE=image/jpeg:http://cfn.nsula.edu/wp-content/uploads/2024/02/E-3h-002-e1723037417211.jpg
ORGANIZER;CN="Mary Bond":MAILTO:bondm@nsula.edu
END:VEVENT
BEGIN:VEVENT
DTSTART;TZID=UTC:20240827T180000
DTEND;TZID=UTC:20240827T210000
DTSTAMP:20260423T001006
CREATED:20240723T171547Z
LAST-MODIFIED:20240826T204211Z
UID:32238-1724781600-1724792400@cfn.nsula.edu
SUMMARY:CPR/First Aid Adult & Pediatric    Tuesday\, August 27\, 6:00 pm –9:00 pm
DESCRIPTION:CPR/First Aid \nThe cost for a CPR class is $60 (Non-refundable or transferable).\nPlease register on the WLS first and then pay using this link for the class. https://bit.ly/3liH3Xs
URL:http://cfn.nsula.edu/event/cpr-first-aid-adult-pediatric-tuesday-august-27-600-pm-900-pm/
LOCATION:NSU Cenla Campus\, England Airpark\, 1410 Neel Kearby Blvd.\, Alexandria\, LA\, 71303\, United States
ATTACH;FMTTYPE=image/png:http://cfn.nsula.edu/wp-content/uploads/2024/07/CPRFA2-e1723037724555.png
END:VEVENT
BEGIN:VEVENT
DTSTART;TZID=UTC:20240827T180000
DTEND;TZID=UTC:20240827T210000
DTSTAMP:20260423T001006
CREATED:20240723T172150Z
LAST-MODIFIED:20240807T134001Z
UID:32240-1724781600-1724792400@cfn.nsula.edu
SUMMARY:E-3b There's Gotta be a Better Way: Discipline that Works! (CDA 3)   Tuesday\, August 27\, 6:00 pm – 9:00 pm
DESCRIPTION:Learn tried and tested techniques for setting limits and fostering self-control.
URL:http://cfn.nsula.edu/event/e-3b-theres-gotta-be-a-better-way-discipline-that-works-cda-3-tuesday-august-27-600-pm-900-pm-2/
LOCATION:NSU Cenla Campus\, England Airpark\, 1410 Neel Kearby Blvd.\, Alexandria\, LA\, 71303\, United States
ATTACH;FMTTYPE=image/jpeg:http://cfn.nsula.edu/wp-content/uploads/2024/02/E-3h-002-e1723037417211.jpg
END:VEVENT
END:VCALENDAR