BEGIN:VCALENDAR
VERSION:2.0
PRODID:-//NSU Child and Family Network - ECPv6.15.20//NONSGML v1.0//EN
CALSCALE:GREGORIAN
METHOD:PUBLISH
X-ORIGINAL-URL:http://cfn.nsula.edu
X-WR-CALDESC:Events for NSU Child and Family Network
REFRESH-INTERVAL;VALUE=DURATION:PT1H
X-Robots-Tag:noindex
X-PUBLISHED-TTL:PT1H
BEGIN:VTIMEZONE
TZID:UTC
BEGIN:STANDARD
TZOFFSETFROM:+0000
TZOFFSETTO:+0000
TZNAME:UTC
DTSTART:20230101T000000
END:STANDARD
END:VTIMEZONE
BEGIN:VEVENT
DTSTART;TZID=UTC:20240813T180000
DTEND;TZID=UTC:20240813T210000
DTSTAMP:20260423T013759
CREATED:20240723T160833Z
LAST-MODIFIED:20240806T211745Z
UID:32210-1723572000-1723582800@cfn.nsula.edu
SUMMARY:B-2e School Readiness: Learning through Play (CDA 2) Tuesday\, August 13\, 6:00 pm –9:00 pm
DESCRIPTION:  \n  \n  \nLearn the A\, B\, Cs and 1\, 2\, 3s of how to prepare pre-school children for kindergarten.
URL:http://cfn.nsula.edu/event/b-2e-school-readiness-learning-through-play-cda-2-tuesday-august-13-600-pm-900-pm/
LOCATION:NSU-CFN\, 1800 Warrington Place\, Shreveport\, LA\, 71101\, United States
ATTACH;FMTTYPE=image/jpeg:http://cfn.nsula.edu/wp-content/uploads/2024/04/B-4a-Building-positive-Relatinships-e1724188581316.jpg
ORGANIZER;CN="Camille English":MAILTO:holmanc@nsula.edu
END:VEVENT
BEGIN:VEVENT
DTSTART;TZID=UTC:20240813T180000
DTEND;TZID=UTC:20240813T210000
DTSTAMP:20260423T013759
CREATED:20240812T145536Z
LAST-MODIFIED:20240812T145755Z
UID:32419-1723572000-1723582800@cfn.nsula.edu
SUMMARY:CPR/First Aid Tuesday\, August 13\,  6PM - 9PM
DESCRIPTION:This training is open to all centers; Type I\, Type II\, Type III and Family Homecare Providers\nPlease pay by debit or credit card AFTER you register on the WLS system.\nThis link is for payment only it does not register anyone for the class. https://bit.ly/3liH3Xs
URL:http://cfn.nsula.edu/event/cpr-first-aid-tuesday-august-13-6pm-9pm/
LOCATION:NSU-CFN\, 1800 Warrington Place\, Shreveport\, LA\, 71101\, United States
ATTACH;FMTTYPE=image/jpeg:http://cfn.nsula.edu/wp-content/uploads/2024/08/CPR.jpg
END:VEVENT
END:VCALENDAR