BEGIN:VCALENDAR
VERSION:2.0
PRODID:-//NSU Child and Family Network - ECPv6.15.20//NONSGML v1.0//EN
CALSCALE:GREGORIAN
METHOD:PUBLISH
X-ORIGINAL-URL:http://cfn.nsula.edu
X-WR-CALDESC:Events for NSU Child and Family Network
REFRESH-INTERVAL;VALUE=DURATION:PT1H
X-Robots-Tag:noindex
X-PUBLISHED-TTL:PT1H
BEGIN:VTIMEZONE
TZID:UTC
BEGIN:STANDARD
TZOFFSETFROM:+0000
TZOFFSETTO:+0000
TZNAME:UTC
DTSTART:20230101T000000
END:STANDARD
END:VTIMEZONE
BEGIN:VEVENT
DTSTART;TZID=UTC:20240810T090000
DTEND;TZID=UTC:20240810T120000
DTSTAMP:20260423T013800
CREATED:20240723T144843Z
LAST-MODIFIED:20240806T203319Z
UID:32193-1723280400-1723291200@cfn.nsula.edu
SUMMARY:B-1d *HEALTH: Medication Administration (CDA 1) (ADM 1)  Saturday\, August 10\,  9:00 am – 12:00 pm
DESCRIPTION:This session meets the medication\, EpiPen\, and health training requirements!
URL:http://cfn.nsula.edu/event/b-1d-health-medication-administration-cda-1-adm-1-saturday-august-10-900-am-1200-pm/
LOCATION:NSU-CFN\, 1800 Warrington Place\, Shreveport\, LA\, 71101\, United States
ATTACH;FMTTYPE=image/jpeg:http://cfn.nsula.edu/wp-content/uploads/2024/07/12-more-pediatrician-secrets-11-medicine-sl-e1722976148568.jpg
END:VEVENT
BEGIN:VEVENT
DTSTART;TZID=UTC:20240810T090000
DTEND;TZID=UTC:20240810T120000
DTSTAMP:20260423T013800
CREATED:20240723T153605Z
LAST-MODIFIED:20240806T203444Z
UID:32195-1723280400-1723291200@cfn.nsula.edu
SUMMARY:E-4c Supportive Responses to Troubled Parent-Child Interactions (CDA 4)  Saturday\, August 10\, 9:00 am – 12:00 pm
DESCRIPTION:Help parents strengthen the connection with parent-child interactions.
URL:http://cfn.nsula.edu/event/e-4c-supportive-responses-to-troubled-parent-child-interactions-cda-4-saturday-august-10-900-am-1200-pm/
LOCATION:NSU-CFN\, 1800 Warrington Place\, Shreveport\, LA\, 71101\, United States
ATTACH;FMTTYPE=image/jpeg:http://cfn.nsula.edu/wp-content/uploads/2024/04/Math-for-everyone1.jpg
END:VEVENT
BEGIN:VEVENT
DTSTART;TZID=UTC:20240810T090000
DTEND;TZID=UTC:20240810T120000
DTSTAMP:20260423T013800
CREATED:20240723T153852Z
LAST-MODIFIED:20240806T203658Z
UID:32197-1723280400-1723291200@cfn.nsula.edu
SUMMARY:S-5d Implementing Curriculum- Frog Street (CDA 5) (ADM 6)  Saturday\, August 10\,  9:00 am – 12:00 pm
DESCRIPTION:Frog St Implementing Curriculum- 3 yr. olds – you need to have the curriculum to take this class.
URL:http://cfn.nsula.edu/event/s-5d-implementing-curriculum-frog-street-cda-5-adm-6-saturday-august-10-900-am-1200-pm/
LOCATION:NSU-CFN\, 1800 Warrington Place\, Shreveport\, LA\, 71101\, United States
ATTACH;FMTTYPE=image/jpeg:http://cfn.nsula.edu/wp-content/uploads/2024/07/S-5d-003-1.jpg
END:VEVENT
BEGIN:VEVENT
DTSTART;TZID=UTC:20240810T090000
DTEND;TZID=UTC:20240810T120000
DTSTAMP:20260423T013800
CREATED:20240723T171001Z
LAST-MODIFIED:20240807T135814Z
UID:32233-1723280400-1723291200@cfn.nsula.edu
SUMMARY:B-1d *HEALTH: Medication Administration (CDA 1) (ADM 1)  Saturday\, August 10\,    9:00 am – 12:00 pm
DESCRIPTION:This session meets the medication\, EpiPen\, and health training requirements!
URL:http://cfn.nsula.edu/event/b-1d-health-medication-administration-cda-1-adm-1-saturday-august-10-900-am-1200-pm-2/
LOCATION:NSU Cenla Campus\, England Airpark\, 1410 Neel Kearby Blvd.\, Alexandria\, LA\, 71303\, United States
ATTACH;FMTTYPE=image/jpeg:http://cfn.nsula.edu/wp-content/uploads/2024/05/B-1d-Medication-e1723039083146.jpg
END:VEVENT
BEGIN:VEVENT
DTSTART;TZID=UTC:20240810T090000
DTEND;TZID=UTC:20240810T120000
DTSTAMP:20260423T013800
CREATED:20240725T194022Z
LAST-MODIFIED:20240806T213606Z
UID:32288-1723280400-1723291200@cfn.nsula.edu
SUMMARY:S-5d Frog Street Threes 3 year old Curriculum (CDA 5)   Saturday\, August 10\,   9:00 am – 12:00 pm
DESCRIPTION:Teachers will be guided with implementation of lesson plans and developing questions and interactions as rated in the CLASS tool. \nYou must already have the curriculum to attend \n  \n  \n  \n 
URL:http://cfn.nsula.edu/event/s-5d-frog-street-threes-3-year-old-curriculum-cda-5-saturday-august-10-900-am-1200-pm/
LOCATION:NSU-CFN\, 1800 Warrington Place\, Shreveport\, LA\, 71101\, United States
ATTACH;FMTTYPE=image/jpeg:http://cfn.nsula.edu/wp-content/uploads/2024/07/S-5d-003-1.jpg
END:VEVENT
BEGIN:VEVENT
DTSTART;TZID=UTC:20240810T130000
DTEND;TZID=UTC:20240810T160000
DTSTAMP:20260423T013800
CREATED:20240723T154855Z
LAST-MODIFIED:20240806T210257Z
UID:32200-1723294800-1723305600@cfn.nsula.edu
SUMMARY:B-1h *HEALTH: Serve Safe Module II (CDA 1) (ADM 4)  Saturday\, August 10\,  1:00 pm - 4:00 pm
DESCRIPTION:NOTE THIS IS AN AFTERNOON SESSION\nLearn how to provide a sanitary and safe food service program and avoid food-borne illnesses.
URL:http://cfn.nsula.edu/event/b-1h-health-serve-safe-module-ii-cda-1-adm-4-saturday-august-10-100-pm-400-pm/
LOCATION:NSU-CFN\, 1800 Warrington Place\, Shreveport\, LA\, 71101\, United States
ATTACH;FMTTYPE=image/jpeg:http://cfn.nsula.edu/wp-content/uploads/2024/04/B-1h-ServeSafe-HEALTH-2.jpg
END:VEVENT
BEGIN:VEVENT
DTSTART;TZID=UTC:20240810T130000
DTEND;TZID=UTC:20240810T160000
DTSTAMP:20260423T013800
CREATED:20240723T155930Z
LAST-MODIFIED:20240806T210506Z
UID:32203-1723294800-1723305600@cfn.nsula.edu
SUMMARY:I-2b The Magic of Music (CDA 2)  Saturday\, August 10\,  1:00 pm- 4:00 pm
DESCRIPTION:Learn music activities to enhance your curriculum and encourage development.
URL:http://cfn.nsula.edu/event/i-2b-the-magic-of-music-cda-2-saturday-august-10-100-pm-400-pm/
LOCATION:NSU-CFN\, 1800 Warrington Place\, Shreveport\, LA\, 71101\, United States
ATTACH;FMTTYPE=image/jpeg:http://cfn.nsula.edu/wp-content/uploads/2024/07/The-Magic-od-Music-e1722978293225.jpg
END:VEVENT
BEGIN:VEVENT
DTSTART;TZID=UTC:20240810T130000
DTEND;TZID=UTC:20240810T160000
DTSTAMP:20260423T013800
CREATED:20240723T171208Z
LAST-MODIFIED:20240806T211347Z
UID:32235-1723294800-1723305600@cfn.nsula.edu
SUMMARY:E-1k HEALTH Autism 101  Saturday\, August 10\, 1:00 pm – 4:00 pm
DESCRIPTION:NOTE THIS IS AN AFTERNOON SESSION\nRecognize early signs of Autism Spectrum Disorder and learn how you can help.
URL:http://cfn.nsula.edu/event/e-1k-health-autism-101-saturday-august-10-100-pm-400-pm/
LOCATION:NSU Cenla Campus\, England Airpark\, 1410 Neel Kearby Blvd.\, Alexandria\, LA\, 71303\, United States
ATTACH;FMTTYPE=image/jpeg:http://cfn.nsula.edu/wp-content/uploads/2024/07/E-1k-Autism-101-1-e1722978815837.jpg
END:VEVENT
END:VCALENDAR