BEGIN:VCALENDAR
VERSION:2.0
PRODID:-//NSU Child and Family Network - ECPv6.15.20//NONSGML v1.0//EN
CALSCALE:GREGORIAN
METHOD:PUBLISH
X-WR-CALNAME:NSU Child and Family Network
X-ORIGINAL-URL:http://cfn.nsula.edu
X-WR-CALDESC:Events for NSU Child and Family Network
REFRESH-INTERVAL;VALUE=DURATION:PT1H
X-Robots-Tag:noindex
X-PUBLISHED-TTL:PT1H
BEGIN:VTIMEZONE
TZID:UTC
BEGIN:STANDARD
TZOFFSETFROM:+0000
TZOFFSETTO:+0000
TZNAME:UTC
DTSTART:20230101T000000
END:STANDARD
END:VTIMEZONE
BEGIN:VEVENT
DTSTART;TZID=UTC:20240727T090000
DTEND;TZID=UTC:20240727T120000
DTSTAMP:20260423T025940
CREATED:20240702T171556Z
LAST-MODIFIED:20240702T171556Z
UID:32126-1722070800-1722081600@cfn.nsula.edu
SUMMARY:B-4c How to Get Parents on Your Team (CDA 4)   Saturday\, July 27\, 9:00 am – 12:00 pm
DESCRIPTION:Strategies to establish productive relationships with families
URL:http://cfn.nsula.edu/event/b-4c-how-to-get-parents-on-your-team-cda-4-saturday-july-27-900-am-1200-pm/
LOCATION:NSU-CFN\, 1800 Warrington Place\, Shreveport\, LA\, 71101\, United States
END:VEVENT
BEGIN:VEVENT
DTSTART;TZID=UTC:20240727T090000
DTEND;TZID=UTC:20240727T120000
DTSTAMP:20260423T025940
CREATED:20240702T182059Z
LAST-MODIFIED:20240702T182059Z
UID:32136-1722070800-1722081600@cfn.nsula.edu
SUMMARY:B-1d *HEALTH: Medication Administration (CDA 1) (ADM 1)   Saturday\, July 27\, 9:00 am – 12:00 pm
DESCRIPTION:See Important Notice above for Fee Requirement for Health Training\nThis session meets the medication\, EpiPen\, and health training requirements!
URL:http://cfn.nsula.edu/event/b-1d-health-medication-administration-cda-1-adm-1-saturday-july-27-900-am-1200-pm/
LOCATION:NSU Cenla Campus\, England Airpark\, 1410 Neel Kearby Blvd.\, Alexandria\, LA\, 71303\, United States
END:VEVENT
BEGIN:VEVENT
DTSTART;TZID=UTC:20240727T090000
DTEND;TZID=UTC:20240727T120000
DTSTAMP:20260423T025940
CREATED:20240725T145416Z
LAST-MODIFIED:20240725T150055Z
UID:32243-1722070800-1722081600@cfn.nsula.edu
SUMMARY:CPR/First Aid Adult & Pediatric  Saturday\, July 27\,  9:00 am – 12:00 pm
DESCRIPTION:This training is open to ALL centers; Type I\, Type II\, Type III and Family Homecare Providers\nPlease pay by debit or credit card AFTER you register on the WLS system.\nThis link is for payment only it does not register anyone for the class. https://bit.ly/3liH3Xs                   For more information\, contact: Lynette Rodgers 318-677-3148 or RodgersL@nsula.edu \n 
URL:http://cfn.nsula.edu/event/cpr-first-aid-adult-pediatric/
LOCATION:NSU-CFN\, 1800 Warrington Place\, Shreveport\, LA\, 71101\, United States
END:VEVENT
BEGIN:VEVENT
DTSTART;TZID=UTC:20240727T130000
DTEND;TZID=UTC:20240727T160000
DTSTAMP:20260423T025940
CREATED:20240702T180903Z
LAST-MODIFIED:20240702T180942Z
UID:32128-1722085200-1722096000@cfn.nsula.edu
SUMMARY:E-2g Moving with the Brain in Mind (CDA 2)  Saturday\, July 27\, 1:00 pm – 4:00 pm
DESCRIPTION:NOTE THIS IS AN AFTERNOON SESSION\nLearn about early brain structure\, brain functioning\, and how movement enhances the brain
URL:http://cfn.nsula.edu/event/e-2g-moving-with-the-brain-in-mind-cda-2-saturday-july-27-100-pm-400-pm/
LOCATION:NSU-CFN\, 1800 Warrington Place\, Shreveport\, LA\, 71101\, United States
END:VEVENT
BEGIN:VEVENT
DTSTART;TZID=UTC:20240727T130000
DTEND;TZID=UTC:20240727T160000
DTSTAMP:20260423T025940
CREATED:20240702T184015Z
LAST-MODIFIED:20240702T184015Z
UID:32138-1722085200-1722096000@cfn.nsula.edu
SUMMARY:B-1h *HEALTH: Serve Safe Module II (CDA 1) (ADM 4)  Saturday\, July 27\, 1:00 pm – 4:00 pm
DESCRIPTION:NOTE THIS IS AN AFTERNOON SESSION\nSee Important Notice above for Fee Requirement for Health Training\nLearn how to provide a sanitary and safe food service program and avoid food-borne illnesses
URL:http://cfn.nsula.edu/event/b-1h-health-serve-safe-module-ii-cda-1-adm-4-saturday-july-27-100-pm-400-pm/
LOCATION:NSU Cenla Campus\, England Airpark\, 1410 Neel Kearby Blvd.\, Alexandria\, LA\, 71303\, United States
END:VEVENT
END:VCALENDAR