BEGIN:VCALENDAR
VERSION:2.0
PRODID:-//NSU Child and Family Network - ECPv6.15.20//NONSGML v1.0//EN
CALSCALE:GREGORIAN
METHOD:PUBLISH
X-ORIGINAL-URL:http://cfn.nsula.edu
X-WR-CALDESC:Events for NSU Child and Family Network
REFRESH-INTERVAL;VALUE=DURATION:PT1H
X-Robots-Tag:noindex
X-PUBLISHED-TTL:PT1H
BEGIN:VTIMEZONE
TZID:UTC
BEGIN:STANDARD
TZOFFSETFROM:+0000
TZOFFSETTO:+0000
TZNAME:UTC
DTSTART:20230101T000000
END:STANDARD
END:VTIMEZONE
BEGIN:VEVENT
DTSTART;TZID=UTC:20240718T180000
DTEND;TZID=UTC:20240718T210000
DTSTAMP:20260423T025947
CREATED:20240702T164705Z
LAST-MODIFIED:20240702T165122Z
UID:32117-1721325600-1721336400@cfn.nsula.edu
SUMMARY:B-1d *HEALTH: Medication Administration (CDA 1) (ADM 1) Thursday\, July 18\, 6:00 pm – 9:00 pm
DESCRIPTION:This session meets the medication\, EpiPen\, and health training requirements!\nSee Important Notice above for Fee Requirement for Health Training
URL:http://cfn.nsula.edu/event/b-1d-health-medication-administration-cda-1-adm-1-thursday-july-18-600-pm-900-pm/
LOCATION:NSU-CFN\, 1800 Warrington Place\, Shreveport\, LA\, 71101\, United States
END:VEVENT
BEGIN:VEVENT
DTSTART;TZID=UTC:20240718T180000
DTEND;TZID=UTC:20240718T210000
DTSTAMP:20260423T025947
CREATED:20240702T170351Z
LAST-MODIFIED:20240702T170351Z
UID:32120-1721325600-1721336400@cfn.nsula.edu
SUMMARY:E-7c Orientation to CLASS (CDA 7) (ADM 3) Thursday\, July 18\, 2024 6:00 pm – 9:00 pm
DESCRIPTION:Learn about the Classroom Assessment Scoring System that can help you be more effective in your work
URL:http://cfn.nsula.edu/event/e-7c-orientation-to-class-cda-7-adm-3-thursday-july-18-2024-600-pm-900-pm/
LOCATION:NSU Webinar\, 1800 Warrington Place\, Shreveport\, LA\, 71101\, United States
ORGANIZER;CN="Jill Watkins":MAILTO:watkinsj@nsula.edu
END:VEVENT
BEGIN:VEVENT
DTSTART;TZID=UTC:20240718T180000
DTEND;TZID=UTC:20240718T210000
DTSTAMP:20260423T025947
CREATED:20240702T181707Z
LAST-MODIFIED:20240702T181707Z
UID:32134-1721325600-1721336400@cfn.nsula.edu
SUMMARY:CPR/First Aid Adult & Pediatric   Thursday\, July 18\, 6:00 pm – 9:00pm
DESCRIPTION:The cost for a CPR class is $60 (Non-refundable or transferable).\nPlease register on the WLS first and then pay using this link for the class. https://bit.ly/3liH3Xs
URL:http://cfn.nsula.edu/event/cpr-first-aid-adult-pediatric-thursday-july-18-600-pm-900pm/
LOCATION:NSU Cenla Campus\, England Airpark\, 1410 Neel Kearby Blvd.\, Alexandria\, LA\, 71303\, United States
END:VEVENT
END:VCALENDAR