BEGIN:VCALENDAR
VERSION:2.0
PRODID:-//NSU Child and Family Network - ECPv6.15.20//NONSGML v1.0//EN
CALSCALE:GREGORIAN
METHOD:PUBLISH
X-ORIGINAL-URL:http://cfn.nsula.edu
X-WR-CALDESC:Events for NSU Child and Family Network
REFRESH-INTERVAL;VALUE=DURATION:PT1H
X-Robots-Tag:noindex
X-PUBLISHED-TTL:PT1H
BEGIN:VTIMEZONE
TZID:UTC
BEGIN:STANDARD
TZOFFSETFROM:+0000
TZOFFSETTO:+0000
TZNAME:UTC
DTSTART:20230101T000000
END:STANDARD
END:VTIMEZONE
BEGIN:VEVENT
DTSTART;TZID=UTC:20240716T180000
DTEND;TZID=UTC:20240716T210000
DTSTAMP:20260423T025949
CREATED:20240702T162607Z
LAST-MODIFIED:20240702T162607Z
UID:32112-1721152800-1721163600@cfn.nsula.edu
SUMMARY:E-3h Adverse Childhood Experiences (ACES) (CDA 3) Tuesday\, July 16\, 6:00 pm – 9:00 pm
DESCRIPTION:Early childhood is a critical period in brain development\, creating a foundation for development throughout life.
URL:http://cfn.nsula.edu/event/e-3h-adverse-childhood-experiences-aces-cda-3-tuesday-july-16-600-pm-900-pm/
LOCATION:NSU-CFN\, 1800 Warrington Place\, Shreveport\, LA\, 71101\, United States
ORGANIZER;CN="Camille English":MAILTO:holmanc@nsula.edu
END:VEVENT
BEGIN:VEVENT
DTSTART;TZID=UTC:20240716T180000
DTEND;TZID=UTC:20240716T210000
DTSTAMP:20260423T025949
CREATED:20240702T163811Z
LAST-MODIFIED:20240702T163811Z
UID:32115-1721152800-1721163600@cfn.nsula.edu
SUMMARY:B-2a Bravo for Books: Developing a Reading Center in Your Classroom (CDA 2)  Tuesday\, July 16\, 6:00 pm – 9:00 pm
DESCRIPTION:Books are FUN! Discuss the importance of a literacy center in all classrooms.
URL:http://cfn.nsula.edu/event/b-2a-bravo-for-books-developing-a-reading-center-in-your-classroom-cda-2-tuesday-july-16-600-pm-900-pm/
LOCATION:NSU-CFN\, 1800 Warrington Place\, Shreveport\, LA\, 71101\, United States
ORGANIZER;CN="Jessica Hall":MAILTO:hallj@nsula.edu
END:VEVENT
END:VCALENDAR