BEGIN:VCALENDAR
VERSION:2.0
PRODID:-//NSU Child and Family Network - ECPv6.15.20//NONSGML v1.0//EN
CALSCALE:GREGORIAN
METHOD:PUBLISH
X-WR-CALNAME:NSU Child and Family Network
X-ORIGINAL-URL:http://cfn.nsula.edu
X-WR-CALDESC:Events for NSU Child and Family Network
REFRESH-INTERVAL;VALUE=DURATION:PT1H
X-Robots-Tag:noindex
X-PUBLISHED-TTL:PT1H
BEGIN:VTIMEZONE
TZID:UTC
BEGIN:STANDARD
TZOFFSETFROM:+0000
TZOFFSETTO:+0000
TZNAME:UTC
DTSTART:20230101T000000
END:STANDARD
END:VTIMEZONE
BEGIN:VEVENT
DTSTART;TZID=UTC:20240713T090000
DTEND;TZID=UTC:20240713T120000
DTSTAMP:20260423T025940
CREATED:20240702T154301Z
LAST-MODIFIED:20240702T154324Z
UID:32107-1720861200-1720872000@cfn.nsula.edu
SUMMARY:B-1d *HEALTH: Medication Administration (CDA 1) (ADM 1) Saturday\, July 13\, 9:00 am – 12:00 pm
DESCRIPTION:This session meets the medication\, EpiPen\, and health training requirements!\nSee Important Notice above for Fee Requirement for Health Training
URL:http://cfn.nsula.edu/event/b-1d-health-medication-administration-cda-1-adm-1-saturday-july-13-900-am-1200-pm/
LOCATION:NSU-CFN\, 1800 Warrington Place\, Shreveport\, LA\, 71101\, United States
END:VEVENT
BEGIN:VEVENT
DTSTART;TZID=UTC:20240713T130000
DTEND;TZID=UTC:20240713T160000
DTSTAMP:20260423T025940
CREATED:20240702T160421Z
LAST-MODIFIED:20240702T160421Z
UID:32110-1720875600-1720886400@cfn.nsula.edu
SUMMARY:B-1h *HEALTH: Serve Safe Module II (CDA 1) (ADM 4)   Saturday\, July 13\, 1:00 pm- 4:00 pm
DESCRIPTION:NOTE THIS IS AN AFTERNOON SESSION\nLearn how to provide a sanitary and safe food service program and avoid food-borne illnesses\nSee Important Notice above for Fee Requirement for Health Training
URL:http://cfn.nsula.edu/event/b-1h-health-serve-safe-module-ii-cda-1-adm-4-saturday-july-13-100-pm-400-pm/
LOCATION:NSU-CFN\, 1800 Warrington Place\, Shreveport\, LA\, 71101\, United States
END:VEVENT
END:VCALENDAR