BEGIN:VCALENDAR
VERSION:2.0
PRODID:-//NSU Child and Family Network - ECPv6.15.20//NONSGML v1.0//EN
CALSCALE:GREGORIAN
METHOD:PUBLISH
X-WR-CALNAME:NSU Child and Family Network
X-ORIGINAL-URL:http://cfn.nsula.edu
X-WR-CALDESC:Events for NSU Child and Family Network
REFRESH-INTERVAL;VALUE=DURATION:PT1H
X-Robots-Tag:noindex
X-PUBLISHED-TTL:PT1H
BEGIN:VTIMEZONE
TZID:UTC
BEGIN:STANDARD
TZOFFSETFROM:+0000
TZOFFSETTO:+0000
TZNAME:UTC
DTSTART:20230101T000000
END:STANDARD
END:VTIMEZONE
BEGIN:VEVENT
DTSTART;TZID=UTC:20240627T180000
DTEND;TZID=UTC:20240627T210000
DTSTAMP:20260423T041226
CREATED:20240506T194238Z
LAST-MODIFIED:20240506T194238Z
UID:32052-1719511200-1719522000@cfn.nsula.edu
SUMMARY:I-2f Making Stories Come to Life (CDA 2)   Thursday\, June 27\, 6:00 pm – 9:00 pm
DESCRIPTION:Learn how to keep children attentive during story time by using storytelling\, puppets\, flannel boards & activities  \n  \n  \n 
URL:http://cfn.nsula.edu/event/i-2f-making-stories-come-to-life-cda-2-thursday-june-27-600-pm-900-pm/
LOCATION:NSU-CFN\, 1800 Warrington Place\, Shreveport\, LA\, 71101\, United States
ORGANIZER;CN="Melanie Albarado":MAILTO:albaradom@nsula.edu
END:VEVENT
BEGIN:VEVENT
DTSTART;TZID=UTC:20240627T180000
DTEND;TZID=UTC:20240627T210000
DTSTAMP:20260423T041226
CREATED:20240506T200028Z
LAST-MODIFIED:20240506T200028Z
UID:32055-1719511200-1719522000@cfn.nsula.edu
SUMMARY:B-1h *HEALTH: Serve Safe Module II (CDA 1) (ADM 4)   Thursday\, June 27\, 6:00 pm – 9:00 pm
DESCRIPTION:Learn how to provide a sanitary and safe food service program and avoid food-borne illnesses \n  \n  \n 
URL:http://cfn.nsula.edu/event/b-1h-health-serve-safe-module-ii-cda-1-adm-4-thursday-june-27-600-pm-900-pm/
LOCATION:NSU-CFN\, 1800 Warrington Place\, Shreveport\, LA\, 71101\, United States
END:VEVENT
BEGIN:VEVENT
DTSTART;TZID=UTC:20240627T180000
DTEND;TZID=UTC:20240627T210000
DTSTAMP:20260423T041226
CREATED:20240506T202129Z
LAST-MODIFIED:20240506T202129Z
UID:32070-1719511200-1719522000@cfn.nsula.edu
SUMMARY:B-1h *HEALTH: Serve Safe Module II (CDA 1) (ADM 4)   Thursday\, June 27\, 6:00 pm – 9:00 pm
DESCRIPTION:Learn how to provide a sanitary and safe food service program and avoid food-borne illnesses \n  \n  \n 
URL:http://cfn.nsula.edu/event/b-1h-health-serve-safe-module-ii-cda-1-adm-4-thursday-june-27-600-pm-900-pm-2/
LOCATION:NSU Teacher Education Center (TEC) Room 105C\, Sam Sibley Road\, Natchitoches\, LA\, 71457
END:VEVENT
END:VCALENDAR