BEGIN:VCALENDAR
VERSION:2.0
PRODID:-//NSU Child and Family Network - ECPv6.15.20//NONSGML v1.0//EN
CALSCALE:GREGORIAN
METHOD:PUBLISH
X-WR-CALNAME:NSU Child and Family Network
X-ORIGINAL-URL:http://cfn.nsula.edu
X-WR-CALDESC:Events for NSU Child and Family Network
REFRESH-INTERVAL;VALUE=DURATION:PT1H
X-Robots-Tag:noindex
X-PUBLISHED-TTL:PT1H
BEGIN:VTIMEZONE
TZID:UTC
BEGIN:STANDARD
TZOFFSETFROM:+0000
TZOFFSETTO:+0000
TZNAME:UTC
DTSTART:20230101T000000
END:STANDARD
END:VTIMEZONE
BEGIN:VEVENT
DTSTART;TZID=UTC:20240611T180000
DTEND;TZID=UTC:20240611T210000
DTSTAMP:20260423T042026
CREATED:20240506T183813Z
LAST-MODIFIED:20240506T183813Z
UID:32021-1718128800-1718139600@cfn.nsula.edu
SUMMARY:B-6b Tie a Knot in the Rope and Hang On! (CDA 6) (ADM 6)   Tuesday\, June 11\, 6:00 pm –9:00 pm
DESCRIPTION:Learn how to meet your own needs so that you can take care of those that you serve \n  \n 
URL:http://cfn.nsula.edu/event/b-6b-tie-a-knot-in-the-rope-and-hang-on-cda-6-adm-6-tuesday-june-11-600-pm-900-pm/
LOCATION:NSU-CFN\, 1800 Warrington Place\, Shreveport\, LA\, 71101\, United States
ORGANIZER;CN="Camille English":MAILTO:holmanc@nsula.edu
END:VEVENT
BEGIN:VEVENT
DTSTART;TZID=UTC:20240611T180000
DTEND;TZID=UTC:20240611T210000
DTSTAMP:20260423T042026
CREATED:20240506T184117Z
LAST-MODIFIED:20240506T184117Z
UID:32024-1718128800-1718139600@cfn.nsula.edu
SUMMARY:B-1d *HEALTH: Medication Administration (CDA 1) (ADM 1)   Tuesday\, June 11\, 6:00 pm –9:00 pm
DESCRIPTION:This session meets the medication\, EpiPen\, and health training requirements!  \n  \n 
URL:http://cfn.nsula.edu/event/b-1d-health-medication-administration-cda-1-adm-1-tuesday-june-11-600-pm-900-pm/
LOCATION:NSU-CFN\, 1800 Warrington Place\, Shreveport\, LA\, 71101\, United States
END:VEVENT
END:VCALENDAR