BEGIN:VCALENDAR
VERSION:2.0
PRODID:-//NSU Child and Family Network - ECPv6.15.20//NONSGML v1.0//EN
CALSCALE:GREGORIAN
METHOD:PUBLISH
X-WR-CALNAME:NSU Child and Family Network
X-ORIGINAL-URL:http://cfn.nsula.edu
X-WR-CALDESC:Events for NSU Child and Family Network
REFRESH-INTERVAL;VALUE=DURATION:PT1H
X-Robots-Tag:noindex
X-PUBLISHED-TTL:PT1H
BEGIN:VTIMEZONE
TZID:UTC
BEGIN:STANDARD
TZOFFSETFROM:+0000
TZOFFSETTO:+0000
TZNAME:UTC
DTSTART:20230101T000000
END:STANDARD
END:VTIMEZONE
BEGIN:VEVENT
DTSTART;TZID=UTC:20240604T180000
DTEND;TZID=UTC:20240604T210000
DTSTAMP:20260423T041231
CREATED:20240506T200652Z
LAST-MODIFIED:20240506T200652Z
UID:32061-1717524000-1717534800@cfn.nsula.edu
SUMMARY:CPR/First Aid Adult & Pediatric   Tuesday\, June 4\, 6:00 pm – 9:00 pm
DESCRIPTION:The cost for a CPR class is $40(Non-refundable). Max 10 people per class. Please register on the WLS first and then pay using this link for the class. https://bit.ly/3liH3Xs \n  \n  \n 
URL:http://cfn.nsula.edu/event/cpr-first-aid-adult-pediatric-tuesday-june-4-600-pm-900-pm/
LOCATION:NSU Cenla Campus\, England Airpark\, 1410 Neel Kearby Blvd.\, Alexandria\, LA\, 71303\, United States
END:VEVENT
BEGIN:VEVENT
DTSTART;TZID=UTC:20240604T180000
DTEND;TZID=UTC:20240604T210000
DTSTAMP:20260423T041231
CREATED:20240506T200955Z
LAST-MODIFIED:20240506T200955Z
UID:32064-1717524000-1717534800@cfn.nsula.edu
SUMMARY:B-1d *HEALTH: Medication Administration (CDA 1) (ADM 1)   Tuesday\, June 4\, 6:00 pm – 9:00 pm
DESCRIPTION:This session meets the medication\, EpiPen\, and health training requirements!  \n  \n 
URL:http://cfn.nsula.edu/event/b-1d-health-medication-administration-cda-1-adm-1-tuesday-june-4-600-pm-900-pm/
LOCATION:NSU Cenla Campus\, England Airpark\, 1410 Neel Kearby Blvd.\, Alexandria\, LA\, 71303\, United States
END:VEVENT
END:VCALENDAR