BEGIN:VCALENDAR
VERSION:2.0
PRODID:-//NSU Child and Family Network - ECPv6.15.20//NONSGML v1.0//EN
CALSCALE:GREGORIAN
METHOD:PUBLISH
X-WR-CALNAME:NSU Child and Family Network
X-ORIGINAL-URL:http://cfn.nsula.edu
X-WR-CALDESC:Events for NSU Child and Family Network
REFRESH-INTERVAL;VALUE=DURATION:PT1H
X-Robots-Tag:noindex
X-PUBLISHED-TTL:PT1H
BEGIN:VTIMEZONE
TZID:UTC
BEGIN:STANDARD
TZOFFSETFROM:+0000
TZOFFSETTO:+0000
TZNAME:UTC
DTSTART:20230101T000000
END:STANDARD
END:VTIMEZONE
BEGIN:VEVENT
DTSTART;TZID=UTC:20240525T090000
DTEND;TZID=UTC:20240525T120000
DTSTAMP:20260423T053919
CREATED:20240425T191144Z
LAST-MODIFIED:20240425T191144Z
UID:31979-1716627600-1716638400@cfn.nsula.edu
SUMMARY:B-1d *HEALTH: Medication Administration (CDA 1) (ADM 1)   Saturday\, May 25\, 2024 9:00 am –12:00 pm
DESCRIPTION:This session meets the medication\, EpiPen\, and health training requirements!
URL:http://cfn.nsula.edu/event/b-1d-health-medication-administration-cda-1-adm-1-saturday-may-25-2024-900-am-1200-pm/
LOCATION:NSU Cenla Campus\, England Airpark\, 1410 Neel Kearby Blvd.\, Alexandria\, LA\, 71303\, United States
END:VEVENT
BEGIN:VEVENT
DTSTART;TZID=UTC:20240525T130000
DTEND;TZID=UTC:20240525T160000
DTSTAMP:20260423T053919
CREATED:20240425T191533Z
LAST-MODIFIED:20240425T191533Z
UID:31981-1716642000-1716652800@cfn.nsula.edu
SUMMARY:I-1h *HEALTH: Shaken Baby Syndrome\, SUIDS\, and Other Infant Safety Issues (CDA 1) (ADM 1)   Saturday\, May 25\, 1:00 pm – 4:00 pm
DESCRIPTION:NOTE THIS IS AN AFTERNOON SESSION\nLearn tips and strategies for providing the safest care for your smallest customers.
URL:http://cfn.nsula.edu/event/i-1h-health-shaken-baby-syndrome-suids-and-other-infant-safety-issues-cda-1-adm-1-saturday-may-25-100-pm-400-pm/
LOCATION:NSU Cenla Campus\, England Airpark\, 1410 Neel Kearby Blvd.\, Alexandria\, LA\, 71303\, United States
END:VEVENT
END:VCALENDAR