BEGIN:VCALENDAR
VERSION:2.0
PRODID:-//NSU Child and Family Network - ECPv6.15.20//NONSGML v1.0//EN
CALSCALE:GREGORIAN
METHOD:PUBLISH
X-ORIGINAL-URL:http://cfn.nsula.edu
X-WR-CALDESC:Events for NSU Child and Family Network
REFRESH-INTERVAL;VALUE=DURATION:PT1H
X-Robots-Tag:noindex
X-PUBLISHED-TTL:PT1H
BEGIN:VTIMEZONE
TZID:UTC
BEGIN:STANDARD
TZOFFSETFROM:+0000
TZOFFSETTO:+0000
TZNAME:UTC
DTSTART:20230101T000000
END:STANDARD
END:VTIMEZONE
BEGIN:VEVENT
DTSTART;TZID=UTC:20240521T180000
DTEND;TZID=UTC:20240521T210000
DTSTAMP:20260423T053915
CREATED:20240425T174447Z
LAST-MODIFIED:20240425T174447Z
UID:31964-1716314400-1716325200@cfn.nsula.edu
SUMMARY:E-2b Math Magic: How Young Children Learn Math (CDA 2)  Tuesday\, May 21\, 6:00 pm – 9:00 pm
DESCRIPTION:Learn how to help young children learn concepts such as numeration\, graphing\, sorting\, and much more!
URL:http://cfn.nsula.edu/event/e-2b-math-magic-how-young-children-learn-math-cda-2-tuesday-may-21-600-pm-900-pm/
LOCATION:NSU-CFN\, 1800 Warrington Place\, Shreveport\, LA\, 71101\, United States
ORGANIZER;CN="Camille English":MAILTO:holmanc@nsula.edu
END:VEVENT
BEGIN:VEVENT
DTSTART;TZID=UTC:20240521T180000
DTEND;TZID=UTC:20240521T210000
DTSTAMP:20260423T053915
CREATED:20240425T175837Z
LAST-MODIFIED:20240506T200256Z
UID:31967-1716314400-1716325200@cfn.nsula.edu
SUMMARY:E-1m HEALTH: Well Ahead Outdoor Play and Learning (CDA 1)   Tuesday\, May 21\, 6:00 pm –9:00 pm
DESCRIPTION:Learn many ways to enhance children’s outdoor playtime using outdoor games and activities.
URL:http://cfn.nsula.edu/event/e-1m-health-well-ahead-outdoor-play-and-learning-cda-1-tuesday-may-21-600-pm-900-pm/
LOCATION:NSU-CFN\, 1800 Warrington Place\, Shreveport\, LA\, 71101\, United States
END:VEVENT
BEGIN:VEVENT
DTSTART;TZID=UTC:20240521T180000
DTEND;TZID=UTC:20240521T210000
DTSTAMP:20260423T053915
CREATED:20240425T180203Z
LAST-MODIFIED:20240425T180203Z
UID:31971-1716314400-1716325200@cfn.nsula.edu
SUMMARY:S-5d Frog Street Pre-K Curriculum (CDA 5)   Tuesday\, May 21\, 6:00 pm –9:00 pm
DESCRIPTION:You must already have the Frog Street Pre-K Curriculum to participate.
URL:http://cfn.nsula.edu/event/s-5d-frog-street-pre-k-curriculum-cda-5-tuesday-may-21-600-pm-900-pm/
LOCATION:NSU-CFN\, 1800 Warrington Place\, Shreveport\, LA\, 71101\, United States
END:VEVENT
END:VCALENDAR