BEGIN:VCALENDAR
VERSION:2.0
PRODID:-//NSU Child and Family Network - ECPv6.15.20//NONSGML v1.0//EN
CALSCALE:GREGORIAN
METHOD:PUBLISH
X-WR-CALNAME:NSU Child and Family Network
X-ORIGINAL-URL:http://cfn.nsula.edu
X-WR-CALDESC:Events for NSU Child and Family Network
REFRESH-INTERVAL;VALUE=DURATION:PT1H
X-Robots-Tag:noindex
X-PUBLISHED-TTL:PT1H
BEGIN:VTIMEZONE
TZID:UTC
BEGIN:STANDARD
TZOFFSETFROM:+0000
TZOFFSETTO:+0000
TZNAME:UTC
DTSTART:20230101T000000
END:STANDARD
END:VTIMEZONE
BEGIN:VEVENT
DTSTART;TZID=UTC:20240514T180000
DTEND;TZID=UTC:20240514T210000
DTSTAMP:20260423T065632
CREATED:20240425T162833Z
LAST-MODIFIED:20240425T162833Z
UID:31951-1715709600-1715720400@cfn.nsula.edu
SUMMARY:I-6b Caring for the Caregiver (CDA 6) (ADM 6)   Tuesday\, May 14\, 6:00 pm –9:00 pm
DESCRIPTION:Use this practical guide for discerning personal needs/wants and how to meet them.
URL:http://cfn.nsula.edu/event/i-6b-caring-for-the-caregiver-cda-6-adm-6-tuesday-may-14-600-pm-900-pm/
LOCATION:NSU-CFN\, 1800 Warrington Place\, Shreveport\, LA\, 71101\, United States
ORGANIZER;CN="Camille English":MAILTO:holmanc@nsula.edu
END:VEVENT
BEGIN:VEVENT
DTSTART;TZID=UTC:20240514T180000
DTEND;TZID=UTC:20240514T210000
DTSTAMP:20260423T065632
CREATED:20240425T163353Z
LAST-MODIFIED:20240425T163947Z
UID:31954-1715709600-1715720400@cfn.nsula.edu
SUMMARY:B-1h *HEALTH: Serve Safe Module II (CDA 1) (ADM 4)  Tuesday\, May 14\, 6:00 pm –9:00 pm
DESCRIPTION:Learn how to provide a sanitary and safe food service program and avoid food-borne illnesses
URL:http://cfn.nsula.edu/event/b-1h-health-serve-safe-module-ii-cda-1-adm-4-tuesday-may-14-600-pm-000-pm/
LOCATION:NSU-CFN\, 1800 Warrington Place\, Shreveport\, LA\, 71101\, United States
END:VEVENT
BEGIN:VEVENT
DTSTART;TZID=UTC:20240514T180000
DTEND;TZID=UTC:20240514T210000
DTSTAMP:20260423T065632
CREATED:20240425T164440Z
LAST-MODIFIED:20240425T164440Z
UID:31958-1715709600-1715720400@cfn.nsula.edu
SUMMARY:B-4a Building Positive Relationships with Families (CDA 4) (ADM 5)   Tuesday\, May 14\, 6:00 pm –9:00 pm
DESCRIPTION:Learn ways to welcome and communicate effectively with families
URL:http://cfn.nsula.edu/event/b-4a-building-positive-relationships-with-families-cda-4-adm-5-tuesday-may-14-600-pm-900-pm/
LOCATION:NSU-CFN\, 1800 Warrington Place\, Shreveport\, LA\, 71101\, United States
ORGANIZER;CN="Melanie Albarado":MAILTO:albaradom@nsula.edu
END:VEVENT
END:VCALENDAR