BEGIN:VCALENDAR
VERSION:2.0
PRODID:-//NSU Child and Family Network - ECPv6.15.20//NONSGML v1.0//EN
CALSCALE:GREGORIAN
METHOD:PUBLISH
X-WR-CALNAME:NSU Child and Family Network
X-ORIGINAL-URL:http://cfn.nsula.edu
X-WR-CALDESC:Events for NSU Child and Family Network
REFRESH-INTERVAL;VALUE=DURATION:PT1H
X-Robots-Tag:noindex
X-PUBLISHED-TTL:PT1H
BEGIN:VTIMEZONE
TZID:UTC
BEGIN:STANDARD
TZOFFSETFROM:+0000
TZOFFSETTO:+0000
TZNAME:UTC
DTSTART:20230101T000000
END:STANDARD
END:VTIMEZONE
BEGIN:VEVENT
DTSTART;TZID=UTC:20240507T080000
DTEND;TZID=UTC:20240507T170000
DTSTAMP:20260423T065633
CREATED:20240425T185740Z
LAST-MODIFIED:20240425T185740Z
UID:31977-1715068800-1715101200@cfn.nsula.edu
SUMMARY:CPR/First Aid Adult & Pediatric    Tuesday\, May 7\, 6:00 pm –9:00pm
DESCRIPTION:The cost for a CPR class is $40(Non-refundable). Max 10 people per class. Please register on the WLS first and then pay using this link for the class. https://bit.ly/3liH3Xs
URL:http://cfn.nsula.edu/event/cpr-first-aid-adult-pediatric-tuesday-may-7-600-pm-900pm/
LOCATION:NSU Cenla Campus\, England Airpark\, 1410 Neel Kearby Blvd.\, Alexandria\, LA\, 71303\, United States
END:VEVENT
BEGIN:VEVENT
DTSTART;TZID=UTC:20240507T180000
DTEND;TZID=UTC:20240507T210000
DTSTAMP:20260423T065633
CREATED:20240425T160509Z
LAST-MODIFIED:20240425T160509Z
UID:31940-1715104800-1715115600@cfn.nsula.edu
SUMMARY:I-1h *HEALTH: Shaken Baby Syndrome\, SUIDS\, and Other Infant Safety Issues (CDA 1) (ADM 1)  Tuesday\, May 7\, 6:00 pm –9:00 pm
DESCRIPTION:Learn tips and strategies for providing the safest care for your smallest customers.
URL:http://cfn.nsula.edu/event/i-1h-health-shaken-baby-syndrome-suids-and-other-infant-safety-issues-cda-1-adm-1-tuesday-may-7-600-pm-900-pm/
LOCATION:NSU-CFN\, 1800 Warrington Place\, Shreveport\, LA\, 71101\, United States
END:VEVENT
BEGIN:VEVENT
DTSTART;TZID=UTC:20240507T180000
DTEND;TZID=UTC:20240507T210000
DTSTAMP:20260423T065633
CREATED:20240425T161023Z
LAST-MODIFIED:20240425T161023Z
UID:31943-1715104800-1715115600@cfn.nsula.edu
SUMMARY:S-5j Frog Street Toddlers Curriculum (CDA 5)  Tuesday\, May 7\, 6:00 pm – 9:00 pm
DESCRIPTION:You must already have the Frog Street Toddlers Curriculum to participate
URL:http://cfn.nsula.edu/event/s-5j-frog-street-toddlers-curriculum-cda-5-tuesday-may-7-600-pm-900-pm/
LOCATION:NSU-CFN\, 1800 Warrington Place\, Shreveport\, LA\, 71101\, United States
END:VEVENT
BEGIN:VEVENT
DTSTART;TZID=UTC:20240507T180000
DTEND;TZID=UTC:20240507T210000
DTSTAMP:20260423T065633
CREATED:20240425T181125Z
LAST-MODIFIED:20240425T181125Z
UID:31974-1715104800-1715115600@cfn.nsula.edu
SUMMARY:I-3i Summer Voyage: Louisiana Activities for Your Summer Schoolagers (CDA 3)  Tuesday\, May 7\, 6:00 pm –9:00 pm
DESCRIPTION:Learn how you can provide activities that draw on our state’s culture in your summer program
URL:http://cfn.nsula.edu/event/i-3i-summer-voyage-louisiana-activities-for-your-summer-schoolagers-cda-3-tuesday-may-7-600-pm-900-pm/
LOCATION:NSU Cenla Campus\, England Airpark\, 1410 Neel Kearby Blvd.\, Alexandria\, LA\, 71303\, United States
END:VEVENT
END:VCALENDAR