BEGIN:VCALENDAR
VERSION:2.0
PRODID:-//NSU Child and Family Network - ECPv6.15.20//NONSGML v1.0//EN
CALSCALE:GREGORIAN
METHOD:PUBLISH
X-WR-CALNAME:NSU Child and Family Network
X-ORIGINAL-URL:http://cfn.nsula.edu
X-WR-CALDESC:Events for NSU Child and Family Network
REFRESH-INTERVAL;VALUE=DURATION:PT1H
X-Robots-Tag:noindex
X-PUBLISHED-TTL:PT1H
BEGIN:VTIMEZONE
TZID:UTC
BEGIN:STANDARD
TZOFFSETFROM:+0000
TZOFFSETTO:+0000
TZNAME:UTC
DTSTART:20230101T000000
END:STANDARD
END:VTIMEZONE
BEGIN:VEVENT
DTSTART;TZID=UTC:20240504T090000
DTEND;TZID=UTC:20240504T120000
DTSTAMP:20260423T053921
CREATED:20240425T153804Z
LAST-MODIFIED:20240425T153804Z
UID:31929-1714813200-1714824000@cfn.nsula.edu
SUMMARY:B-1h *HEALTH: Serve Safe Module II (CDA 1) (ADM 4)  Saturday\, May 4\, 9:00 am –12:00 pm
DESCRIPTION:Learn how to provide a sanitary and safe food service program and avoid food-borne illnesses.
URL:http://cfn.nsula.edu/event/b-1h-health-serve-safe-module-ii-cda-1-adm-4-saturday-may-4-900-am-1200-pm/
LOCATION:NSU-CFN\, 1800 Warrington Place\, Shreveport\, LA\, 71101\, United States
END:VEVENT
BEGIN:VEVENT
DTSTART;TZID=UTC:20240504T090000
DTEND;TZID=UTC:20240504T120000
DTSTAMP:20260423T053921
CREATED:20240425T154307Z
LAST-MODIFIED:20240425T154307Z
UID:31932-1714813200-1714824000@cfn.nsula.edu
SUMMARY:CDA Wrap Up – Session 6  Saturday\, May 4\, 9:00 am – 12:00 pm
DESCRIPTION:CDA Wrap Up consists of six 3 hour sessions to complete your CDA training
URL:http://cfn.nsula.edu/event/cda-wrap-up-session-6-saturday-may-4-900-am-1200-pm/
LOCATION:NSU-CFN\, 1800 Warrington Place\, Shreveport\, LA\, 71101\, United States
END:VEVENT
BEGIN:VEVENT
DTSTART;TZID=UTC:20240504T090000
DTEND;TZID=UTC:20240504T120000
DTSTAMP:20260423T053921
CREATED:20240425T154928Z
LAST-MODIFIED:20240425T154928Z
UID:31934-1714813200-1714824000@cfn.nsula.edu
SUMMARY:B-3b Avoid Behavior Problems-Teach Self-Control (CDA 3)  Saturday\, May 4\, 9:00 am –12:00 pm
DESCRIPTION:Identify ways to adapt your program and teach children skills that promote self-control.
URL:http://cfn.nsula.edu/event/b-3b-avoid-behavior-problems-teach-self-control-cda-3-saturday-may-4-900-am-1200-pm/
LOCATION:NSU-CFN\, 1800 Warrington Place\, Shreveport\, LA\, 71101\, United States
END:VEVENT
BEGIN:VEVENT
DTSTART;TZID=UTC:20240504T130000
DTEND;TZID=UTC:20240504T160000
DTSTAMP:20260423T053921
CREATED:20240425T155534Z
LAST-MODIFIED:20240425T155534Z
UID:31937-1714827600-1714838400@cfn.nsula.edu
SUMMARY:I-6a Do the Right Thing: Ethics and Professionalism in Child Care (CDA 6) (ADM 5)   Saturday\, May 4\,1:00 pm –4:00 pm
DESCRIPTION:NOTE THIS IS AN AFTERNOON SESSION\nEthical codes guide our professionalism as early care and education providers.
URL:http://cfn.nsula.edu/event/i-6a-do-the-right-thing-ethics-and-professionalism-in-child-care-cda-6-adm-5-saturday-may-4100-pm-400-pm/
LOCATION:NSU-CFN\, 1800 Warrington Place\, Shreveport\, LA\, 71101\, United States
END:VEVENT
END:VCALENDAR