BEGIN:VCALENDAR
VERSION:2.0
PRODID:-//NSU Child and Family Network - ECPv6.15.20//NONSGML v1.0//EN
CALSCALE:GREGORIAN
METHOD:PUBLISH
X-ORIGINAL-URL:http://cfn.nsula.edu
X-WR-CALDESC:Events for NSU Child and Family Network
REFRESH-INTERVAL;VALUE=DURATION:PT1H
X-Robots-Tag:noindex
X-PUBLISHED-TTL:PT1H
BEGIN:VTIMEZONE
TZID:UTC
BEGIN:STANDARD
TZOFFSETFROM:+0000
TZOFFSETTO:+0000
TZNAME:UTC
DTSTART:20230101T000000
END:STANDARD
END:VTIMEZONE
BEGIN:VEVENT
DTSTART;TZID=UTC:20240309T010000
DTEND;TZID=UTC:20240309T160000
DTSTAMP:20260423T081719
CREATED:20240215T221849Z
LAST-MODIFIED:20240215T221849Z
UID:31859-1709946000-1710000000@cfn.nsula.edu
SUMMARY:B-1h *HEALTH: Serve Safe Module II (CDA 1) (ADM 4)  Saturday\, March 9\, 1:00 pm – 4:00 pm
DESCRIPTION:NOTE THIS IS AN AFTERNOON SESSION \nLearn how to provide a sanitary and safe food service program and avoid food-borne illnesses \n  \n  \nTrainer: Ree Warren
URL:http://cfn.nsula.edu/event/b-1h-health-serve-safe-module-ii-cda-1-adm-4-saturday-march-9-100-pm-400-pm/
LOCATION:NSU Cenla Campus\, England Airpark\, 1410 Neel Kearby Blvd.\, Alexandria\, LA\, 71303\, United States
END:VEVENT
BEGIN:VEVENT
DTSTART;TZID=UTC:20240309T090000
DTEND;TZID=UTC:20240309T120000
DTSTAMP:20260423T081719
CREATED:20240215T195544Z
LAST-MODIFIED:20240216T174727Z
UID:31808-1709974800-1709985600@cfn.nsula.edu
SUMMARY:CDA Wrap Up – Session 2  Saturday\, March 9\, 9:00 am – 12:00 pm
DESCRIPTION:CDA Wrap Up consists of six 3 hour sessions to complete your CDA training \n  \n 
URL:http://cfn.nsula.edu/event/cda-wrap-up-session-2-saturday-900-am-1200-pm/
LOCATION:NSU-CFN\, 1800 Warrington Place\, Shreveport\, LA\, 71101\, United States
END:VEVENT
BEGIN:VEVENT
DTSTART;TZID=UTC:20240309T090000
DTEND;TZID=UTC:20240309T120000
DTSTAMP:20260423T081719
CREATED:20240215T202230Z
LAST-MODIFIED:20240216T174623Z
UID:31811-1709974800-1709985600@cfn.nsula.edu
SUMMARY:B-1h *HEALTH: Serve Safe Module II (CDA 1) (ADM 4)  Saturday\, March 9\, 9:00 am – 12:00 pm
DESCRIPTION:Learn how to provide a sanitary and safe food service program and avoid food-borne illnesses \n 
URL:http://cfn.nsula.edu/event/b-1h-health-serve-safe-module-ii-cda-1-adm-4-saturday-900-am-1200-pm-3/
LOCATION:NSU-CFN\, 1800 Warrington Place\, Shreveport\, LA\, 71101\, United States
END:VEVENT
BEGIN:VEVENT
DTSTART;TZID=UTC:20240309T090000
DTEND;TZID=UTC:20240309T120000
DTSTAMP:20260423T081719
CREATED:20240215T205627Z
LAST-MODIFIED:20240216T174536Z
UID:31814-1709974800-1709985600@cfn.nsula.edu
SUMMARY:I-3h Cultural Diversity in Your Learning Centers (CDA 3)  Saturday\, March 9\, 9:00 am – 12:00 pm
DESCRIPTION:Learn how to provide for and respond to children whose background may be different from yours. \n  \n 
URL:http://cfn.nsula.edu/event/i-3h-cultural-diversity-in-your-learning-centers-cda-3-saturday-900-am-1200-pm/
LOCATION:NSU-CFN\, 1800 Warrington Place\, Shreveport\, LA\, 71101\, United States
ORGANIZER;CN="Camille English":MAILTO:holmanc@nsula.edu
END:VEVENT
BEGIN:VEVENT
DTSTART;TZID=UTC:20240309T090000
DTEND;TZID=UTC:20240309T120000
DTSTAMP:20260423T081719
CREATED:20240215T205900Z
LAST-MODIFIED:20240215T205900Z
UID:31817-1709974800-1709985600@cfn.nsula.edu
SUMMARY:I-2d Let's Get Movin' with Activities to Support Physical Development (CDA 2) Saturday\, March 9\, 9:00 am –12:00 pm
DESCRIPTION:Support physical development in all children\, including coordination and motor control \n 
URL:http://cfn.nsula.edu/event/i-2d-lets-get-movin-with-activities-to-support-physical-development-cda-2-saturday-march-9-900-am-1200-pm/
LOCATION:NSU-CFN\, 1800 Warrington Place\, Shreveport\, LA\, 71101\, United States
END:VEVENT
BEGIN:VEVENT
DTSTART;TZID=UTC:20240309T090000
DTEND;TZID=UTC:20240309T120000
DTSTAMP:20260423T081719
CREATED:20240215T210212Z
LAST-MODIFIED:20240215T210212Z
UID:31820-1709974800-1709985600@cfn.nsula.edu
SUMMARY:I-8e The Exceptional Classroom (CDA 8 (ADM 6) Saturday\, March 9\, 1:00 pm –4:00 pm
DESCRIPTION:NOTE THIS IS AN AFTERNOON SESSION \nExplore how to create a classroom to meet the needs of all children\, including those with special needs. \n  \n  \n 
URL:http://cfn.nsula.edu/event/i-8e-the-exceptional-classroom-cda-8-adm-6-saturday-march-9-100-pm-400-pm/
LOCATION:NSU-CFN\, 1800 Warrington Place\, Shreveport\, LA\, 71101\, United States
END:VEVENT
BEGIN:VEVENT
DTSTART;TZID=UTC:20240309T090000
DTEND;TZID=UTC:20240309T120000
DTSTAMP:20260423T081719
CREATED:20240215T221622Z
LAST-MODIFIED:20240215T221622Z
UID:31857-1709974800-1709985600@cfn.nsula.edu
SUMMARY:B-1d *HEALTH: Medication Administration (CDA 1) (ADM 1) Saturday\, March 9\, 9:00 am –12:00 pm
DESCRIPTION:This session meets the medication\, Epipen\, and health training requirements!  \n  \n  \n 
URL:http://cfn.nsula.edu/event/b-1d-health-medication-administration-cda-1-adm-1-saturday-march-9-900-am-1200-pm/
LOCATION:NSU Cenla Campus\, England Airpark\, 1410 Neel Kearby Blvd.\, Alexandria\, LA\, 71303\, United States
END:VEVENT
END:VCALENDAR