BEGIN:VCALENDAR
VERSION:2.0
PRODID:-//NSU Child and Family Network - ECPv6.15.20//NONSGML v1.0//EN
CALSCALE:GREGORIAN
METHOD:PUBLISH
X-ORIGINAL-URL:http://cfn.nsula.edu
X-WR-CALDESC:Events for NSU Child and Family Network
REFRESH-INTERVAL;VALUE=DURATION:PT1H
X-Robots-Tag:noindex
X-PUBLISHED-TTL:PT1H
BEGIN:VTIMEZONE
TZID:UTC
BEGIN:STANDARD
TZOFFSETFROM:+0000
TZOFFSETTO:+0000
TZNAME:UTC
DTSTART:20230101T000000
END:STANDARD
END:VTIMEZONE
BEGIN:VEVENT
DTSTART;TZID=UTC:20240226T180000
DTEND;TZID=UTC:20240226T210000
DTSTAMP:20260423T081627
CREATED:20231011T165204Z
LAST-MODIFIED:20240216T163851Z
UID:31155-1708970400-1708981200@cfn.nsula.edu
SUMMARY:B-1h *HEALTH: Serve Safe Module II (CDA 1) (ADM 4)  Monday\, February 26\, 6:00 pm – 9:00 pm
DESCRIPTION:Learn how to provide a sanitary and safe food service program and avoid food-borne illnesses \n 
URL:http://cfn.nsula.edu/event/b-1h-health-serve-safe-module-ii-cda-1-adm-4-saturday-900-am-1200-pm/
LOCATION:NSU Teacher Education Center (TEC) Room 105C\, Sam Sibley Road\, Natchitoches\, LA\, 71457
END:VEVENT
BEGIN:VEVENT
DTSTART;TZID=UTC:20240226T180000
DTEND;TZID=UTC:20240226T210000
DTSTAMP:20260423T081627
CREATED:20240123T174728Z
LAST-MODIFIED:20240216T191331Z
UID:31729-1708970400-1708981200@cfn.nsula.edu
SUMMARY:E-7c Orientation to CLASS (CDA 7) (ADM 3) Monday\, February 26\, 6:00 pm – 9:00pm
DESCRIPTION:Learn about the Classroom Assessment Scoring System that can help you be more effective. \n  \n  \n 
URL:http://cfn.nsula.edu/event/e-7c-orientation-to-class-cda-7-adm-3-monday-600-pm-900pm/
LOCATION:NSU Teacher Education Center (TEC) Room 105C\, Sam Sibley Road\, Natchitoches\, LA\, 71457
END:VEVENT
END:VCALENDAR