BEGIN:VCALENDAR
VERSION:2.0
PRODID:-//NSU Child and Family Network - ECPv6.15.20//NONSGML v1.0//EN
CALSCALE:GREGORIAN
METHOD:PUBLISH
X-WR-CALNAME:NSU Child and Family Network
X-ORIGINAL-URL:http://cfn.nsula.edu
X-WR-CALDESC:Events for NSU Child and Family Network
REFRESH-INTERVAL;VALUE=DURATION:PT1H
X-Robots-Tag:noindex
X-PUBLISHED-TTL:PT1H
BEGIN:VTIMEZONE
TZID:UTC
BEGIN:STANDARD
TZOFFSETFROM:+0000
TZOFFSETTO:+0000
TZNAME:UTC
DTSTART:20230101T000000
END:STANDARD
END:VTIMEZONE
BEGIN:VEVENT
DTSTART;TZID=UTC:20240216T180000
DTEND;TZID=UTC:20240216T210000
DTSTAMP:20260423T092746
CREATED:20240216T192933Z
LAST-MODIFIED:20240216T192933Z
UID:31885-1708106400-1708117200@cfn.nsula.edu
SUMMARY:CPR/First Aid Adult & Pediatric  Monday\, February 19\, 6:00 pm –9:00pm
DESCRIPTION:The cost for a CPR class is $40. 10 people per class. Please register on the WLS first and then pay using this link for the class. https://bit.ly/3liH3Xs
URL:http://cfn.nsula.edu/event/cpr-first-aid-adult-pediatric-monday-february-19-600-pm-900pm/
LOCATION:NSU Cenla Campus\, England Airpark\, 1410 Neel Kearby Blvd.\, Alexandria\, LA\, 71303\, United States
END:VEVENT
END:VCALENDAR