BEGIN:VCALENDAR
VERSION:2.0
PRODID:-//NSU Child and Family Network - ECPv6.15.20//NONSGML v1.0//EN
CALSCALE:GREGORIAN
METHOD:PUBLISH
X-ORIGINAL-URL:http://cfn.nsula.edu
X-WR-CALDESC:Events for NSU Child and Family Network
REFRESH-INTERVAL;VALUE=DURATION:PT1H
X-Robots-Tag:noindex
X-PUBLISHED-TTL:PT1H
BEGIN:VTIMEZONE
TZID:UTC
BEGIN:STANDARD
TZOFFSETFROM:+0000
TZOFFSETTO:+0000
TZNAME:UTC
DTSTART:20230101T000000
END:STANDARD
END:VTIMEZONE
BEGIN:VEVENT
DTSTART;TZID=UTC:20240215T180000
DTEND;TZID=UTC:20240215T210000
DTSTAMP:20260423T092804
CREATED:20240124T203127Z
LAST-MODIFIED:20240124T203127Z
UID:31759-1708020000-1708030800@cfn.nsula.edu
SUMMARY:B-1d *HEALTH: Medication Administration (CDA 1) (ADM 1) Thursday\, 6:00 pm –9:00 pm
DESCRIPTION:This session meets the medication\, Epipen\, and health training requirements!
URL:http://cfn.nsula.edu/event/b-1d-health-medication-administration-cda-1-adm-1-thursday-600-pm-900-pm-2/
LOCATION:NSU-CFN\, 1800 Warrington Place\, Shreveport\, LA\, 71101\, United States
END:VEVENT
BEGIN:VEVENT
DTSTART;TZID=UTC:20240215T180000
DTEND;TZID=UTC:20240215T210000
DTSTAMP:20260423T092804
CREATED:20240124T203841Z
LAST-MODIFIED:20240124T203942Z
UID:31762-1708020000-1708030800@cfn.nsula.edu
SUMMARY:I-3e Stop it Before it Starts! Preventing Violent Behavior (CDA 3) Thursday\, 6:00 pm –9:00 pm
DESCRIPTION:Discuss ways to teach children conflict resolution and peaceful solutions to create a compassionate classroom
URL:http://cfn.nsula.edu/event/i-3e-stop-it-before-it-starts-preventing-violent-behavior-cda-3-thursday-600-pm-900-pm/
LOCATION:NSU-CFN\, 1800 Warrington Place\, Shreveport\, LA\, 71101\, United States
ORGANIZER;CN="Mary Bond":MAILTO:bondm@nsula.edu
END:VEVENT
END:VCALENDAR