BEGIN:VCALENDAR
VERSION:2.0
PRODID:-//NSU Child and Family Network - ECPv6.15.20//NONSGML v1.0//EN
CALSCALE:GREGORIAN
METHOD:PUBLISH
X-WR-CALNAME:NSU Child and Family Network
X-ORIGINAL-URL:http://cfn.nsula.edu
X-WR-CALDESC:Events for NSU Child and Family Network
REFRESH-INTERVAL;VALUE=DURATION:PT1H
X-Robots-Tag:noindex
X-PUBLISHED-TTL:PT1H
BEGIN:VTIMEZONE
TZID:UTC
BEGIN:STANDARD
TZOFFSETFROM:+0000
TZOFFSETTO:+0000
TZNAME:UTC
DTSTART:20230101T000000
END:STANDARD
END:VTIMEZONE
BEGIN:VEVENT
DTSTART;TZID=UTC:20240130T080000
DTEND;TZID=UTC:20240130T170000
DTSTAMP:20260423T092749
CREATED:20231215T203947Z
LAST-MODIFIED:20231215T203947Z
UID:31688-1706601600-1706634000@cfn.nsula.edu
SUMMARY:B-1h *HEALTH: Serve Safe Module II (CDA 1) (ADM 4)  Tuesday\, 6:00 pm – 9:00 pm
DESCRIPTION:Learn how to provide a sanitary and safe food service program and avoid food-borne illnesses
URL:http://cfn.nsula.edu/event/b-1h-health-serve-safe-module-ii-cda-1-adm-4-tuesday-600-pm-900-pm-4/
LOCATION:NSU-CFN\, 1800 Warrington Place\, Shreveport\, LA\, 71101\, United States
END:VEVENT
BEGIN:VEVENT
DTSTART;TZID=UTC:20240130T180000
DTEND;TZID=UTC:20240130T210000
DTSTAMP:20260423T092749
CREATED:20231215T204833Z
LAST-MODIFIED:20231215T204833Z
UID:31691-1706637600-1706648400@cfn.nsula.edu
SUMMARY:B-4a Building Positive Relationships with Families (CDA 4) (ADM 5)  Tuesday\, 6:00 pm – 9:00 pm
DESCRIPTION:Learn ways to welcome and communicate effectively with families to create a team approach to child care.
URL:http://cfn.nsula.edu/event/b-4a-building-positive-relationships-with-families-cda-4-adm-5-tuesday-600-pm-900-pm/
LOCATION:NSU-CFN\, 1800 Warrington Place\, Shreveport\, LA\, 71101\, United States
ORGANIZER;CN="Mary Bond":MAILTO:bondm@nsula.edu
END:VEVENT
END:VCALENDAR