BEGIN:VCALENDAR
VERSION:2.0
PRODID:-//NSU Child and Family Network - ECPv6.15.20//NONSGML v1.0//EN
CALSCALE:GREGORIAN
METHOD:PUBLISH
X-ORIGINAL-URL:http://cfn.nsula.edu
X-WR-CALDESC:Events for NSU Child and Family Network
REFRESH-INTERVAL;VALUE=DURATION:PT1H
X-Robots-Tag:noindex
X-PUBLISHED-TTL:PT1H
BEGIN:VTIMEZONE
TZID:UTC
BEGIN:STANDARD
TZOFFSETFROM:+0000
TZOFFSETTO:+0000
TZNAME:UTC
DTSTART:20230101T000000
END:STANDARD
END:VTIMEZONE
BEGIN:VEVENT
DTSTART;TZID=UTC:20240123T180000
DTEND;TZID=UTC:20240123T210000
DTSTAMP:20260423T115436
CREATED:20231207T212152Z
LAST-MODIFIED:20231207T212219Z
UID:31623-1706032800-1706043600@cfn.nsula.edu
SUMMARY:E-1k *HEALTH: Autism 101 (CDA 1)  Tuesday\, January 23\, 2024   6:00 pm –9:00 pm
DESCRIPTION:  Recognize early signs of Autism Spectrum Disorder and learn how you can help \n 
URL:http://cfn.nsula.edu/event/e-1k-health-autism-101-cda-1-tuesday-january-23-2024-600-pm-900-pm/
LOCATION:NSU-CFN\, 1800 Warrington Place\, Shreveport\, LA\, 71101\, United States
END:VEVENT
BEGIN:VEVENT
DTSTART;TZID=UTC:20240123T180000
DTEND;TZID=UTC:20240123T210000
DTSTAMP:20260423T115436
CREATED:20231215T193626Z
LAST-MODIFIED:20231215T200243Z
UID:31662-1706032800-1706043600@cfn.nsula.edu
SUMMARY:B-5f Child Care 101 for New Staff: Starting Out the RIGHT Way! (CDA 5) (ADM 1) Tuesday\, 6:00 pm – 9:00 pm
DESCRIPTION:This session is an in-depth orientation for new employees or those needing to brush up on basics. 
URL:http://cfn.nsula.edu/event/b-5f-child-care-101-for-new-staff-starting-out-the-right-way-cda-5-adm-1-tuesday-600-pm-900-pm/
LOCATION:NSU-CFN\, 1800 Warrington Place\, Shreveport\, LA\, 71101\, United States
ORGANIZER;CN="Camille English":MAILTO:holmanc@nsula.edu
END:VEVENT
END:VCALENDAR