BEGIN:VCALENDAR
VERSION:2.0
PRODID:-//NSU Child and Family Network - ECPv6.15.20//NONSGML v1.0//EN
CALSCALE:GREGORIAN
METHOD:PUBLISH
X-WR-CALNAME:NSU Child and Family Network
X-ORIGINAL-URL:http://cfn.nsula.edu
X-WR-CALDESC:Events for NSU Child and Family Network
REFRESH-INTERVAL;VALUE=DURATION:PT1H
X-Robots-Tag:noindex
X-PUBLISHED-TTL:PT1H
BEGIN:VTIMEZONE
TZID:UTC
BEGIN:STANDARD
TZOFFSETFROM:+0000
TZOFFSETTO:+0000
TZNAME:UTC
DTSTART:20230101T000000
END:STANDARD
END:VTIMEZONE
BEGIN:VEVENT
DTSTART;TZID=UTC:20240122T180000
DTEND;TZID=UTC:20240122T210000
DTSTAMP:20260423T104555
CREATED:20211209T153633Z
LAST-MODIFIED:20240103T170459Z
UID:14641-1705946400-1705957200@cfn.nsula.edu
SUMMARY:CPR/First Aid Adult & Pediatric  Tuesday  6:00 pm - 9:00 pm   January 22\, 2024   Happy New Year!
DESCRIPTION:CPR Adult & Pediatric First Aid. Now $40(nonrefundable) per person. Certificate valid for 2 years. \n  \n 
URL:http://cfn.nsula.edu/event/cpr-first-aid-tuesday-600-pm-900-pm/
LOCATION:NSU Teacher Education Center (TEC) Room 105C\, Sam Sibley Road\, Natchitoches\, LA\, 71457
ATTACH;FMTTYPE=image/jpeg:http://cfn.nsula.edu/wp-content/uploads/2021/11/CPR-IN-NATCHIT-e1636754622230.jpg
END:VEVENT
BEGIN:VEVENT
DTSTART;TZID=UTC:20240122T180000
DTEND;TZID=UTC:20240122T210000
DTSTAMP:20260423T104555
CREATED:20231016T155033Z
LAST-MODIFIED:20231206T141908Z
UID:31253-1705946400-1705957200@cfn.nsula.edu
SUMMARY:B- 1d *HEALTH: Medication Administration (CDA 1) (ADM 1)   Monday\,  6:00 pm – 9:00 pm
DESCRIPTION:This session meets the medication and health training requirements! \n 
URL:http://cfn.nsula.edu/event/b-1d-health-medication-administration-cda-1-adm-1-thursday-600-pm-900-pm/
LOCATION:NSU Teacher Education Center (TEC) Room 105C\, Sam Sibley Road\, Natchitoches\, LA\, 71457
END:VEVENT
END:VCALENDAR