BEGIN:VCALENDAR
VERSION:2.0
PRODID:-//NSU Child and Family Network - ECPv6.15.20//NONSGML v1.0//EN
CALSCALE:GREGORIAN
METHOD:PUBLISH
X-ORIGINAL-URL:http://cfn.nsula.edu
X-WR-CALDESC:Events for NSU Child and Family Network
REFRESH-INTERVAL;VALUE=DURATION:PT1H
X-Robots-Tag:noindex
X-PUBLISHED-TTL:PT1H
BEGIN:VTIMEZONE
TZID:UTC
BEGIN:STANDARD
TZOFFSETFROM:+0000
TZOFFSETTO:+0000
TZNAME:UTC
DTSTART:20230101T000000
END:STANDARD
END:VTIMEZONE
BEGIN:VEVENT
DTSTART;TZID=UTC:20240113T090000
DTEND;TZID=UTC:20240120T120000
DTSTAMP:20260423T115434
CREATED:20231206T160626Z
LAST-MODIFIED:20231206T160626Z
UID:31600-1705136400-1705752000@cfn.nsula.edu
SUMMARY:B-1h *HEALTH: Serve Safe Module II (CDA 1) (ADM 4) Saturday\,  9:00 am – 12:00 pm
DESCRIPTION:Learn how to provide a sanitary and safe food service program and avoid food-borne illnesses
URL:http://cfn.nsula.edu/event/b-1h-health-serve-safe-module-ii-cda-1-adm-4-saturday-900-am-1200-pm-4/
LOCATION:NSU-CFN\, 1800 Warrington Place\, Shreveport\, LA\, 71101\, United States
END:VEVENT
BEGIN:VEVENT
DTSTART;TZID=UTC:20240118T180000
DTEND;TZID=UTC:20240118T210000
DTSTAMP:20260423T115434
CREATED:20231207T211003Z
LAST-MODIFIED:20231207T211537Z
UID:31619-1705600800-1705611600@cfn.nsula.edu
SUMMARY:B-1m *HEALTH: Preparing Child Care Programs for Pandemic Influenza (CDA 1)  Thursday\,  6:00 pm –9:00 pm
DESCRIPTION:What can you do to avoid being infected & spreading infections in the classroom? This training covers flu & RSV \n  \n 
URL:http://cfn.nsula.edu/event/b-1m-health-preparing-child-care-programs-for-pandemic-influenza-cda-1-thursday-600-pm-900-pm/
LOCATION:NSU-CFN\, 1800 Warrington Place\, Shreveport\, LA\, 71101\, United States
END:VEVENT
BEGIN:VEVENT
DTSTART;TZID=UTC:20240118T180000
DTEND;TZID=UTC:20240118T210000
DTSTAMP:20260423T115434
CREATED:20231215T205358Z
LAST-MODIFIED:20231215T205434Z
UID:31694-1705600800-1705611600@cfn.nsula.edu
SUMMARY:CPR/First Aid Adult & Pediatric  Thursday\, 6:00 pm –9:00pm
DESCRIPTION:  The cost for a CPR class is $40. 10 people per class. Please register on the WLS first and then pay using this link for the class. https://bit.ly/3liH3Xs
URL:http://cfn.nsula.edu/event/cpr-first-aid-adult-pediatric-thursday-600-pm-900pm/
LOCATION:NSU Cenla Campus\, England Airpark\, 1410 Neel Kearby Blvd.\, Alexandria\, LA\, 71303\, United States
END:VEVENT
BEGIN:VEVENT
DTSTART;TZID=UTC:20240118T180000
DTEND;TZID=UTC:20240118T210000
DTSTAMP:20260423T115434
CREATED:20231215T213303Z
LAST-MODIFIED:20231215T213303Z
UID:31697-1705600800-1705611600@cfn.nsula.edu
SUMMARY:E-1k *HEALTH: Autism 101 (CDA 1) Thursday\, 6:00 pm –9:00pm
DESCRIPTION:Recognize early signs of Autism Spectrum Disorder and learn how you can help.
URL:http://cfn.nsula.edu/event/e-1k-health-autism-101-cda-1-thursday-600-pm-900pm/
LOCATION:NSU Cenla Campus\, England Airpark\, 1410 Neel Kearby Blvd.\, Alexandria\, LA\, 71303\, United States
END:VEVENT
END:VCALENDAR