BEGIN:VCALENDAR
VERSION:2.0
PRODID:-//NSU Child and Family Network - ECPv6.15.20//NONSGML v1.0//EN
CALSCALE:GREGORIAN
METHOD:PUBLISH
X-WR-CALNAME:NSU Child and Family Network
X-ORIGINAL-URL:http://cfn.nsula.edu
X-WR-CALDESC:Events for NSU Child and Family Network
REFRESH-INTERVAL;VALUE=DURATION:PT1H
X-Robots-Tag:noindex
X-PUBLISHED-TTL:PT1H
BEGIN:VTIMEZONE
TZID:UTC
BEGIN:STANDARD
TZOFFSETFROM:+0000
TZOFFSETTO:+0000
TZNAME:UTC
DTSTART:20230101T000000
END:STANDARD
END:VTIMEZONE
BEGIN:VEVENT
DTSTART;TZID=UTC:20240113T090000
DTEND;TZID=UTC:20240113T120000
DTSTAMP:20260423T115412
CREATED:20211109T150141Z
LAST-MODIFIED:20240103T205130Z
UID:8709-1705136400-1705147200@cfn.nsula.edu
SUMMARY:E-7c Orientation to CLASS (CDA 7)    Saturday\, 6:00 pm – 9:00 pm
DESCRIPTION:Learn about the Classroom Assessment Scoring System  that can help you be more effective in your work. Find out what to expect when you are observed.
URL:http://cfn.nsula.edu/event/e-7c-orientation-to-class-cda-7/
LOCATION:NSU-CFN\, 1800 Warrington Place\, Shreveport\, LA\, 71101\, United States
ATTACH;FMTTYPE=image/jpeg:http://cfn.nsula.edu/wp-content/uploads/2021/11/E-7c.jpg
ORGANIZER;CN="Jill Watkins":MAILTO:watkinsj@nsula.edu
END:VEVENT
BEGIN:VEVENT
DTSTART;TZID=UTC:20240113T090000
DTEND;TZID=UTC:20240113T120000
DTSTAMP:20260423T115412
CREATED:20231206T161041Z
LAST-MODIFIED:20231206T164520Z
UID:31602-1705136400-1705147200@cfn.nsula.edu
SUMMARY:B-3a Top 10 Ways to Support Social and Emotional Development (CDA 3) Saturday\, 9:00 am –12:00 pm
DESCRIPTION:Identify ways to adapt your program and teach children skills that promote self-control. \n  \n  \n 
URL:http://cfn.nsula.edu/event/b-3a-top-10-ways-to-support-social-and-emotional-development-cda-3-saturday-900-am-1200-pm/
LOCATION:NSU-CFN\, 1800 Warrington Place\, Shreveport\, LA\, 71101\, United States
END:VEVENT
BEGIN:VEVENT
DTSTART;TZID=UTC:20240113T090000
DTEND;TZID=UTC:20240120T120000
DTSTAMP:20260423T115412
CREATED:20231206T160626Z
LAST-MODIFIED:20231206T160626Z
UID:31600-1705136400-1705752000@cfn.nsula.edu
SUMMARY:B-1h *HEALTH: Serve Safe Module II (CDA 1) (ADM 4) Saturday\,  9:00 am – 12:00 pm
DESCRIPTION:Learn how to provide a sanitary and safe food service program and avoid food-borne illnesses
URL:http://cfn.nsula.edu/event/b-1h-health-serve-safe-module-ii-cda-1-adm-4-saturday-900-am-1200-pm-4/
LOCATION:NSU-CFN\, 1800 Warrington Place\, Shreveport\, LA\, 71101\, United States
END:VEVENT
BEGIN:VEVENT
DTSTART;TZID=UTC:20240113T130000
DTEND;TZID=UTC:20240113T160000
DTSTAMP:20260423T115412
CREATED:20231207T205021Z
LAST-MODIFIED:20231207T205112Z
UID:31613-1705150800-1705161600@cfn.nsula.edu
SUMMARY:B-2b Music Throughout the Day (CDA 2) Saturday\, 1:00 pm –4:00 pm
DESCRIPTION:NOTE THIS IS AN AFTERNOON SESSION \nLook at how incorporating music into your everyday activities can help with more productive days.\n  \n  \n 
URL:http://cfn.nsula.edu/event/b-2b-music-throughout-the-day-cda-2-saturday-100-pm-400-pm/
LOCATION:NSU-CFN\, 1800 Warrington Place\, Shreveport\, LA\, 71101\, United States
END:VEVENT
END:VCALENDAR