BEGIN:VCALENDAR
VERSION:2.0
PRODID:-//NSU Child and Family Network - ECPv6.15.20//NONSGML v1.0//EN
CALSCALE:GREGORIAN
METHOD:PUBLISH
X-ORIGINAL-URL:http://cfn.nsula.edu
X-WR-CALDESC:Events for NSU Child and Family Network
REFRESH-INTERVAL;VALUE=DURATION:PT1H
X-Robots-Tag:noindex
X-PUBLISHED-TTL:PT1H
BEGIN:VTIMEZONE
TZID:UTC
BEGIN:STANDARD
TZOFFSETFROM:+0000
TZOFFSETTO:+0000
TZNAME:UTC
DTSTART:20220101T000000
END:STANDARD
END:VTIMEZONE
BEGIN:VEVENT
DTSTART;TZID=UTC:20231212T180000
DTEND;TZID=UTC:20231212T210000
DTSTAMP:20260423T115504
CREATED:20231113T203818Z
LAST-MODIFIED:20231113T203818Z
UID:31490-1702404000-1702414800@cfn.nsula.edu
SUMMARY:B-1d *HEALTH: Medication Administration (CDA 1) (ADM 1) Tuesday\, 6:00 pm –9:00 pm
DESCRIPTION:This session meets the medication\, Eipen\, and health training requirements!  \n  \n  \nTrainer: Jean Humphrey
URL:http://cfn.nsula.edu/event/b-1d-health-medication-administration-cda-1-adm-1-tuesday-600-pm-900-pm-2/
LOCATION:NSU-CFN\, 1800 Warrington Place\, Shreveport\, LA\, 71101\, United States
END:VEVENT
END:VCALENDAR