BEGIN:VCALENDAR
VERSION:2.0
PRODID:-//NSU Child and Family Network - ECPv6.15.20//NONSGML v1.0//EN
CALSCALE:GREGORIAN
METHOD:PUBLISH
X-ORIGINAL-URL:http://cfn.nsula.edu
X-WR-CALDESC:Events for NSU Child and Family Network
REFRESH-INTERVAL;VALUE=DURATION:PT1H
X-Robots-Tag:noindex
X-PUBLISHED-TTL:PT1H
BEGIN:VTIMEZONE
TZID:UTC
BEGIN:STANDARD
TZOFFSETFROM:+0000
TZOFFSETTO:+0000
TZNAME:UTC
DTSTART:20220101T000000
END:STANDARD
END:VTIMEZONE
BEGIN:VEVENT
DTSTART;TZID=UTC:20231114T180000
DTEND;TZID=UTC:20231114T210000
DTSTAMP:20260423T133640
CREATED:20231013T212630Z
LAST-MODIFIED:20231016T210256Z
UID:31229-1699984800-1699995600@cfn.nsula.edu
SUMMARY:B-1d *HEALTH: Medication Administration (CDA 1) (ADM 1)  Tuesday\,  6:00 pm – 9:00 pm
DESCRIPTION:This session meets the medication and health training requirements!  \n 
URL:http://cfn.nsula.edu/event/b-1d-health-medication-administration-cda-1-adm-1-tuesday-600-pm-900-pm/
LOCATION:NSU Teacher Education Center (TEC) Room 105C\, Sam Sibley Road\, Natchitoches\, LA\, 71457
END:VEVENT
BEGIN:VEVENT
DTSTART;TZID=UTC:20231114T180000
DTEND;TZID=UTC:20231114T210000
DTSTAMP:20260423T133640
CREATED:20231016T145128Z
LAST-MODIFIED:20231016T162029Z
UID:31241-1699984800-1699995600@cfn.nsula.edu
SUMMARY:E-3h Adverse Childhood Experiences (ACEs) (CDA 3)  Tuesday\, 6:00 pm –9:00 pm
DESCRIPTION:Early childhood is a critical period in brain development\, creating a foundation for development. \n 
URL:http://cfn.nsula.edu/event/e-3h-adverse-childhood-experiences-aces-cda-3-tuesday-600-pm-900-pm/
LOCATION:NSU-CFN\, 1800 Warrington Place\, Shreveport\, LA\, 71101\, United States
ORGANIZER;CN="Camille English":MAILTO:holmanc@nsula.edu
END:VEVENT
END:VCALENDAR