BEGIN:VCALENDAR
VERSION:2.0
PRODID:-//NSU Child and Family Network - ECPv6.15.20//NONSGML v1.0//EN
CALSCALE:GREGORIAN
METHOD:PUBLISH
X-WR-CALNAME:NSU Child and Family Network
X-ORIGINAL-URL:http://cfn.nsula.edu
X-WR-CALDESC:Events for NSU Child and Family Network
REFRESH-INTERVAL;VALUE=DURATION:PT1H
X-Robots-Tag:noindex
X-PUBLISHED-TTL:PT1H
BEGIN:VTIMEZONE
TZID:UTC
BEGIN:STANDARD
TZOFFSETFROM:+0000
TZOFFSETTO:+0000
TZNAME:UTC
DTSTART:20200101T000000
END:STANDARD
END:VTIMEZONE
BEGIN:VEVENT
DTSTART;TZID=UTC:20211206T183000
DTEND;TZID=UTC:20211206T203000
DTSTAMP:20260425T195558
CREATED:20211206T081407Z
LAST-MODIFIED:20211206T083517Z
UID:13290-1638815400-1638822600@cfn.nsula.edu
SUMMARY:S-2d Taking interest Centers to the Next Level: Science (CDA 2)  Monday   6:30 pm - 8:30 pm
DESCRIPTION:Advancing Children’s Cognitive Development – Prescience Skills \nTo register\, click here: https://bit.ly/30xPE3o \nTrainer: Beonica Frazier
URL:http://cfn.nsula.edu/event/s-2d-taking-interest-centers-to-the-next-level-science-cda-2/
LOCATION:NSU Webinar\, 1800 Warrington Place\, Shreveport\, LA\, 71101\, United States
ATTACH;FMTTYPE=image/jpeg:http://cfn.nsula.edu/wp-content/uploads/2021/12/S-2d-e1638778424803.jpg
END:VEVENT
BEGIN:VEVENT
DTSTART;TZID=UTC:20211206T183000
DTEND;TZID=UTC:20211206T203000
DTSTAMP:20260425T195558
CREATED:20211206T082213Z
LAST-MODIFIED:20211206T082213Z
UID:13305-1638815400-1638822600@cfn.nsula.edu
SUMMARY:K-5b Connecting the Pieces (CDA 5)     Monday    6:30 pm – 8:30 pm
DESCRIPTION:This session will provide a foundational understanding of early childhood development and learning \nTo register\, click here: https://bit.ly/3qQz4Xu  \nTrainer: Amanda Sloan
URL:http://cfn.nsula.edu/event/k-5b-connecting-the-pieces-cda-5-monday-630-pm-830-pm/
LOCATION:NSU Webinar\, 1800 Warrington Place\, Shreveport\, LA\, 71101\, United States
ATTACH;FMTTYPE=image/jpeg:http://cfn.nsula.edu/wp-content/uploads/2021/12/K-5b.jpg
END:VEVENT
BEGIN:VEVENT
DTSTART;TZID=UTC:20211206T183000
DTEND;TZID=UTC:20211206T203000
DTSTAMP:20260425T195558
CREATED:20211206T082710Z
LAST-MODIFIED:20211206T082710Z
UID:13311-1638815400-1638822600@cfn.nsula.edu
SUMMARY:E-2g Moving with the Brain in Mind (CDA 2)  Monday     6:30 pm – 8:30 pm
DESCRIPTION:Learn about early brain structure\, brain functioning\, and how movement enhances the brain \nTo register\, click here:https://bit.ly/32jHi0l \nTrainer: Heather Davis
URL:http://cfn.nsula.edu/event/e-2g-moving-with-the-brain-in-mind-cda-2-monday-630-pm-830-pm/
LOCATION:NSU Webinar\, 1800 Warrington Place\, Shreveport\, LA\, 71101\, United States
ATTACH;FMTTYPE=image/jpeg:http://cfn.nsula.edu/wp-content/uploads/2021/12/E-2g.jpg
END:VEVENT
BEGIN:VEVENT
DTSTART;TZID=UTC:20211206T183000
DTEND;TZID=UTC:20211206T203000
DTSTAMP:20260425T195558
CREATED:20211206T083221Z
LAST-MODIFIED:20211206T083419Z
UID:13314-1638815400-1638822600@cfn.nsula.edu
SUMMARY:K-2c Engaged Support (CDA 2)  Monday  6:30 pm – 8:30 pm
DESCRIPTION:Keep toddlers engaged with stories and language \nTo register\, click here:https://bit.ly/3CuxZGY \nTrainer: Lien McGehee
URL:http://cfn.nsula.edu/event/k-2c-engaged-support-cda-2-monday-630-pm-830-pm/
LOCATION:NSU Webinar\, 1800 Warrington Place\, Shreveport\, LA\, 71101\, United States
ATTACH;FMTTYPE=image/jpeg:http://cfn.nsula.edu/wp-content/uploads/2021/12/K-2CA.jpg
END:VEVENT
END:VCALENDAR