BEGIN:VCALENDAR
VERSION:2.0
PRODID:-//NSU Child and Family Network - ECPv6.15.20//NONSGML v1.0//EN
CALSCALE:GREGORIAN
METHOD:PUBLISH
X-WR-CALNAME:NSU Child and Family Network
X-ORIGINAL-URL:http://cfn.nsula.edu
X-WR-CALDESC:Events for NSU Child and Family Network
REFRESH-INTERVAL;VALUE=DURATION:PT1H
X-Robots-Tag:noindex
X-PUBLISHED-TTL:PT1H
BEGIN:VTIMEZONE
TZID:UTC
BEGIN:STANDARD
TZOFFSETFROM:+0000
TZOFFSETTO:+0000
TZNAME:UTC
DTSTART:20200101T000000
END:STANDARD
END:VTIMEZONE
BEGIN:VEVENT
DTSTART;TZID=UTC:20211202T110000
DTEND;TZID=UTC:20211202T130000
DTSTAMP:20260425T224815
CREATED:20211128T111755Z
LAST-MODIFIED:20211129T182051Z
UID:11258-1638442800-1638450000@cfn.nsula.edu
SUMMARY:K-5f Teamwork- You are Essential!!!!  (CDA 5)  Thursday   11 am - 1 pm
DESCRIPTION:Why you and your colleagues are essential– there is no i in TEAM! \nTo register\, click here: https://bit.ly/3oZ2wZ5 \nTrainer: Andre Ransom
URL:http://cfn.nsula.edu/event/k-5f-teamwork-you-are-essential/
LOCATION:NSU Webinar\, 1800 Warrington Place\, Shreveport\, LA\, 71101\, United States
ATTACH;FMTTYPE=image/jpeg:http://cfn.nsula.edu/wp-content/uploads/2021/11/K-5f.jpg
END:VEVENT
BEGIN:VEVENT
DTSTART;TZID=UTC:20211202T180000
DTEND;TZID=UTC:20211202T210000
DTSTAMP:20260425T224815
CREATED:20211109T152515Z
LAST-MODIFIED:20211129T181810Z
UID:8729-1638468000-1638478800@cfn.nsula.edu
SUMMARY:B-1d *HEALTH: Medication Administration (CDA 1)   Thursday    6:00 pm – 9:00 pm
DESCRIPTION:This session meets the medication and health training requirements \nTo register\, click here: https://bit.ly/3DuKNP5 \nTrainer: Jean Humphrey
URL:http://cfn.nsula.edu/event/b-1d-health-medication-administration-cda-1-2/
LOCATION:NSU Webinar\, 1800 Warrington Place\, Shreveport\, LA\, 71101\, United States
ATTACH;FMTTYPE=image/png:http://cfn.nsula.edu/wp-content/uploads/2021/11/B-1d-1-e1638209556331.png
END:VEVENT
BEGIN:VEVENT
DTSTART;TZID=UTC:20211202T180000
DTEND;TZID=UTC:20211202T210000
DTSTAMP:20260425T224815
CREATED:20211130T142907Z
LAST-MODIFIED:20211130T143641Z
UID:11403-1638468000-1638478800@cfn.nsula.edu
SUMMARY:E-3d Helping Children Value Diversity (CDA 3)   Thursday    6:00 pm – 9:00 pm
DESCRIPTION:Learn techniques for helping children develop self-esteem through knowledge and pride in their own cultural identity. \nTo register\, click here: https://bit.ly/30EaPks  \nTrainer: Amanda Sloan
URL:http://cfn.nsula.edu/event/e-3d-helping-children-value-diversity-cda-3-thursday-600-pm-900-pm/
LOCATION:NSU Webinar\, 1800 Warrington Place\, Shreveport\, LA\, 71101\, United States
ATTACH;FMTTYPE=image/jpeg:http://cfn.nsula.edu/wp-content/uploads/2021/11/E-3d.jpg
END:VEVENT
END:VCALENDAR